Shooting information for this photo
Camera: | NIKON CORPORATION NIKON D800 |
Exposure: | 0.004 sec. (1/250) |
Aperture: | f/2.8 |
Focal Length: | 200.0 mm (35 mm equivalent: 200.0 mm) |
Flash: | Off, Did not fire |
Exposure mode: | Aperture-priority AE |
Max Aperture: | 2.8 |
Resolution: | 240 x 240 dpi |
Original Date: | 2024:05:05 11:49:38.40 |
Created on: | 2024:05:05 11:49:38.40 |
Modified on: | 2024:05:06 00:08:34 |
Software: | Adobe Lightroom 7.2 (Windows) |
Copyright: | Alexander Hilpert |
Already Applied | True |
Approximate Focus Distance | 8.41 |
Artist | Alexander Hilpert |
Auto Lateral CA | 1 |
Bits Per Sample | 16 16 16 |
Blacks 2012 | -59 |
Blue Hue | 0 |
Blue Saturation | 0 |
CFA Pattern | [Red,Green][Green,Blue] |
Camera Profile | Adobe Standard |
Circle Of Confusion | 0.030 mm |
Clarity 2012 | +79 |
Color Grade Blending | 37 |
Color Grade Global Hue | 0 |
Color Grade Global Lum | 0 |
Color Grade Global Sat | 0 |
Color Grade Highlight Lum | -42 |
Color Grade Midtone Hue | 0 |
Color Grade Midtone Lum | -14 |
Color Grade Midtone Sat | 0 |
Color Grade Shadow Lum | -20 |
Color Noise Reduction | 25 |
Color Noise Reduction Detail | 50 |
Color Noise Reduction Smoothness | 50 |
Color Space | Uncalibrated |
Color Temperature | 8727 |
Compatible Version | 268435456 |
Contrast | Normal |
Contrast 2012 | +68 |
Creator | Alexander Hilpert |
Crop Angle | 0 |
Crop Bottom | 1 |
Crop Constrain To Warp | 0 |
Crop Left | 0.348423 |
Crop Right | 0.874093 |
Crop Top | 0.212351 |
Custom Rendered | Normal |
Defringe Green Amount | 0 |
Defringe Green Hue Hi | 60 |
Defringe Green Hue Lo | 40 |
Defringe Purple Amount | 0 |
Defringe Purple Hue Hi | 70 |
Defringe Purple Hue Lo | 30 |
Dehaze | +90 |
Depth Map Info Depth Source | 2 |
Digital Zoom Ratio | 1 |
Exposure 2012 | -0.23 |
Exposure Compensation | 0 |
Exposure Mode | Auto |
Field Of View | 10.3 deg |
Focal Length In 35mm Format | 200 mm |
Format | image/tiff |
Gain Control | Low gain up |
Grain Amount | 25 |
Grain Frequency | 50 |
Grain Size | 25 |
Gray Mixer Aqua | -7 |
Gray Mixer Blue | -11 |
Gray Mixer Green | -10 |
Gray Mixer Magenta | -3 |
Gray Mixer Orange | -6 |
Gray Mixer Purple | -21 |
Gray Mixer Red | +17 |
Gray Mixer Yellow | -37 |
Green Hue | 0 |
Green Saturation | 0 |
HDR Edit Mode | 0 |
Has Crop | True |
Has Settings | True |
Highlights 2012 | +5 |
Hue Adjustment Aqua | 0 |
Hue Adjustment Blue | 0 |
Hue Adjustment Green | 0 |
Hue Adjustment Magenta | 0 |
Hue Adjustment Orange | 0 |
Hue Adjustment Purple | 0 |
Hue Adjustment Red | 0 |
Hue Adjustment Yellow | 0 |
Hyperfocal Distance | 475.46 m |
ISO | 400 |
Image Height | 3869 |
Image Number | 15167 |
Image Size | 3869x3869 |
Image Width | 3869 |
Lateral Chromatic Aberration Correction Already Applied | True |
Lens | 80.0-200.0 mm f/2.8 |
Lens Blur Active | true |
Lens Blur Blur Amount | 71 |
Lens Blur Bokeh Aspect | 0 |
Lens Blur Bokeh Rotation | 0 |
Lens Blur Bokeh Shape | 0 |
Lens Blur Bokeh Shape Detail | 0 |
Lens Blur Cat Eye Amount | 0 |
Lens Blur Cat Eye Scale | 100 |
Lens Blur Focal Range | -80 0 100 180 |
Lens Blur Focal Range Source | 3 |
Lens Blur Highlights Boost | 50 |
Lens Blur Highlights Threshold | 50 |
Lens Blur Spherical Aberration | 0 |
Lens Blur Version | 1 |
Lens ID | AF-S Zoom-Nikkor 80-200mm f/2.8D IF-ED |
Lens Info | 80-200mm f/2.8 |
Lens Manual Distortion Amount | 0 |
Lens Model | 80.0-200.0 mm f/2.8 |
Lens Profile Enable | 1 |
Lens Profile Setup | LensDefaults |
Light Source | Unknown |
Light Value | 8.9 |
Look Amount | 1 |
Look Group | Profiles |
Look Name | Adobe Monochrome |
Look Parameters Camera Profile | Adobe Standard |
Look Parameters Clarity 2012 | +8 |
Look Parameters Convert To Grayscale | True |
Look Parameters Look Table | 73ED6C18DDE909DD7EA2D771F5AC28 2D |
Look Parameters Process Version | 15.4 |
Look Parameters Tone Curve PV2012 | 0, 0, 64, 56, 128, 128, 192, 197, 255, 255 |
Look Parameters Tone Curve PV2012 Blue | 0, 0, 255, 255 |
Look Parameters Tone Curve PV2012 Green | 0, 0, 255, 255 |
Look Parameters Tone Curve PV2012 Red | 0, 0, 255, 255 |
Look Parameters Version | 16.2 |
Look Supports Amount | false |
Look Supports Monochrome | false |
Look Supports Output Referred | false |
Luminance Adjustment Aqua | 0 |
Luminance Adjustment Blue | 0 |
Luminance Adjustment Green | 0 |
Luminance Adjustment Magenta | 0 |
Luminance Adjustment Orange | 0 |
Luminance Adjustment Purple | 0 |
Luminance Adjustment Red | 0 |
Luminance Adjustment Yellow | 0 |
Luminance Smoothing | 0 |
Metering Mode | Multi-segment |
Override Look Vignette | False |
Parametric Darks | 0 |
Parametric Highlight Split | 75 |
Parametric Highlights | 0 |
Parametric Lights | 0 |
Parametric Midtone Split | 50 |
Parametric Shadow Split | 25 |
Parametric Shadows | 0 |
Perspective Aspect | 0 |
Perspective Horizontal | 0 |
Perspective Rotate | 0.0 |
Perspective Scale | 100 |
Perspective Upright | 0 |
Perspective Vertical | 0 |
Perspective X | 0.00 |
Perspective Y | 0.00 |
Photometric Interpretation | RGB |
Planar Configuration | Chunky |
Point Colors | -1.000000, -1.000000, -1.000000, -1.000000, -1.000000, -1.000000, -1.000000, -1.000000, -1.000000, -1.000000, -1.000000, -1.000000, -1.000000, -1.000000, -1.000000, -1.000000, -1.000000, -1.000000, -1.000000 |
Post Crop Vignette Amount | 0 |
Process Version | 15.4 |
Raw File Name | _HIL5713.NEF |
Red Hue | 0 |
Red Saturation | 0 |
Rights | Alexander Hilpert |
Rows Per Strip | 3869 |
Samples Per Pixel | 3 |
Saturation | Normal |
Saturation Adjustment Aqua | 0 |
Saturation Adjustment Blue | 0 |
Saturation Adjustment Green | 0 |
Saturation Adjustment Magenta | 0 |
Saturation Adjustment Orange | 0 |
Saturation Adjustment Purple | 0 |
Saturation Adjustment Red | 0 |
Saturation Adjustment Yellow | 0 |
Scale Factor To 35 mm Equivalent | 1.0 |
Scene Capture Type | Standard |
Scene Type | Directly photographed |
Sensing Method | One-chip color area |
Sensitivity Type | Recommended Exposure Index |
Shadow Tint | 0 |
Shadows 2012 | +53 |
Sharpen Detail | 25 |
Sharpen Edge Masking | 0 |
Sharpen Radius | +1.0 |
Sharpness | Normal |
Split Toning Balance | -18 |
Split Toning Highlight Hue | 0 |
Split Toning Highlight Saturation | 0 |
Split Toning Shadow Hue | 0 |
Split Toning Shadow Saturation | 0 |
Strip Byte Counts | 89814966 |
Strip Offsets | 35086 |
Subfile Type | Full-resolution Image |
Subject Distance Range | Unknown |
Texture | +72 |
Tint | +1 |
Tone Curve Name 2012 | Linear |
Tone Curve PV2012 | 0, 0, 255, 255 |
Tone Curve PV2012 Blue | 0, 0, 255, 255 |
Tone Curve PV2012 Green | 0, 0, 255, 255 |
Tone Curve PV2012 Red | 0, 0, 255, 255 |
Version | 16.2 |
Vibrance | +39 |
Vignette Amount | 0 |
White Balance | Custom |
Whites 2012 | +43 |