Shooting information for this photo
Camera: | OM Digital Solutions OM-1 |
Exposure: | 0.03333 sec. (1/30) |
Aperture: | f/4.0 |
Focal Length: | 8.0 mm (35 mm equivalent: 16.0 mm) |
Flash: | On, Did not fire |
Exposure mode: | Shutter speed priority AE |
Max Aperture: | 4.0 |
Resolution: | 300 x 300 dpi |
Original Date: | 2024:06:13 10:26:34 |
Created on: | 2024:06:13 10:26:34 |
Modified on: | 2024:07:28 11:45:39 |
Software: | Adobe Photoshop Lightroom Classic 13.4 (Windows) |
Copyright: | HGKM |
Already Applied | True |
Artist | HGKM |
Auto Lateral CA | 0 |
Blacks 2012 | -6 |
Blue Hue | 0 |
Blue Saturation | 0 |
CFA Pattern | [Red,Green][Green,Blue] |
Camera Profile | Embedded |
Camera Profiles Aperture Value | 4 |
Camera Profiles Author | Adobe |
Camera Profiles Auto Scale | False |
Camera Profiles Camera Pretty Name | OM Digital Solutions OM-1 |
Camera Profiles Camera Raw Profile | True |
Camera Profiles Focal Length | 8 |
Camera Profiles Focus Distance | 10000 |
Camera Profiles Lens | OLYMPUS M.8-25mm F4.0 |
Camera Profiles Lens Pretty Name | OLYMPUS M.8-25mm F4.0 |
Camera Profiles Make | OM Digital Solutions |
Camera Profiles Model | OM-1 |
Camera Profiles Perspective Model Image X Center | 0.498851 |
Camera Profiles Perspective Model Image Y Center | 0.5 |
Camera Profiles Perspective Model Radial Distort Param 1 | -0.031758 |
Camera Profiles Perspective Model Radial Distort Param 2 | -0.015418 |
Camera Profiles Perspective Model Radial Distort Param 3 | 0.005027 |
Camera Profiles Perspective Model Scale Factor | 1 |
Camera Profiles Perspective Model Version | 2 |
Camera Profiles Profile Name | Camera Settings |
Camera Profiles Sensor Format Factor | 2.006163 |
Camera Profiles Unique Camera Model | OM Digital Solutions OM-1 |
Circle Of Confusion | 0.015 mm |
Clarity 2012 | 0 |
Color Grade Blending | 50 |
Color Grade Global Hue | 0 |
Color Grade Global Lum | 0 |
Color Grade Global Sat | 0 |
Color Grade Highlight Lum | 0 |
Color Grade Midtone Hue | 0 |
Color Grade Midtone Lum | 0 |
Color Grade Midtone Sat | 0 |
Color Grade Shadow Lum | 0 |
Color Noise Reduction | 0 |
Color Space | sRGB |
Contrast | Normal |
Contrast 2012 | 0 |
Convert To Grayscale | False |
Creator | HGKM |
Crop Angle | 0 |
Crop Bottom | 0.986826 |
Crop Constrain To Warp | 1 |
Crop Left | 0.013619 |
Crop Right | 0.987272 |
Crop Top | 0.013174 |
Custom Rendered | Normal |
Date Created | 2024:06:13 10:26:34+01:00 |
Defringe Green Amount | 0 |
Defringe Green Hue Hi | 60 |
Defringe Green Hue Lo | 40 |
Defringe Purple Amount | 0 |
Defringe Purple Hue Hi | 70 |
Defringe Purple Hue Lo | 30 |
Dehaze | +17 |
Description | HGKM |
Digital Zoom Ratio | 1 |
Distortion Correction Already Applied | True |
Exposure 2012 | +1.09 |
Exposure Compensation | -1 |
Exposure Mode | Manual |
Field Of View | 96.7 deg |
Flash Compensation | 0 |
Focal Length In 35mm Format | 16 mm |
Format | image/jpeg |
Gain Control | High gain up |
Grain Amount | 0 |
Green Hue | 0 |
Green Saturation | 0 |
HDR Edit Mode | 0 |
Has Crop | True |
Has Settings | True |
Highlights 2012 | -76 |
Hue Adjustment Aqua | 0 |
Hue Adjustment Blue | 0 |
Hue Adjustment Green | 0 |
Hue Adjustment Magenta | 0 |
Hue Adjustment Orange | 0 |
Hue Adjustment Purple | 0 |
Hue Adjustment Red | 0 |
Hue Adjustment Yellow | 0 |
Hyperfocal Distance | 1.07 m |
ISO | 1600 |
Image Description | HGKM |
Image Size | 3541x3107 |
Incremental Temperature | 0 |
Incremental Tint | 0 |
Lateral Chromatic Aberration Correction Already Applied | True |
Lens | OLYMPUS M.8-25mm F4.0 |
Lens Info | 8-25mm f/4 |
Lens Manual Distortion Amount | 0 |
Lens Model | OLYMPUS M.8-25mm F4.0 |
Lens Profile Enable | 0 |
Light Source | Unknown |
Light Value | 4.9 |
Luminance Adjustment Aqua | 0 |
Luminance Adjustment Blue | 0 |
Luminance Adjustment Green | 0 |
Luminance Adjustment Magenta | 0 |
Luminance Adjustment Orange | 0 |
Luminance Adjustment Purple | 0 |
Luminance Adjustment Red | 0 |
Luminance Adjustment Yellow | 0 |
Luminance Smoothing | 0 |
Metering Mode | Multi-segment |
Override Look Vignette | False |
Parametric Darks | 0 |
Parametric Highlight Split | 75 |
Parametric Highlights | 0 |
Parametric Lights | 0 |
Parametric Midtone Split | 50 |
Parametric Shadow Split | 25 |
Parametric Shadows | 0 |
Perspective Aspect | 0 |
Perspective Horizontal | +6 |
Perspective Rotate | 0.0 |
Perspective Scale | 100 |
Perspective Upright | 0 |
Perspective Vertical | 0 |
Perspective X | 0.00 |
Perspective Y | 0.00 |
Pick | 0 |
Point Colors | -1.000000, -1.000000, -1.000000, -1.000000, -1.000000, -1.000000, -1.000000, -1.000000, -1.000000, -1.000000, -1.000000, -1.000000, -1.000000, -1.000000, -1.000000, -1.000000, -1.000000, -1.000000, -1.000000 |
Post Crop Vignette Amount | 0 |
Preserved File Name | P6132338.ORF |
Process Version | 15.4 |
Rating | 2 |
Raw File Name | P6132338-Bearbeitet.tif |
Red Hue | 0 |
Red Saturation | 0 |
Rights | HGKM |
Saturation | Normal |
Saturation Adjustment Aqua | 0 |
Saturation Adjustment Blue | 0 |
Saturation Adjustment Green | 0 |
Saturation Adjustment Magenta | 0 |
Saturation Adjustment Orange | 0 |
Saturation Adjustment Purple | 0 |
Saturation Adjustment Red | 0 |
Saturation Adjustment Yellow | 0 |
Scale Factor To 35 mm Equivalent | 2.0 |
Scene Capture Type | Standard |
Sensitivity Type | Standard Output Sensitivity |
Shadow Tint | 0 |
Shadows 2012 | 0 |
Sharpness | Normal |
Split Toning Balance | 0 |
Split Toning Highlight Hue | 0 |
Split Toning Highlight Saturation | 0 |
Split Toning Shadow Hue | 0 |
Split Toning Shadow Saturation | 0 |
Standard Output Sensitivity | 1 |
Subject | Architektur, Frankreich, Kuppel, Symmetrie |
Texture | +32 |
Tone Curve Name 2012 | Linear |
Tone Curve PV2012 | 0, 0, 255, 255 |
Tone Curve PV2012 Blue | 0, 0, 255, 255 |
Tone Curve PV2012 Green | 0, 0, 255, 255 |
Tone Curve PV2012 Red | 0, 0, 255, 255 |
Version | 16.4 |
Vibrance | +20 |
Vignette Amount | 0 |
Weighted Flat Subject | Architektur, Kuppel, Symmetrie, Frankreich |
White Balance | Auto |
Whites 2012 | 0 |
GPS Information |
GPS Latitude | 47 deg 4' 56.12" N |
GPS Latitude Ref | North |
GPS Longitude | 2 deg 23' 52.73" E |
GPS Longitude Ref | East |
GPS Position | 47 deg 4' 56.12" N, 2 deg 23' 52.73" E |
GPS Status | Measurement Void |
GPS Version ID | 2.2.0.0 |