Shooting information for this photo
Camera: | OLYMPUS IMAGING CORP. E-M5MarkII |
Exposure: | 0.001 sec. (1/1000) |
Aperture: | f/6.7 |
Focal Length: | 286.0 mm (35 mm equivalent: 573.0 mm) |
Flash: | On, Did not fire |
Exposure mode: | Aperture-priority AE |
Max Aperture: | 4.8 |
Resolution: | 240 x 240 dpi |
Original Date: | 2018:01:18 17:54:00 |
Created on: | 2018:01:18 17:54:00 |
Modified on: | 2021:04:08 12:38:11 |
Software: | Adobe Photoshop Lightroom Classic 10.2 (Windows) |
Copyright: | Copyright HG Müller |
Already Applied | True |
Auto Lateral CA | 0 |
Blacks 2012 | -42 |
Blue Hue | 0 |
Blue Saturation | 0 |
CFA Pattern | [Red,Green][Green,Blue] |
Camera Profile | Adobe Standard |
Circle Of Confusion | 0.015 mm |
Clarity 2012 | +8 |
Color Grade Blending | 50 |
Color Grade Global Hue | 0 |
Color Grade Global Lum | 0 |
Color Grade Global Sat | 0 |
Color Grade Highlight Lum | 0 |
Color Grade Midtone Hue | 0 |
Color Grade Midtone Lum | 0 |
Color Grade Midtone Sat | 0 |
Color Grade Shadow Lum | 0 |
Color Noise Reduction | 25 |
Color Noise Reduction Detail | 50 |
Color Noise Reduction Smoothness | 50 |
Color Space | sRGB |
Color Temperature | 6150 |
Contrast | Normal |
Contrast 2012 | +25 |
Convert To Grayscale | False |
Crop Angle | 3.03375 |
Crop Bottom | 0.818432 |
Crop Constrain To Warp | 0 |
Crop Left | 0.028852 |
Crop Right | 0.967812 |
Crop Top | 0.024183 |
Custom Rendered | Normal |
Date Created | 2018:01:18 17:54:00 |
Defringe Green Amount | 0 |
Defringe Green Hue Hi | 60 |
Defringe Green Hue Lo | 40 |
Defringe Purple Amount | 0 |
Defringe Purple Hue Hi | 70 |
Defringe Purple Hue Lo | 30 |
Dehaze | +32 |
Description | HGKM |
Digital Zoom Ratio | 1 |
Exposure 2012 | -0.23 |
Exposure Compensation | 0 |
Exposure Mode | Auto |
Field Of View | 3.6 deg |
Flash Compensation | 0 |
Focal Length In 35mm Format | 573 mm |
Format | image/jpeg |
Gain Control | High gain up |
Grain Amount | 0 |
Gray Mixer Aqua | -17 |
Gray Mixer Blue | +11 |
Gray Mixer Green | -27 |
Gray Mixer Magenta | +4 |
Gray Mixer Orange | -20 |
Gray Mixer Purple | +16 |
Gray Mixer Red | -10 |
Gray Mixer Yellow | -24 |
Green Hue | 0 |
Green Saturation | 0 |
Has Crop | True |
Has Settings | True |
Highlights 2012 | -65 |
Hue Adjustment Aqua | 0 |
Hue Adjustment Blue | 0 |
Hue Adjustment Green | 0 |
Hue Adjustment Magenta | 0 |
Hue Adjustment Orange | 0 |
Hue Adjustment Purple | 0 |
Hue Adjustment Red | 0 |
Hue Adjustment Yellow | 0 |
Hyperfocal Distance | 814.06 m |
ISO | 400 |
Image Description | HGKM |
Image Size | 4466x2512 |
Lateral Chromatic Aberration Correction Already Applied | True |
Lens | OLYMPUS M.75-300mm F4.8-6.7 II |
Lens Info | 75-300mm f/4.8-6.7 |
Lens Manual Distortion Amount | 0 |
Lens Model | OLYMPUS M.75-300mm F4.8-6.7 II |
Lens Profile Enable | 0 |
Light Source | Unknown |
Light Value | 13.5 |
Luminance Adjustment Aqua | 0 |
Luminance Adjustment Blue | 0 |
Luminance Adjustment Green | +67 |
Luminance Adjustment Magenta | 0 |
Luminance Adjustment Orange | 0 |
Luminance Adjustment Purple | 0 |
Luminance Adjustment Red | 0 |
Luminance Adjustment Yellow | +43 |
Luminance Smoothing | 0 |
Marked | True |
Metering Mode | Multi-segment |
Override Look Vignette | False |
Parametric Darks | 0 |
Parametric Highlight Split | 75 |
Parametric Highlights | 0 |
Parametric Lights | 0 |
Parametric Midtone Split | 50 |
Parametric Shadow Split | 25 |
Parametric Shadows | 0 |
Perspective Aspect | 0 |
Perspective Horizontal | 0 |
Perspective Rotate | 0.0 |
Perspective Scale | 100 |
Perspective Upright | 0 |
Perspective Vertical | 0 |
Perspective X | 0.00 |
Perspective Y | 0.00 |
Post Crop Vignette Amount | 0 |
Process Version | 10.0 |
Rating | 1 |
Raw File Name | P1184533.ORF |
Red Hue | 0 |
Red Saturation | 0 |
Rights | Copyright HG Müller |
Saturation | Normal |
Saturation Adjustment Aqua | 0 |
Saturation Adjustment Blue | 0 |
Saturation Adjustment Green | 0 |
Saturation Adjustment Magenta | 0 |
Saturation Adjustment Orange | 0 |
Saturation Adjustment Purple | 0 |
Saturation Adjustment Red | 0 |
Saturation Adjustment Yellow | 0 |
Scale Factor To 35 mm Equivalent | 2.0 |
Scene Capture Type | Standard |
Sensitivity Type | Standard Output Sensitivity |
Shadow Tint | 0 |
Shadows 2012 | +35 |
Sharpen Detail | 25 |
Sharpen Edge Masking | 61 |
Sharpen Radius | +1.0 |
Sharpness | Normal |
Split Toning Balance | 0 |
Split Toning Highlight Hue | 0 |
Split Toning Highlight Saturation | 0 |
Split Toning Shadow Hue | 0 |
Split Toning Shadow Saturation | 0 |
Subject | Europa, Kontinente und Länder, Natur, Spanien, Teneriffa, Ungesättigt |
Texture | 0 |
Tint | +28 |
Tone Curve Name 2012 | Linear |
Tone Curve PV2012 | 0, 0, 255, 255 |
Tone Curve PV2012 Blue | 0, 0, 255, 255 |
Tone Curve PV2012 Green | 0, 0, 255, 255 |
Tone Curve PV2012 Red | 0, 0, 255, 255 |
Version | 13.2 |
Vibrance | +1 |
Vignette Amount | 0 |
White Balance | Auto |
Whites 2012 | +57 |