Shooting information for this photo
Camera: | OLYMPUS IMAGING CORP. E-M5MarkII |
Exposure: | 0.16667 sec. (1/6) |
Aperture: | f/4.5 |
Focal Length: | 9.0 mm (35 mm equivalent: 18.0 mm) |
Flash: | Auto, Did not fire |
Exposure mode: | Aperture-priority AE |
Max Aperture: | 4.0 |
Resolution: | 240 x 240 dpi |
Original Date: | 2019:03:19 15:30:12 |
Created on: | 2019:03:19 15:30:12 |
Modified on: | 2020:03:16 11:33:13 |
Software: | Adobe Photoshop Lightroom Classic 9.2 (Windows) |
Already Applied | True |
Auto Lateral CA | 1 |
Blacks 2012 | -30 |
Blue Hue | 0 |
Blue Saturation | 0 |
CFA Pattern | [Red,Green][Green,Blue] |
Camera Profile | Adobe Standard |
Circle Of Confusion | 0.015 mm |
Clarity 2012 | 0 |
Color Noise Reduction | 25 |
Color Noise Reduction Detail | 50 |
Color Noise Reduction Smoothness | 50 |
Color Space | sRGB |
Color Temperature | 4200 |
Contrast | Normal |
Contrast 2012 | 0 |
Convert To Grayscale | False |
Crop Angle | 0.514738 |
Crop Bottom | 0.997416 |
Crop Constrain To Warp | 1 |
Crop Left | 0.164009 |
Crop Right | 0.80123 |
Crop Top | 0.04722 |
Custom Rendered | Normal |
Date Created | 2019:03:19 15:30:12 |
Defringe Green Amount | 0 |
Defringe Green Hue Hi | 60 |
Defringe Green Hue Lo | 40 |
Defringe Purple Amount | 0 |
Defringe Purple Hue Hi | 70 |
Defringe Purple Hue Lo | 30 |
Dehaze | 0 |
Description | OLYMPUS DIGITAL CAMERA |
Digital Zoom Ratio | 1 |
Distortion Correction Already Applied | True |
Exposure 2012 | +1.12 |
Exposure Compensation | 0 |
Exposure Mode | Auto |
Field Of View | 90.0 deg |
Flash Compensation | 0 |
Focal Length In 35mm Format | 18 mm |
Format | image/jpeg |
Gain Control | High gain up |
Gradient Based Corr Active | true |
Gradient Based Corr Amount | 1.000000 |
Gradient Based Corr Brightness | 0.000000 |
Gradient Based Corr Clarity 2012 | -0.009520 |
Gradient Based Corr Contrast 2012 | 0.000000 |
Gradient Based Corr Correction Range Mask Color Amount | 0.500000 |
Gradient Based Corr Correction Range Mask Depth Feather | 0.500000 |
Gradient Based Corr Correction Range Mask Depth Max | 1.000000 |
Gradient Based Corr Correction Range Mask Depth Min | 0.000000 |
Gradient Based Corr Correction Range Mask Lum Feather | 0.500000 |
Gradient Based Corr Correction Range Mask Lum Max | 1.000000 |
Gradient Based Corr Correction Range Mask Lum Min | 0.000000 |
Gradient Based Corr Correction Range Mask Type | 0 |
Gradient Based Corr Correction Range Mask Version | +2 |
Gradient Based Corr Defringe | 0.000000 |
Gradient Based Corr Exposure 2012 | -0.047500 |
Gradient Based Corr Highlights 2012 | -0.771430 |
Gradient Based Corr Hue | 0.000000 |
Gradient Based Corr Local Blacks 2012 | 0.000000 |
Gradient Based Corr Local Dehaze | 0.000000 |
Gradient Based Corr Local Whites 2012 | -0.009520 |
Gradient Based Corr Luminance Noise | 0.000000 |
Gradient Based Corr Mask Full X | 0.451010 |
Gradient Based Corr Mask Full Y | 0.782308 |
Gradient Based Corr Mask Value | 1.000000 |
Gradient Based Corr Mask What | Mask/Gradient |
Gradient Based Corr Mask Zero X | 0.465419 |
Gradient Based Corr Mask Zero Y | 0.215066 |
Gradient Based Corr Moire | 0.000000 |
Gradient Based Corr Saturation | 0.000000 |
Gradient Based Corr Shadows 2012 | 0.000000 |
Gradient Based Corr Sharpness | 0.000000 |
Gradient Based Corr Temperature | 0.200000 |
Gradient Based Corr Tint | 0.000000 |
Gradient Based Corr What | Correction |
Grain Amount | 0 |
Green Hue | 0 |
Green Saturation | 0 |
Has Crop | True |
Has Settings | True |
Highlights 2012 | -92 |
Hue Adjustment Aqua | 0 |
Hue Adjustment Blue | 0 |
Hue Adjustment Green | 0 |
Hue Adjustment Magenta | 0 |
Hue Adjustment Orange | 0 |
Hue Adjustment Purple | 0 |
Hue Adjustment Red | 0 |
Hue Adjustment Yellow | 0 |
Hyperfocal Distance | 1.20 m |
ISO | 400 |
Image Description | OLYMPUS DIGITAL CAMERA |
Image Size | 2965x3257 |
Lateral Chromatic Aberration Correction Already Applied | True |
Lens | OLYMPUS M.9-18mm F4.0-5.6 |
Lens Info | 9-18mm f/4-5.6 |
Lens Manual Distortion Amount | 0 |
Lens Model | OLYMPUS M.9-18mm F4.0-5.6 |
Lens Profile Enable | 1 |
Lens Profile Setup | LensDefaults |
Light Source | Unknown |
Light Value | 4.9 |
Look Amount | 1.000000 |
Look Group | Profiles |
Look Name | Adobe Color |
Look Parameters Camera Profile | Adobe Standard |
Look Parameters Convert To Grayscale | False |
Look Parameters Look Table | E1095149FDB39D7A057BAB208837E2 E1 |
Look Parameters Process Version | 11.0 |
Look Parameters Tone Curve PV2012 | 0, 0, 22, 16, 40, 35, 127, 127, 224, 230, 240, 246, 255, 255 |
Look Parameters Tone Curve PV2012 Blue | 0, 0, 255, 255 |
Look Parameters Tone Curve PV2012 Green | 0, 0, 255, 255 |
Look Parameters Tone Curve PV2012 Red | 0, 0, 255, 255 |
Look Parameters Version | 12.2 |
Look Supports Amount | false |
Look Supports Monochrome | false |
Look Supports Output Referred | false |
Luminance Adjustment Aqua | 0 |
Luminance Adjustment Blue | 0 |
Luminance Adjustment Green | 0 |
Luminance Adjustment Magenta | 0 |
Luminance Adjustment Orange | 0 |
Luminance Adjustment Purple | 0 |
Luminance Adjustment Red | 0 |
Luminance Adjustment Yellow | 0 |
Luminance Noise Reduction Contrast | 0 |
Luminance Noise Reduction Detail | 50 |
Luminance Smoothing | 37 |
Metering Mode | Multi-segment |
Override Look Vignette | False |
Paint Correction Active | true |
Paint Correction Amount | 1.000000 |
Paint Correction Brightness | 0.000000 |
Paint Correction Clarity 2012 | 0.047620 |
Paint Correction Contrast 2012 | 0.000000 |
Paint Correction Correction Range Mask Color Amount | 0.500000 |
Paint Correction Correction Range Mask Depth Feather | 0.500000 |
Paint Correction Correction Range Mask Depth Max | 1.000000 |
Paint Correction Correction Range Mask Depth Min | 0.000000 |
Paint Correction Correction Range Mask Lum Feather | 0.500000 |
Paint Correction Correction Range Mask Lum Max | 1.000000 |
Paint Correction Correction Range Mask Lum Min | 0.000000 |
Paint Correction Correction Range Mask Type | 0 |
Paint Correction Correction Range Mask Version | +2 |
Paint Correction Defringe | 0.000000 |
Paint Correction Exposure 2012 | 0.000000 |
Paint Correction Highlights 2012 | -0.523810 |
Paint Correction Hue | 0.000000 |
Paint Correction Local Blacks 2012 | 0.000000 |
Paint Correction Local Dehaze | 0.000000 |
Paint Correction Local Whites 2012 | -0.009520 |
Paint Correction Luminance Noise | 0.000000 |
Paint Correction Mask Center Weight | 0.256803 |
Paint Correction Mask Flow | 1.000000 |
Paint Correction Mask Radius | 0.061365 |
Paint Correction Mask Value | 1.000000 |
Paint Correction Mask What | Mask/Paint |
Paint Correction Moire | 0.000000 |
Paint Correction Saturation | 0.000000 |
Paint Correction Shadows 2012 | 0.000000 |
Paint Correction Sharpness | 0.000000 |
Paint Correction Temperature | 0.000000 |
Paint Correction Tint | 0.000000 |
Paint Correction What | Correction |
Parametric Darks | 0 |
Parametric Highlight Split | 75 |
Parametric Highlights | 0 |
Parametric Lights | 0 |
Parametric Midtone Split | 50 |
Parametric Shadow Split | 25 |
Parametric Shadows | 0 |
Perspective Aspect | 0 |
Perspective Horizontal | 0 |
Perspective Rotate | 0.0 |
Perspective Scale | 100 |
Perspective Upright | 1 |
Perspective Vertical | 0 |
Perspective X | 0.00 |
Perspective Y | 0.00 |
Post Crop Vignette Amount | 0 |
Process Version | 11.0 |
Rating | 1 |
Raw File Name | P3190002.ORF |
Red Hue | 0 |
Red Saturation | 0 |
Saturation | Normal |
Saturation Adjustment Aqua | -4 |
Saturation Adjustment Blue | -54 |
Saturation Adjustment Green | 0 |
Saturation Adjustment Magenta | 0 |
Saturation Adjustment Orange | -23 |
Saturation Adjustment Purple | 0 |
Saturation Adjustment Red | 0 |
Saturation Adjustment Yellow | -20 |
Scale Factor To 35 mm Equivalent | 2.0 |
Scene Capture Type | Standard |
Sensitivity Type | Standard Output Sensitivity |
Shadow Tint | 0 |
Shadows 2012 | 0 |
Sharpen Detail | 25 |
Sharpen Edge Masking | 0 |
Sharpen Radius | +1.0 |
Sharpness | Normal |
Split Toning Balance | 0 |
Split Toning Highlight Hue | 0 |
Split Toning Highlight Saturation | 0 |
Split Toning Shadow Hue | 0 |
Split Toning Shadow Saturation | 0 |
Subject | Architektur, Treppenhaus |
Texture | +50 |
Tint | +21 |
Tone Curve | 0, 0, 255, 255 |
Tone Curve Blue | 0, 0, 255, 255 |
Tone Curve Green | 0, 0, 255, 255 |
Tone Curve Name | Linear |
Tone Curve Name 2012 | Linear |
Tone Curve PV2012 | 0, 0, 255, 255 |
Tone Curve PV2012 Blue | 0, 0, 255, 255 |
Tone Curve PV2012 Green | 0, 0, 255, 255 |
Tone Curve PV2012 Red | 0, 0, 255, 255 |
Tone Curve Red | 0, 0, 255, 255 |
Tone Map Strength | 0 |
Version | 12.2 |
Vibrance | 0 |
Vignette Amount | 0 |
White Balance | Auto |
Whites 2012 | -7 |