Shooting information for this photo
Camera: | FUJIFILM X-T10 |
Exposure: | 0.005 sec. (1/200) |
Aperture: | f/5.6 |
Focal Length: | 164.0 mm (35 mm equivalent: 246.0 mm) |
Flash: | Off, Did not fire |
Exposure mode: | Aperture-priority AE |
Max Aperture: | 3.5 |
Resolution: | 300 x 300 dpi |
Dimension: | 4896 x 3264 pixels |
Original Date: | 2017:04:27 13:48:53 |
Digitized Date: | 2017:04:27 13:48:53+02:00 |
Created on: | 2017:04:27 13:48:53 |
Software: | Adobe Photoshop Elements 14.0 (Windows) |
Already Applied | True |
Authors Position | GIPE25 |
Auto Lateral CA | 1 |
Auto White Version | 134348800 |
Blacks 2012 | 0 |
Blue Hue | 0 |
Blue Saturation | 0 |
Brightness Value | 6.04 |
Camera Profile | Adobe Standard |
Caption Writer | Gilles PRETET |
Circle Of Confusion | 0.020 mm |
City | Besançon |
Clarity 2012 | +28 |
Color Mode | RGB |
Color Noise Reduction | 38 |
Color Noise Reduction Detail | 50 |
Color Noise Reduction Smoothness | 50 |
Color Space | sRGB |
Color Temperature | 4700 |
Contrast 2012 | 0 |
Convert To Grayscale | False |
Country | France |
Country Code | FRA |
Creator | GIPE25 |
Credit | GIPE25 |
Custom Rendered | Normal |
Date Created | 20170427 |
Defringe Green Amount | 0 |
Defringe Green Hue Hi | 60 |
Defringe Green Hue Lo | 40 |
Defringe Purple Amount | 0 |
Defringe Purple Hue Hi | 70 |
Defringe Purple Hue Lo | 30 |
Dehaze | 0 |
Distortion Correction Already Applied | True |
Exposure 2012 | 0.00 |
Exposure Compensation | 0 |
Exposure Mode | Auto |
Field Of View | 8.4 deg |
Focal Length In 35mm Format | 246 mm |
Format | image/jpeg |
Grain Amount | 0 |
Green Hue | 0 |
Green Saturation | 0 |
Has Crop | False |
Has Settings | True |
Headline | BESANCON: Citadelle: La famille Tigre de Sibérie (Panthera tigris altaica).09 |
Highlights 2012 | 0 |
Hue Adjustment Aqua | 0 |
Hue Adjustment Blue | 0 |
Hue Adjustment Green | 0 |
Hue Adjustment Magenta | 0 |
Hue Adjustment Orange | 0 |
Hue Adjustment Purple | 0 |
Hue Adjustment Red | 0 |
Hue Adjustment Yellow | 0 |
Hyperfocal Distance | 239.77 m |
ICC Profile Name | sRGB IEC61966-2.1 |
ISO | 400 |
Image Size | 4896x3264 |
Lateral Chromatic Aberration Correction Already Applied | True |
Lens | XF55-200mmF3.5-4.8 R LM OIS |
Lens Info | 55-200mm f/3.5-4.8 |
Lens Make | FUJIFILM |
Lens Manual Distortion Amount | 0 |
Lens Model | XF55-200mmF3.5-4.8 R LM OIS |
Lens Profile Enable | 0 |
Lens Profile Setup | LensDefaults |
Light Source | Unknown |
Light Value | 10.6 |
Location | Besançon |
Luminance Adjustment Aqua | 0 |
Luminance Adjustment Blue | 0 |
Luminance Adjustment Green | 0 |
Luminance Adjustment Magenta | 0 |
Luminance Adjustment Orange | 0 |
Luminance Adjustment Purple | 0 |
Luminance Adjustment Red | 0 |
Luminance Adjustment Yellow | 0 |
Luminance Noise Reduction Contrast | 36 |
Luminance Noise Reduction Detail | 50 |
Luminance Smoothing | 37 |
Metering Mode | Multi-segment |
Parametric Darks | 0 |
Parametric Highlight Split | 75 |
Parametric Highlights | 0 |
Parametric Lights | 0 |
Parametric Midtone Split | 50 |
Parametric Shadow Split | 25 |
Parametric Shadows | 0 |
Perspective Aspect | 0 |
Perspective Horizontal | 0 |
Perspective Rotate | 0.0 |
Perspective Scale | 100 |
Perspective Upright | 0 |
Perspective Vertical | 0 |
Post Crop Vignette Amount | 0 |
Process Version | 6.7 |
Raw File Name | DSCF6508.RAF |
Red Hue | 0 |
Red Saturation | 0 |
Rights | GIPE25 |
Saturation | 0 |
Saturation Adjustment Aqua | 0 |
Saturation Adjustment Blue | 0 |
Saturation Adjustment Green | 0 |
Saturation Adjustment Magenta | 0 |
Saturation Adjustment Orange | 0 |
Saturation Adjustment Purple | 0 |
Saturation Adjustment Red | 0 |
Saturation Adjustment Yellow | 0 |
Scale Factor To 35 mm Equivalent | 1.5 |
Scene Capture Type | Standard |
Scene Type | Directly photographed |
Sensing Method | One-chip color area |
Sensitivity Type | Standard Output Sensitivity |
Shadow Tint | 0 |
Shadows 2012 | 0 |
Sharpen Detail | 35 |
Sharpen Edge Masking | 100 |
Sharpen Radius | +1.4 |
Sharpness | Normal |
Source | GIPE25 |
Split Toning Balance | 0 |
Split Toning Highlight Hue | 0 |
Split Toning Highlight Saturation | 0 |
Split Toning Shadow Hue | 0 |
Split Toning Shadow Saturation | 0 |
State | Bourgogne-Franche-Comté |
Subject | besancon, Besançon, Bourgogne-Franche-Comté, FRA, France, geo:lat=47.22976883, geo:lon=6.03449822, geotagged, doubs, 25, franche-comté, fr, europe, citadelle, vauban, animal, tigre, Panthera tigris altaica, Tigre de Sibérie, .Felidae, .Panthera, Panthera tigris, fiji, fujifilm, x-t10, 55-200 mm |
Subject Distance Range | Unknown |
Time Zone Offset | 2 |
Tint | +13 |
Tone Curve | 0, 0, 32, 22, 64, 56, 128, 128, 192, 196, 255, 255 |
Tone Curve Blue | 0, 0, 255, 255 |
Tone Curve Green | 0, 0, 255, 255 |
Tone Curve Name | Medium Contrast |
Tone Curve Name 2012 | Linear |
Tone Curve PV2012 | 0, 0, 255, 255 |
Tone Curve PV2012 Blue | 0, 0, 255, 255 |
Tone Curve PV2012 Green | 0, 0, 255, 255 |
Tone Curve PV2012 Red | 0, 0, 255, 255 |
Tone Curve Red | 0, 0, 255, 255 |
Tone Map Strength | 0 |
Version | 9.5 |
Vibrance | +31 |
Vignette Amount | 0 |
Vignette Correction Already Applied | True |
White Balance | Auto |
Whites 2012 | 0 |
GPS Information |
GPS Altitude | 360 m Above Sea Level |
GPS Altitude Ref | Above Sea Level |
GPS Date Stamp | 2017:04:27 |
GPS Date/Time | 2017:04:27 11:48:53Z |
GPS Latitude | 47 deg 13' 47.17" N |
GPS Latitude Ref | North |
GPS Longitude | 6 deg 2' 4.19" E |
GPS Longitude Ref | East |
GPS Map Datum | WGS-84 |
GPS Position | 47 deg 13' 47.17" N, 6 deg 2' 4.19" E |
GPS Time Stamp | 11:48:53 |
GPS Version ID | 2.2.0.0 |