Shooting information for this photo
Camera: | NIKON CORPORATION NIKON D7000 |
Exposure: | 0.005 sec. (1/200) |
Aperture: | f/7.1 |
Focal Length: | 60.0 mm (35 mm equivalent: 90.0 mm) |
Flash: | Off, Did not fire |
Exposure mode: | Aperture-priority AE |
Max Aperture: | 2.8 |
Resolution: | 240 x 240 dpi |
Dimension: | 3264 x 4928 pixels |
Original Date: | 2013:03:24 10:52:34.60 |
Digitized Date: | 2013:03:24 10:52:34+00:00 |
Created on: | 2013:03:24 10:52:34.60 |
Software: | Adobe Photoshop Elements 11.0 Windows |
Copyright: | Gilles PRETET |
Already Applied | True |
Approximate Focus Distance | 2 |
Artist | Gilles PRETET |
Authors Position | Mr |
Auto Lateral CA | 0 |
Blacks 2012 | 0 |
Blue Hue | 0 |
Blue Saturation | 0 |
CFA Pattern | [Red,Green][Green,Blue] |
Camera Profile | Adobe Standard |
Caption Writer | Gilles PRETET |
Circle Of Confusion | 0.020 mm |
City | Remiremont |
Clarity 2012 | +72 |
Color Mode | RGB |
Color Noise Reduction | 25 |
Color Noise Reduction Detail | 50 |
Color Space | sRGB |
Color Temperature | 4700 |
Contrast | Normal |
Contrast 2012 | 0 |
Convert To Grayscale | False |
Country | France |
Country Code | FRA |
Creator | Gilles PRETET |
Credit | Gilles PRETET |
Custom Rendered | Normal |
Date Created | 1899:12:30 20:30:24+00:00 |
Defringe Green Amount | 0 |
Defringe Green Hue Hi | 60 |
Defringe Green Hue Lo | 40 |
Defringe Purple Amount | 0 |
Defringe Purple Hue Hi | 70 |
Defringe Purple Hue Lo | 30 |
Digital Zoom Ratio | 1 |
Exposure 2012 | -0.20 |
Exposure Compensation | 0 |
Exposure Mode | Auto |
Field Of View | 22.6 deg |
Focal Length In 35mm Format | 90 mm |
Format | image/jpeg |
Gain Control | None |
Grain Amount | 0 |
Green Hue | 0 |
Green Saturation | 0 |
Has Crop | False |
Has Settings | True |
Headline | REMIREMONT: 18' Carnaval Vénitien - 019 |
Highlights 2012 | -54 |
Hue Adjustment Aqua | 0 |
Hue Adjustment Blue | 0 |
Hue Adjustment Green | 0 |
Hue Adjustment Magenta | 0 |
Hue Adjustment Orange | 0 |
Hue Adjustment Purple | 0 |
Hue Adjustment Red | 0 |
Hue Adjustment Yellow | 0 |
Hyperfocal Distance | 25.31 m |
ICC Profile Name | sRGB IEC61966-2.1 |
ISO | 100 |
Image Number | 5729 |
Image Size | 3264x4928 |
Lens | 60.0 mm f/2.8 |
Lens ID | AF-S Micro Nikkor 60mm f/2.8G ED |
Lens Info | 60mm f/2.8 |
Lens Manual Distortion Amount | 0 |
Lens Model | 60.0 mm f/2.8 |
Lens Profile Enable | 0 |
Lens Profile Setup | LensDefaults |
Light Source | Unknown |
Light Value | 13.3 |
Location | VOSGES |
Luminance Adjustment Aqua | 0 |
Luminance Adjustment Blue | 0 |
Luminance Adjustment Green | 0 |
Luminance Adjustment Magenta | 0 |
Luminance Adjustment Orange | 0 |
Luminance Adjustment Purple | 0 |
Luminance Adjustment Red | 0 |
Luminance Adjustment Yellow | 0 |
Luminance Smoothing | 0 |
Metering Mode | Center-weighted average |
Parametric Darks | 0 |
Parametric Highlight Split | 75 |
Parametric Highlights | 0 |
Parametric Lights | 0 |
Parametric Midtone Split | 50 |
Parametric Shadow Split | 25 |
Parametric Shadows | 0 |
Perspective Horizontal | 0 |
Perspective Rotate | 0.0 |
Perspective Scale | 100 |
Perspective Vertical | 0 |
Post Crop Vignette Amount | 0 |
Process Version | 6.7 |
Raw File Name | _DSC7582.NEF |
Red Hue | 0 |
Red Saturation | 0 |
Rights | Gilles PRETET |
Saturation | Normal |
Saturation Adjustment Aqua | 0 |
Saturation Adjustment Blue | 0 |
Saturation Adjustment Green | 0 |
Saturation Adjustment Magenta | 0 |
Saturation Adjustment Orange | 0 |
Saturation Adjustment Purple | 0 |
Saturation Adjustment Red | 0 |
Saturation Adjustment Yellow | 0 |
Scale Factor To 35 mm Equivalent | 1.5 |
Scene Capture Type | Standard |
Scene Type | Directly photographed |
Sensing Method | One-chip color area |
Sensitivity Type | Recommended Exposure Index |
Shadow Tint | 0 |
Shadows 2012 | +43 |
Sharpen Detail | 25 |
Sharpen Edge Masking | 0 |
Sharpen Radius | +1.0 |
Sharpness | Hard |
Split Toning Balance | 0 |
Split Toning Highlight Hue | 0 |
Split Toning Highlight Saturation | 0 |
Split Toning Shadow Hue | 0 |
Split Toning Shadow Saturation | 0 |
State | Lorraine |
Subject | remiremont, vosges, 88, loraine, france, fr, fra, europe, carnaval, vénitien, carnaval vénitien, costume, costumes, couleur, couleurs, masque, masques, nikon, d7000, geo:lat=48.01587586, geo:lon=6.59107268, geotagged |
Subject Distance Range | Unknown |
Time Zone Offset | 0 |
Tint | +7 |
Tone Curve Name 2012 | Linear |
Tone Curve PV2012 | 0, 0, 255, 255 |
Tone Curve PV2012 Blue | 0, 0, 255, 255 |
Tone Curve PV2012 Green | 0, 0, 255, 255 |
Tone Curve PV2012 Red | 0, 0, 255, 255 |
User Comment | IMAGE:Gilles PRETET |
Version | 7.3 |
Vibrance | 0 |
Vignette Amount | 0 |
White Balance | Auto |
Whites 2012 | 0 |
GPS Information |
GPS Altitude | 401 m Above Sea Level |
GPS Altitude Ref | Above Sea Level |
GPS Date Stamp | 2013:03:24 |
GPS Date/Time | 2013:03:24 10:52:34Z |
GPS Latitude | 48 deg 0' 57.15" N |
GPS Latitude Ref | North |
GPS Longitude | 6 deg 35' 27.86" E |
GPS Longitude Ref | East |
GPS Map Datum | WGS-84 |
GPS Position | 48 deg 0' 57.15" N, 6 deg 35' 27.86" E |
GPS Time Stamp | 10:52:34 |
GPS Version ID | 2.2.0.0 |