Shooting information for this photo
Camera: | Canon PowerShot S95 |
Exposure: | 0.001 sec. (1/1000) |
Aperture: | f/4.9 |
Focal Length: | 22.5 mm (35 mm equivalent: 319.2 mm) |
Flash: | Off, Did not fire |
Max Aperture: | 4.9 |
Resolution: | 72 x 72 dpi |
Original Date: | 2012:06:21 14:47:45 |
Created on: | 2012:06:21 14:47:45 |
Modified on: | 2012:06:23 22:22:41 |
Software: | Adobe Photoshop Lightroom 4.1 (Windows) |
Already Applied | True |
Approximate Focus Distance | 64.4 |
Auto Lateral CA | 0 |
Blacks 2012 | -2 |
Blue Hue | 0 |
Blue Saturation | 0 |
Camera Profile | Adobe Standard |
Circle Of Confusion | 0.002 mm |
Clarity 2012 | +50 |
Color Noise Reduction | 25 |
Color Noise Reduction Detail | 50 |
Color Temperature | 5167 |
Contrast 2012 | +55 |
Convert To Grayscale | False |
Crop Angle | -0.199289 |
Crop Bottom | 0.995384 |
Crop Constrain To Warp | 0 |
Crop Height | 900 |
Crop Left | 0.00101 |
Crop Right | 0.99899 |
Crop Top | 0.004616 |
Crop Unit | pixels |
Crop Width | 1200 |
Custom Rendered | Normal |
Date Created | 2012:06:21 14:47:45 |
Defringe Green Amount | 0 |
Defringe Green Hue Hi | 60 |
Defringe Green Hue Lo | 40 |
Defringe Purple Amount | 0 |
Defringe Purple Hue Hi | 70 |
Defringe Purple Hue Lo | 30 |
Digital Zoom Ratio | 1 |
Exposure 2012 | +0.01 |
Exposure Compensation | 0 |
Exposure Mode | Auto |
Field Of View | 6.5 deg |
Firmware | 1.00 |
Flash Compensation | 0 |
Format | image/jpeg |
Gradient Based Corr Active | true |
Gradient Based Corr Amount | 1.000000 |
Gradient Based Corr Brightness | 0.018180 |
Gradient Based Corr Hue | 230.000000 |
Gradient Based Corr Mask Full X | 0.693694 |
Gradient Based Corr Mask Full Y | 0.078078 |
Gradient Based Corr Mask Value | 1.000000 |
Gradient Based Corr Mask What | Mask/Gradient |
Gradient Based Corr Mask Zero X | 0.693694 |
Gradient Based Corr Mask Zero Y | 0.495495 |
Gradient Based Corr Saturation | 0.000000 |
Gradient Based Corr Sharpness | 0.356520 |
Gradient Based Corr What | Correction |
Gradient Based Corrections Local Clarity 2012 | 0.054550 |
Gradient Based Corrections Local Contrast 2012 | -0.054550 |
Gradient Based Corrections Local Defringe | 0.000000 |
Gradient Based Corrections Local Exposure 2012 | -0.363570 |
Gradient Based Corrections Local Highlights 2012 | 0.000000 |
Gradient Based Corrections Local Luminance Noise | 0.000000 |
Gradient Based Corrections Local Moire | 0.000000 |
Gradient Based Corrections Local Shadows 2012 | 0.000000 |
Gradient Based Corrections Local Temperature | 0.000000 |
Gradient Based Corrections Local Tint | 0.000000 |
Grain Amount | 0 |
Green Hue | 0 |
Green Saturation | 0 |
Has Crop | True |
Has Settings | True |
Highlights 2012 | -18 |
Hue Adjustment Aqua | 0 |
Hue Adjustment Blue | 0 |
Hue Adjustment Green | 0 |
Hue Adjustment Magenta | 0 |
Hue Adjustment Orange | 0 |
Hue Adjustment Purple | 0 |
Hue Adjustment Red | 0 |
Hue Adjustment Yellow | 0 |
Hyperfocal Distance | 48.78 m |
ISO | 200 |
Image Size | 1200x900 |
Lens | 6.0-22.5 mm |
Lens Info | 6-22.5mm f/? |
Lens Manual Distortion Amount | 0 |
Lens Model | 6.0-22.5 mm |
Lens Profile Enable | 0 |
Lens Profile Setup | LensDefaults |
Light Value | 13.6 |
Luminance Adjustment Aqua | 0 |
Luminance Adjustment Blue | 0 |
Luminance Adjustment Green | 0 |
Luminance Adjustment Magenta | 0 |
Luminance Adjustment Orange | 0 |
Luminance Adjustment Purple | 0 |
Luminance Adjustment Red | 0 |
Luminance Adjustment Yellow | 0 |
Luminance Noise Reduction Contrast | 0 |
Luminance Noise Reduction Detail | 50 |
Luminance Smoothing | 16 |
Metering Mode | Multi-segment |
Parametric Darks | +75 |
Parametric Highlight Split | 75 |
Parametric Highlights | -64 |
Parametric Lights | +35 |
Parametric Midtone Split | 50 |
Parametric Shadow Split | 25 |
Parametric Shadows | +42 |
Perspective Horizontal | 0 |
Perspective Rotate | 0.0 |
Perspective Scale | 100 |
Perspective Vertical | 0 |
Post Crop Vignette Amount | -18 |
Post Crop Vignette Feather | 50 |
Post Crop Vignette Highlight Contrast | 0 |
Post Crop Vignette Midpoint | 50 |
Post Crop Vignette Roundness | 0 |
Post Crop Vignette Style | 1 |
Process Version | 6.7 |
Red Hue | 0 |
Red Saturation | 0 |
Saturation | 0 |
Saturation Adjustment Aqua | 0 |
Saturation Adjustment Blue | 0 |
Saturation Adjustment Green | 0 |
Saturation Adjustment Magenta | 0 |
Saturation Adjustment Orange | 0 |
Saturation Adjustment Purple | 0 |
Saturation Adjustment Red | 0 |
Saturation Adjustment Yellow | 0 |
Scale Factor To 35 mm Equivalent | 14.2 |
Scene Capture Type | Standard |
Sensing Method | One-chip color area |
Sensitivity Type | Standard Output Sensitivity and Recommended Exposure Index |
Shadow Tint | 0 |
Shadows 2012 | +20 |
Sharpen Detail | 42 |
Sharpen Edge Masking | 0 |
Sharpen Radius | +0.7 |
Sharpness | 78 |
Split Toning Balance | 0 |
Split Toning Highlight Hue | 0 |
Split Toning Highlight Saturation | 0 |
Split Toning Shadow Hue | 0 |
Split Toning Shadow Saturation | 0 |
Tint | +15 |
Tone Curve Name 2012 | Linear |
Tone Curve PV2012 | 0, 0, 255, 255 |
Tone Curve PV2012 Blue | 0, 0, 255, 255 |
Tone Curve PV2012 Green | 0, 0, 255, 255 |
Tone Curve PV2012 Red | 0, 0, 255, 255 |
Version | 7.1 |
Vibrance | +59 |
Vignette Amount | 0 |
White Balance | Custom |
Whites 2012 | 0 |