Shooting information for this photo
Camera: | SONY ILCE-7RM4 |
Exposure: | 0.005 sec. (1/200) |
Aperture: | f/8.0 |
Focal Length: | 43.0 mm (35 mm equivalent: 43.0 mm) |
Flash: | On, Return detected |
Exposure mode: | Manual |
Max Aperture: | 2.8 |
Resolution: | 300 x 300 dpi |
Dimension: | 3800 x 5660 pixels |
Original Date: | 2024:08:16 22:02:20 |
Created on: | 2024:08:16 22:02:20 |
Modified on: | 2024:08:23 12:11:41 |
Software: | Adobe Photoshop 25.11 (Windows) |
Copyright: | joweinfotokiwi |
Already Applied | True |
Artist | joweinfotokiwi |
Auto Lateral CA | 0 |
Blacks 2012 | -52 |
Blue Hue | 0 |
Blue Saturation | 0 |
Brightness Value | -2.6078125 |
Camera Profile | Adobe Standard |
Circle Of Confusion | 0.030 mm |
Clarity 2012 | 0 |
Color Grade Blending | 50 |
Color Grade Global Hue | 0 |
Color Grade Global Lum | 0 |
Color Grade Global Sat | 0 |
Color Grade Highlight Lum | 0 |
Color Grade Midtone Hue | 0 |
Color Grade Midtone Lum | 0 |
Color Grade Midtone Sat | 0 |
Color Grade Shadow Lum | 0 |
Color Mode | RGB |
Color Noise Reduction | 25 |
Color Noise Reduction Detail | 50 |
Color Noise Reduction Smoothness | 50 |
Color Space | sRGB |
Color Temperature | 6400 |
Contrast | Normal |
Contrast 2012 | +4 |
Creator | joweinfotokiwi |
Custom Rendered | Normal |
Date Created | 2024:08:16 22:02:20-05:00 |
Defringe Green Amount | 0 |
Defringe Green Hue Hi | 60 |
Defringe Green Hue Lo | 40 |
Defringe Purple Amount | 0 |
Defringe Purple Hue Hi | 70 |
Defringe Purple Hue Lo | 30 |
Dehaze | +7 |
Digital Zoom Ratio | 1 |
Exposure 2012 | +1.85 |
Exposure Compensation | 0 |
Exposure Mode | Manual |
Field Of View | 45.4 deg |
Focal Length In 35mm Format | 43 mm |
Format | image/jpeg |
Grain Amount | 0 |
Green Hue | 0 |
Green Saturation | 0 |
HDR Edit Mode | 0 |
Has Crop | False |
Has Settings | True |
Highlights 2012 | +25 |
Hue Adjustment Aqua | 0 |
Hue Adjustment Blue | 0 |
Hue Adjustment Green | 0 |
Hue Adjustment Magenta | 0 |
Hue Adjustment Orange | 0 |
Hue Adjustment Purple | 0 |
Hue Adjustment Red | 0 |
Hue Adjustment Yellow | 0 |
Hyperfocal Distance | 7.69 m |
ICC Profile Name | sRGB IEC61966-2.1 |
ISO | 100 |
Image Size | 3800x5660 |
Lateral Chromatic Aberration Correction Already Applied | True |
Lens | FE 24-70mm F2.8 GM |
Lens Distort Info | 1044702809/1073741824 11588366/1073741824 13218720/1073741824 4201861/1073741824 |
Lens Info | 24-70mm f/2.8 |
Lens Manual Distortion Amount | 0 |
Lens Model | FE 24-70mm F2.8 GM |
Lens Profile Enable | 0 |
Light Source | Unknown |
Light Value | 13.6 |
Look Amount | 1 |
Look Copyright | © 2018 Adobe Systems, Inc. |
Look Group | Profiles |
Look Name | Adobe Color |
Look Parameters Camera Profile | Adobe Standard |
Look Parameters Convert To Grayscale | False |
Look Parameters Look Table | E1095149FDB39D7A057BAB208837E2 E1 |
Look Parameters Process Version | 15.4 |
Look Parameters Tone Curve PV2012 | 0, 0, 22, 16, 40, 35, 127, 127, 224, 230, 240, 246, 255, 255 |
Look Parameters Tone Curve PV2012 Blue | 0, 0, 255, 255 |
Look Parameters Tone Curve PV2012 Green | 0, 0, 255, 255 |
Look Parameters Tone Curve PV2012 Red | 0, 0, 255, 255 |
Look Parameters Version | 16.5 |
Look Supports Amount | false |
Look Supports Monochrome | false |
Look Supports Output Referred | false |
Luminance Adjustment Aqua | 0 |
Luminance Adjustment Blue | 0 |
Luminance Adjustment Green | 0 |
Luminance Adjustment Magenta | 0 |
Luminance Adjustment Orange | 0 |
Luminance Adjustment Purple | 0 |
Luminance Adjustment Red | 0 |
Luminance Adjustment Yellow | 0 |
Luminance Smoothing | 0 |
Metering Mode | Spot |
Override Look Vignette | False |
Parametric Darks | 0 |
Parametric Highlight Split | 75 |
Parametric Highlights | 0 |
Parametric Lights | 0 |
Parametric Midtone Split | 50 |
Parametric Shadow Split | 25 |
Parametric Shadows | 0 |
Perspective Aspect | 0 |
Perspective Horizontal | 0 |
Perspective Rotate | 0.0 |
Perspective Scale | 100 |
Perspective Upright | 0 |
Perspective Vertical | 0 |
Perspective X | 0.00 |
Perspective Y | 0.00 |
Point Colors | -1.000000, -1.000000, -1.000000, -1.000000, -1.000000, -1.000000, -1.000000, -1.000000, -1.000000, -1.000000, -1.000000, -1.000000, -1.000000, -1.000000, -1.000000, -1.000000, -1.000000, -1.000000, -1.000000 |
Post Crop Vignette Amount | -35 |
Post Crop Vignette Feather | 50 |
Post Crop Vignette Highlight Contrast | 0 |
Post Crop Vignette Midpoint | 43 |
Post Crop Vignette Roundness | +52 |
Post Crop Vignette Style | 1 |
Process Version | 15.4 |
Rating | 0 |
Recommended Exposure Index | 100 |
Red Hue | 0 |
Red Saturation | 0 |
Rights | joweinfotokiwi |
Saturation | Normal |
Saturation Adjustment Aqua | 0 |
Saturation Adjustment Blue | 0 |
Saturation Adjustment Green | 0 |
Saturation Adjustment Magenta | 0 |
Saturation Adjustment Orange | 0 |
Saturation Adjustment Purple | 0 |
Saturation Adjustment Red | 0 |
Saturation Adjustment Yellow | 0 |
Scale Factor To 35 mm Equivalent | 1.0 |
Scene Capture Type | Standard |
Scene Type | Directly photographed |
Sensitivity Type | Recommended Exposure Index |
Shadow Tint | 0 |
Shadows 2012 | +60 |
Sharpen Detail | 25 |
Sharpen Edge Masking | 0 |
Sharpen Radius | +1.0 |
Sharpness | Normal |
Split Toning Balance | 0 |
Split Toning Highlight Hue | 0 |
Split Toning Highlight Saturation | 0 |
Split Toning Shadow Hue | 0 |
Split Toning Shadow Saturation | 0 |
Texture | 0 |
Tint | +11 |
Tone Curve Name 2012 | Linear |
Tone Curve PV2012 | 0, 0, 255, 255 |
Tone Curve PV2012 Blue | 0, 0, 255, 255 |
Tone Curve PV2012 Green | 0, 0, 255, 255 |
Tone Curve PV2012 Red | 0, 0, 255, 255 |
Version | 16.5 |
Vibrance | +15 |
Vignette Amount | 0 |
White Balance | Auto |
Whites 2012 | -19 |