Shooting information for this photo
Camera: | SONY ILCA-99M2 |
Exposure: | 0.001 sec. (1/1000) |
Aperture: | f/8.0 |
Focal Length: | 600.0 mm (35 mm equivalent: 600.0 mm) |
Flash: | Off, Did not fire |
Exposure mode: | Shutter speed priority AE |
Max Aperture: | 6.3 |
Resolution: | 300 x 300 dpi |
Dimension: | 3712 x 2400 pixels |
Original Date: | 2019:01:16 07:01:06 |
Created on: | 2019:01:16 07:01:06 |
Modified on: | 2019:10:11 20:53:39 |
Software: | Adobe Photoshop CC 2019 (Windows) |
Already Applied | True |
Auto Lateral CA | 0 |
Blacks 2012 | +4 |
Blue Hue | 0 |
Blue Saturation | 0 |
Brightness Value | 7.571875 |
Camera Profile | Adobe Standard |
Circle Of Confusion | 0.030 mm |
Circular Gradient Based Corrections Correction Active | true |
Circular Gradient Based Corrections Correction Amount | 1.000000 |
Circular Gradient Based Corrections Correction Masks Angle | 0.000000 |
Circular Gradient Based Corrections Correction Masks Bottom | 0.477618 |
Circular Gradient Based Corrections Correction Masks Feather | +50 |
Circular Gradient Based Corrections Correction Masks Flipped | true |
Circular Gradient Based Corrections Correction Masks Left | 0.447159 |
Circular Gradient Based Corrections Correction Masks Mask Value | 1.000000 |
Circular Gradient Based Corrections Correction Masks Midpoint | +50 |
Circular Gradient Based Corrections Correction Masks Right | 0.494087 |
Circular Gradient Based Corrections Correction Masks Roundness | 0 |
Circular Gradient Based Corrections Correction Masks Top | 0.370096 |
Circular Gradient Based Corrections Correction Masks Version | +2 |
Circular Gradient Based Corrections Correction Masks What | Mask/CircularGradient |
Circular Gradient Based Corrections Correction Range Mask Color Amount | 0.500000 |
Circular Gradient Based Corrections Correction Range Mask Depth Feather | 0.500000 |
Circular Gradient Based Corrections Correction Range Mask Depth Max | 1.000000 |
Circular Gradient Based Corrections Correction Range Mask Depth Min | 0.000000 |
Circular Gradient Based Corrections Correction Range Mask Lum Feather | 0.500000 |
Circular Gradient Based Corrections Correction Range Mask Lum Max | 1.000000 |
Circular Gradient Based Corrections Correction Range Mask Lum Min | 0.000000 |
Circular Gradient Based Corrections Correction Range Mask Type | 0 |
Circular Gradient Based Corrections Correction Range Mask Version | +2 |
Circular Gradient Based Corrections Local Blacks 2012 | 0.000000 |
Circular Gradient Based Corrections Local Brightness | 0.000000 |
Circular Gradient Based Corrections Local Clarity | 0.000000 |
Circular Gradient Based Corrections Local Clarity 2012 | 0.000000 |
Circular Gradient Based Corrections Local Contrast | 0.000000 |
Circular Gradient Based Corrections Local Contrast 2012 | 0.240000 |
Circular Gradient Based Corrections Local Defringe | 0.000000 |
Circular Gradient Based Corrections Local Dehaze | 0.100000 |
Circular Gradient Based Corrections Local Exposure | 0.000000 |
Circular Gradient Based Corrections Local Exposure 2012 | 0.275000 |
Circular Gradient Based Corrections Local Highlights 2012 | -1.000000 |
Circular Gradient Based Corrections Local Luminance Noise | 0.000000 |
Circular Gradient Based Corrections Local Moire | 0.000000 |
Circular Gradient Based Corrections Local Saturation | 0.000000 |
Circular Gradient Based Corrections Local Shadows 2012 | 0.250000 |
Circular Gradient Based Corrections Local Sharpness | 0.000000 |
Circular Gradient Based Corrections Local Temperature | 0.000000 |
Circular Gradient Based Corrections Local Texture | 0.000000 |
Circular Gradient Based Corrections Local Tint | 0.000000 |
Circular Gradient Based Corrections Local Toning Hue | 0.000000 |
Circular Gradient Based Corrections Local Toning Saturation | 0.000000 |
Circular Gradient Based Corrections Local Whites 2012 | -0.750000 |
Circular Gradient Based Corrections What | Correction |
Clarity 2012 | +37 |
Color Mode | RGB |
Color Noise Reduction | 25 |
Color Noise Reduction Detail | 50 |
Color Noise Reduction Smoothness | 50 |
Color Space | sRGB |
Color Temperature | 4800 |
Contrast | Normal |
Contrast 2012 | +20 |
Convert To Grayscale | False |
Crop Angle | 0 |
Crop Bottom | 0.735692 |
Crop Constrain To Warp | 1 |
Crop Left | 0.163775 |
Crop Right | 0.713393 |
Crop Top | 0.202914 |
Custom Rendered | Normal |
Date Created | 2019:01:16 07:01:06+02:00 |
Defringe Green Amount | 0 |
Defringe Green Hue Hi | 60 |
Defringe Green Hue Lo | 40 |
Defringe Purple Amount | 0 |
Defringe Purple Hue Hi | 70 |
Defringe Purple Hue Lo | 30 |
Dehaze | +15 |
Digital Zoom Ratio | 1 |
Exposure 2012 | +0.75 |
Exposure Compensation | -0.7 |
Exposure Mode | Auto |
Field Of View | 3.4 deg |
Focal Length In 35mm Format | 600 mm |
Format | image/jpeg |
Grain Amount | 0 |
Green Hue | 0 |
Green Saturation | 0 |
Has Crop | True |
Has Settings | True |
Highlights 2012 | -100 |
Hue Adjustment Aqua | 0 |
Hue Adjustment Blue | 0 |
Hue Adjustment Green | 0 |
Hue Adjustment Magenta | 0 |
Hue Adjustment Orange | 0 |
Hue Adjustment Purple | 0 |
Hue Adjustment Red | 0 |
Hue Adjustment Yellow | 0 |
Hyperfocal Distance | 1497.69 m |
ICC Profile Name | sRGB IEC61966-2.1 |
ISO | 800 |
Image Size | 3712x2400 |
Lens | 150-600mm F5-6.3 SSM |
Lens ID | 150-600mm F5-6.3 SSM |
Lens Info | 150-600mm f/5-6.3 |
Lens Manual Distortion Amount | 0 |
Lens Model | 150-600mm F5-6.3 SSM |
Lens Profile Enable | 0 |
Lens Profile Setup | LensDefaults |
Light Source | Unknown |
Light Value | 13.0 |
Look Amount | 1.000000 |
Look Copyright | © 2018 Adobe Systems, Inc. |
Look Group | Profiles |
Look Name | Adobe Color |
Look Parameters Camera Profile | Adobe Standard |
Look Parameters Convert To Grayscale | False |
Look Parameters Look Table | E1095149FDB39D7A057BAB208837E2 E1 |
Look Parameters Process Version | 11.0 |
Look Parameters Tone Curve PV2012 | 0, 0, 22, 16, 40, 35, 127, 127, 224, 230, 240, 246, 255, 255 |
Look Parameters Tone Curve PV2012 Blue | 0, 0, 255, 255 |
Look Parameters Tone Curve PV2012 Green | 0, 0, 255, 255 |
Look Parameters Tone Curve PV2012 Red | 0, 0, 255, 255 |
Look Parameters Version | 11.4.1 |
Look Supports Amount | false |
Look Supports Monochrome | false |
Look Supports Output Referred | false |
Luminance Adjustment Aqua | 0 |
Luminance Adjustment Blue | 0 |
Luminance Adjustment Green | 0 |
Luminance Adjustment Magenta | 0 |
Luminance Adjustment Orange | 0 |
Luminance Adjustment Purple | 0 |
Luminance Adjustment Red | 0 |
Luminance Adjustment Yellow | 0 |
Luminance Noise Reduction Contrast | 0 |
Luminance Noise Reduction Detail | 50 |
Luminance Smoothing | 30 |
Metering Mode | Spot |
Override Look Vignette | False |
Parametric Darks | 0 |
Parametric Highlight Split | 75 |
Parametric Highlights | 0 |
Parametric Lights | 0 |
Parametric Midtone Split | 50 |
Parametric Shadow Split | 25 |
Parametric Shadows | 0 |
Perspective Aspect | 0 |
Perspective Horizontal | 0 |
Perspective Rotate | 0.0 |
Perspective Scale | 100 |
Perspective Upright | 0 |
Perspective Vertical | 0 |
Perspective X | 0.00 |
Perspective Y | 0.00 |
Post Crop Vignette Amount | -24 |
Post Crop Vignette Feather | 50 |
Post Crop Vignette Highlight Contrast | 0 |
Post Crop Vignette Midpoint | 50 |
Post Crop Vignette Roundness | 0 |
Post Crop Vignette Style | 1 |
Process Version | 11.0 |
Rating | 0 |
Raw File Name | DSC02887.ARW |
Recommended Exposure Index | 800 |
Red Hue | 0 |
Red Saturation | 0 |
Saturation | Normal |
Saturation Adjustment Aqua | 0 |
Saturation Adjustment Blue | 0 |
Saturation Adjustment Green | 0 |
Saturation Adjustment Magenta | 0 |
Saturation Adjustment Orange | 0 |
Saturation Adjustment Purple | 0 |
Saturation Adjustment Red | 0 |
Saturation Adjustment Yellow | 0 |
Scale Factor To 35 mm Equivalent | 1.0 |
Scene Capture Type | Standard |
Scene Type | Directly photographed |
Sensitivity Type | Recommended Exposure Index |
Shadow Tint | 0 |
Shadows 2012 | +19 |
Sharpen Detail | 25 |
Sharpen Edge Masking | 0 |
Sharpen Radius | +1.0 |
Sharpness | Normal |
Split Toning Balance | 0 |
Split Toning Highlight Hue | 0 |
Split Toning Highlight Saturation | 0 |
Split Toning Shadow Hue | 0 |
Split Toning Shadow Saturation | 0 |
Texture | 0 |
Tint | +8 |
Tone Curve | 0, 0, 32, 22, 64, 56, 128, 128, 192, 196, 255, 255 |
Tone Curve Blue | 0, 0, 255, 255 |
Tone Curve Green | 0, 0, 255, 255 |
Tone Curve Name | Medium Contrast |
Tone Curve Name 2012 | Linear |
Tone Curve PV2012 | 0, 0, 255, 255 |
Tone Curve PV2012 Blue | 0, 0, 255, 255 |
Tone Curve PV2012 Green | 0, 0, 255, 255 |
Tone Curve PV2012 Red | 0, 0, 255, 255 |
Tone Curve Red | 0, 0, 255, 255 |
Tone Map Strength | 0 |
Version | 11.4.1 |
Vibrance | 0 |
Vignette Amount | 0 |
White Balance | Auto |
Whites 2012 | -3 |