Shooting information for this photo
Camera: | NIKON CORPORATION NIKON D700 |
Exposure: | 0.00156 sec. (1/640) |
Aperture: | f/13.0 |
Focal Length: | 300.0 mm (35 mm equivalent: 300.0 mm) |
Flash: | No Flash |
Exposure mode: | Program AE |
Max Aperture: | 5.7 |
Resolution: | 300 x 300 dpi |
Dimension: | 2832 x 4256 pixels |
Original Date: | 2013:03:24 18:14:31.75 |
Created on: | 2013:03:24 18:14:31.75 |
Modified on: | 2013:04:07 13:22:00.75 |
Software: | Microsoft Photo Gallery 16.4.3505.912 |
AE Lock Button | AE Lock Only |
AE Lock Button Plus Dials | Choose Non-CPU Lens Number |
AF Activation | Shutter/AF-On |
AF Aperture | 6.3 |
AF Area Mode | Single Area |
AF Assist | Off |
AF-C Priority Selection | Focus |
AF Fine Tune | Off |
AF Fine Tune Adj | 0 |
AF Fine Tune Index | n/a |
AF Info 2 Version | 0100 |
AF-On For MB-D10 | AF-On |
AF Point Illumination | Auto |
AF Point Selection | 51 Points |
AF Points Used | C6 |
AF-S Priority Selection | Focus |
Active D-Lighting | Off |
Already Applied | False |
Approximate Focus Distance | 4294967295 |
Auto Bracket Mode M | Flash/Speed/Aperture |
Auto Bracket Order | -,0,+ |
Auto Bracket Set | AE Only |
Auto Focus | On |
Auto Lateral CA | 0 |
Battery Order | Camera Battery First |
Beep | High |
Blacks 2012 | -45 |
Blue Balance | 1.355469 |
Blue Hue | 0 |
Blue Saturation | 0 |
Brightness | 0 |
CFA Pattern | [Red,Green][Green,Blue] |
CL Mode Shooting Speed | 3 fps |
Camera Profile | Embedded |
Center Weighted Area Size | 8 mm |
Circle Of Confusion | 0.030 mm |
Clarity | 0 |
Clarity 2012 | +18 |
Color Noise Reduction | 0 |
Color Space | Uncalibrated |
Command Dials Aperture Setting | Sub-command Dial |
Command Dials Change Main Sub | Off |
Command Dials Menu And Playback | Off |
Command Dials Reverse Rotation | No |
Contrast | Normal |
Contrast 2012 | 0 |
Contrast Detect AF | Off |
Contrast Detect AF In Focus | No |
Convert To Grayscale | False |
Crop Hi Speed | Off (4288x2844 cropped to 4288x2844 at pixel 0,0) |
Custom Rendered | Normal |
Custom Settings All Default | No |
Custom Settings Bank | A |
Defringe | 0 |
Depth Of Field | 3.85 m (19.38 - 23.24) |
Digital Zoom Ratio | 1 |
Dynamic AF Area | 9 Points |
Easy Exposure Compensation | Off |
Effective Max Aperture | 5.7 |
Exit Pupil Position | 128.0 mm |
Exposure | 0.00 |
Exposure 2012 | 0.00 |
Exposure Bracket Value | 0 |
Exposure Comp Step Size | 1/3 EV |
Exposure Compensation | 0 |
Exposure Control Step Size | 1/3 EV |
Exposure Delay Mode | Off |
Exposure Difference | 0 |
Exposure Mode | Auto |
Exposure Tuning | -0.167 |
External Flash Exposure Comp | 0 |
External Flash Firmware | n/a |
External Flash Flags | (none) |
Field Of View | 6.8 deg (2.50 m) |
File Number Sequence | Off |
Fill Light | 0 |
Filter Effect | n/a |
Fine Tune Opt Matrix Metering | -0.17 |
Fine Tune Opt Spot Metering | -0.17 |
Firmware Version | 1.02g |
Flash Color Filter | None |
Flash Commander Mode | Off |
Flash Compensation | 0 |
Flash Control Built-in | TTL |
Flash Control Mode | Off |
Flash Exposure Bracket Value | 0.0 |
Flash Exposure Compensation | 0 |
Flash GN Distance | 0 |
Flash Group A Compensation | 0 |
Flash Group A Control Mode | Off |
Flash Group B Compensation | 0 |
Flash Group B Control Mode | Off |
Flash Group C Compensation | 0 |
Flash Group C Control Mode | Off |
Flash Info Version | 0103 |
Flash Mode | Did Not Fire |
Flash Setting | Normal |
Flash Shutter Speed | 1/60 s |
Flash Source | None |
Flash Sync Speed | 1/250 s (auto FP) |
Focal Length In 35mm Format | 300 mm |
Focus Distance | 21.13 m |
Focus Mode | AF-S |
Focus Point Wrap | No Wrap |
Focus Position | 0x03 |
Focus Tracking Lock On | 3 Normal |
Format | image/jpeg |
Func Button | None |
Func Button Plus Dials | Auto bracketing |
Gain Control | Low gain up |
Gamma | 2.2 |
Grain Amount | 0 |
Green Hue | 0 |
Green Saturation | 0 |
Grid Display | On |
Has Crop | False |
Has Settings | True |
High ISO Noise Reduction | Off |
Highlight Recovery | 0 |
Highlights 2012 | 0 |
Hue Adjustment | None |
Hue Adjustment Aqua | 0 |
Hue Adjustment Blue | 0 |
Hue Adjustment Green | 0 |
Hue Adjustment Magenta | 0 |
Hue Adjustment Orange | 0 |
Hue Adjustment Purple | 0 |
Hue Adjustment Red | 0 |
Hue Adjustment Yellow | 0 |
Hyperfocal Distance | 230.41 m |
ISO | 400 |
ISO2 | 400 |
ISO Expansion | Off |
ISO Expansion 2 | Off |
ISO Setting | 400 |
ISO Step Size | 1/3 EV |
Image Authentication | Off |
Image Boundary | 0 0 4256 2832 |
Image Data Size | 8760674 |
Image Number | 15704 |
Image Review Time | 4 s |
Image Size | 2832x4256 |
Incremental Temperature | 0 |
Incremental Tint | 0 |
Initial Zoom Setting | Low Magnification |
LCD Illumination | Off |
Lens | 70-300mm f/4.5-5.6 G VR |
Lens Data Version | 0203 |
Lens F Stops | 5.67 |
Lens ID | AF-S VR Zoom-Nikkor 70-300mm f/4.5-5.6G IF-ED |
Lens ID Number | 141 |
Lens Info | 70-300mm f/4.5-5.6 |
Lens Manual Distortion Amount | 0 |
Lens Profile Enable | 0 |
Lens Profile Setup | LensDefaults |
Lens Type | G VR |
Light Source | Fine Weather |
Light Value | 14.7 |
Luminance Adjustment Aqua | 0 |
Luminance Adjustment Blue | 0 |
Luminance Adjustment Green | 0 |
Luminance Adjustment Magenta | 0 |
Luminance Adjustment Orange | 0 |
Luminance Adjustment Purple | 0 |
Luminance Adjustment Red | 0 |
Luminance Adjustment Yellow | 0 |
Luminance Smoothing | 0 |
MB-D10 Battery Type | LR6 (AA alkaline) |
MCU Version | 143 |
Maker Note Version | 2.10 |
Max Aperture At Max Focal | 5.7 |
Max Aperture At Min Focal | 4.5 |
Max Continuous Release | 100 |
Max Focal Length | 302.0 mm |
Menu Monitor Off Time | 20 s |
Metering Mode | Multi-segment |
Metering Time | 8 s |
Min Focal Length | 71.3 mm |
Modeling Flash | Off |
Multi Exposure Auto Gain | Off |
Multi Exposure Mode | Off |
Multi Exposure Shots | 0 |
Multi Exposure Version | 0100 |
Multi Selector | Do Nothing |
Multi Selector Playback Mode | Thumbnail On/Off |
Multi Selector Shoot Mode | Select Center Focus Point |
No Memory Card | Enable Release |
Noise Reduction | Off |
Offset Schema | 4078 |
Parametric Darks | 0 |
Parametric Highlight Split | 75 |
Parametric Highlights | 0 |
Parametric Lights | 0 |
Parametric Midtone Split | 50 |
Parametric Shadow Split | 25 |
Parametric Shadows | 0 |
Perspective Horizontal | 0 |
Perspective Rotate | 0.0 |
Perspective Scale | 100 |
Perspective Vertical | 0 |
Phase Detect AF | On (51-point) |
Photo Info Playback | Off |
Picture Control Adjust | Full Control |
Picture Control Base | Vivid |
Picture Control Name | Vivid |
Picture Control Quick Adjust | Normal |
Picture Control Version | 0100 |
Playback Monitor Off Time | 10 s |
Post Crop Vignette Amount | 0 |
Preview Button | Live View |
Preview Button Plus Dials | None |
Primary AF Point | C6 (Center) |
Primary Chromaticities | 0.64 0.33 0.21 0.71 0.15 0.06 |
Process Version | 6.7 |
Program Shift | 0 |
Quality | Fine |
Rating | 0 |
Raw File Name | _DSC0079.JPG |
Red Balance | 1.816406 |
Red Hue | 0 |
Red Saturation | 0 |
Release Button To Use Dial | No |
Reverse Indicators | + 0 - |
Saturation | Normal |
Saturation Adjustment Aqua | 0 |
Saturation Adjustment Blue | 0 |
Saturation Adjustment Green | 0 |
Saturation Adjustment Magenta | 0 |
Saturation Adjustment Orange | 0 |
Saturation Adjustment Purple | 0 |
Saturation Adjustment Red | 0 |
Saturation Adjustment Yellow | 0 |
Scale Factor To 35 mm Equivalent | 1.0 |
Scene Capture Type | Standard |
Scene Type | Directly photographed |
Screen Tips | On |
Self Timer Time | 10 s |
Sensing Method | One-chip color area |
Shadow Tint | 0 |
Shadows | 0 |
Shadows 2012 | -53 |
Sharpen Detail | 25 |
Sharpen Edge Masking | 0 |
Sharpen Radius | +1.0 |
Sharpness | Hard |
Shooting Info Display | Auto |
Shooting Info Monitor Off Time | 10 s |
Shooting Mode | Single-Frame |
Shot Info Version | 0212 |
Shutter Count | 15704 |
Shutter Release Button AE-L | On |
Split Toning Balance | 0 |
Split Toning Highlight Hue | 0 |
Split Toning Highlight Saturation | 0 |
Split Toning Shadow Hue | 0 |
Split Toning Shadow Saturation | 0 |
Subject Distance Range | Unknown |
Tone Curve | 0, 0, 255, 255 |
Tone Curve Blue | 0, 0, 255, 255 |
Tone Curve Green | 0, 0, 255, 255 |
Tone Curve Name | Linear |
Tone Curve Name 2012 | Linear |
Tone Curve PV2012 | 0, 0, 255, 255 |
Tone Curve PV2012 Blue | 0, 0, 255, 255 |
Tone Curve PV2012 Green | 0, 0, 255, 255 |
Tone Curve PV2012 Red | 0, 0, 255, 255 |
Tone Curve Red | 0, 0, 255, 255 |
Toning Effect | n/a |
Toning Saturation | n/a |
VR Info Version | 0100 |
Version | 7.0 |
Vibrance | 0 |
Vibration Reduction | On |
Vignette Amount | 0 |
Vignette Control | Normal |
WB GRBG Levels | 256 465 347 256 |
WB RB Levels | 1.81640625 1.35546875 1 1 |
White Balance | Sunny |
White Balance Fine Tune | 0 0 |
White Point | 0.313 0.329 |
Whites 2012 | +1 |
GPS Information |
GPS Version ID | 2.2.0.0 |