Shooting information for this photo
Camera: | Canon EOS 5D Mark II |
Exposure: | 0.0004 sec. (1/2500) |
Aperture: | f/4.0 |
Focal Length: | 35.0 mm (35 mm equivalent: 159.9 mm) |
Flash: | Off, Did not fire |
Exposure mode: | Manual |
Max Aperture: | 1.4 |
Resolution: | 72 x 72 dpi |
Original Date: | 2013:03:23 15:56:14.17 |
Created on: | 2013:03:23 15:56:14.17 |
Modified on: | 2013:03:24 01:36:41 |
Software: | Adobe Photoshop Lightroom 4.2 (Macintosh) |
Already Applied | True |
Approximate Focus Distance | 2.03 |
Blue Hue | 0 |
Blue Saturation | 0 |
Camera Profile | Adobe Standard |
Circle Of Confusion | 0.007 mm |
Color Noise Reduction | 25 |
Color Noise Reduction Detail | 50 |
Color Space | Uncalibrated |
Color Temperature | 5700 |
Convert To Grayscale | False |
Crop Angle | 0 |
Crop Bottom | 0.965094 |
Crop Constrain To Warp | 0 |
Crop Height | 800 |
Crop Left | 0.062788 |
Crop Right | 1 |
Crop Top | 0.027882 |
Crop Unit | pixels |
Crop Width | 1200 |
Custom Rendered | Normal |
Date Created | 2013:03:23 15:56:14.17 |
Exposure Compensation | 0 |
Exposure Mode | Manual |
Field Of View | 12.8 deg |
Firmware | 2.0.8 |
Flash Compensation | 0 |
Format | image/jpeg |
Grain Amount | 0 |
Green Hue | 0 |
Green Saturation | 0 |
Has Crop | True |
Has Settings | True |
Hue Adjustment Aqua | 0 |
Hue Adjustment Blue | 0 |
Hue Adjustment Green | 0 |
Hue Adjustment Magenta | 0 |
Hue Adjustment Orange | 0 |
Hue Adjustment Purple | 0 |
Hue Adjustment Red | 0 |
Hue Adjustment Yellow | 0 |
Hyperfocal Distance | 46.55 m |
ISO | 400 |
Image Number | 0 |
Image Size | 1200x800 |
Label | Amarelo |
Lens | EF35mm f/1.4L USM |
Lens ID | Canon EF 35mm f/1.4L |
Lens Info | 35mm f/? |
Lens Manual Distortion Amount | 0 |
Lens Model | EF35mm f/1.4L USM |
Lens Profile Enable | 0 |
Lens Profile Setup | LensDefaults |
Light Value | 13.3 |
Luminance Adjustment Aqua | 0 |
Luminance Adjustment Blue | 0 |
Luminance Adjustment Green | 0 |
Luminance Adjustment Magenta | 0 |
Luminance Adjustment Orange | 0 |
Luminance Adjustment Purple | 0 |
Luminance Adjustment Red | 0 |
Luminance Adjustment Yellow | 0 |
Luminance Smoothing | 0 |
Metering Mode | Multi-segment |
Parametric Darks | 0 |
Parametric Highlight Split | 75 |
Parametric Highlights | 0 |
Parametric Lights | 0 |
Parametric Midtone Split | 50 |
Parametric Shadow Split | 25 |
Parametric Shadows | 0 |
Perspective Horizontal | 0 |
Perspective Rotate | 0.0 |
Perspective Scale | 100 |
Perspective Vertical | 0 |
Post Crop Vignette Amount | 0 |
Process Version | 6.7 |
Rating | 2 |
Red Hue | 0 |
Red Saturation | 0 |
Saturation | Low |
Saturation Adjustment Aqua | 0 |
Saturation Adjustment Blue | 0 |
Saturation Adjustment Green | 0 |
Saturation Adjustment Magenta | 0 |
Saturation Adjustment Orange | 0 |
Saturation Adjustment Purple | 0 |
Saturation Adjustment Red | 0 |
Saturation Adjustment Yellow | 0 |
Scale Factor To 35 mm Equivalent | 4.6 |
Scene Capture Type | Standard |
Shadow Tint | 0 |
Sharpen Detail | 25 |
Sharpen Edge Masking | 0 |
Sharpen Radius | +1.0 |
Sharpness | Hard |
Split Toning Balance | 0 |
Split Toning Highlight Hue | 0 |
Split Toning Highlight Saturation | 0 |
Split Toning Shadow Hue | 0 |
Split Toning Shadow Saturation | 0 |
Tint | -10 |
Version | 7.2 |
Vibrance | +28 |
Vignette Amount | 0 |
White Balance | Auto |