Shooting information for this photo
Camera: | NIKON CORPORATION NIKON Df |
Exposure: | 0.03333 sec. (1/30) |
Aperture: | f/4.0 |
Focal Length: | 50.0 mm (35 mm equivalent: 50.0 mm) |
Flash: | No Flash |
Exposure mode: | Manual |
Max Aperture: | 1.4 |
Resolution: | 240 x 240 dpi |
Original Date: | 2014:11:23 19:02:30.60 |
Created on: | 2014:11:23 19:02:30.60 |
Modified on: | 2014:11:24 04:48:34 |
Software: | Adobe Photoshop Lightroom 4.4 (Macintosh) |
Already Applied | True |
Approximate Focus Distance | 1 |
Auto Lateral CA | 0 |
Blacks 2012 | -4 |
Blue Hue | 0 |
Blue Saturation | 0 |
CFA Pattern | [Red,Green][Green,Blue] |
Camera Profile | Adobe Standard |
Circle Of Confusion | 0.030 mm |
Clarity 2012 | +20 |
Color Noise Reduction | 25 |
Color Noise Reduction Detail | 50 |
Color Temperature | 2800 |
Contrast | Normal |
Contrast 2012 | +7 |
Convert To Grayscale | False |
Custom Rendered | Normal |
Date Created | 2014:11:23 19:02:30.60 |
Defringe Green Amount | 0 |
Defringe Green Hue Hi | 60 |
Defringe Green Hue Lo | 40 |
Defringe Purple Amount | 0 |
Defringe Purple Hue Hi | 70 |
Defringe Purple Hue Lo | 30 |
Digital Zoom Ratio | 1 |
Exposure 2012 | -0.10 |
Exposure Compensation | 0 |
Exposure Mode | Manual |
Field Of View | 39.6 deg |
Focal Length In 35mm Format | 50 mm |
Format | image/jpeg |
Gain Control | Low gain up |
Grain Amount | 0 |
Green Hue | 0 |
Green Saturation | 0 |
Has Crop | False |
Has Settings | True |
Highlights 2012 | +9 |
Hue Adjustment Aqua | 0 |
Hue Adjustment Blue | 0 |
Hue Adjustment Green | 0 |
Hue Adjustment Magenta | 0 |
Hue Adjustment Orange | 0 |
Hue Adjustment Purple | 0 |
Hue Adjustment Red | 0 |
Hue Adjustment Yellow | 0 |
Hyperfocal Distance | 20.80 m |
ISO | 500 |
Image Number | 9242 |
Image Size | 4928x3280 |
Lens | 50.0 mm f/1.4 |
Lens ID | AF Nikkor 50mm f/1.4D |
Lens Info | 50mm f/1.4 |
Lens Manual Distortion Amount | 0 |
Lens Model | 50.0 mm f/1.4 |
Lens Profile Enable | 0 |
Lens Profile Setup | LensDefaults |
Light Source | Unknown |
Light Value | 6.6 |
Luminance Adjustment Aqua | 0 |
Luminance Adjustment Blue | 0 |
Luminance Adjustment Green | 0 |
Luminance Adjustment Magenta | 0 |
Luminance Adjustment Orange | 0 |
Luminance Adjustment Purple | 0 |
Luminance Adjustment Red | 0 |
Luminance Adjustment Yellow | 0 |
Luminance Smoothing | 0 |
Metering Mode | Multi-segment |
Parametric Darks | -6 |
Parametric Highlight Split | 75 |
Parametric Highlights | 0 |
Parametric Lights | +7 |
Parametric Midtone Split | 50 |
Parametric Shadow Split | 25 |
Parametric Shadows | 0 |
Perspective Horizontal | 0 |
Perspective Rotate | 0.0 |
Perspective Scale | 100 |
Perspective Vertical | 0 |
Post Crop Vignette Amount | 0 |
Process Version | 6.7 |
Red Hue | 0 |
Red Saturation | 0 |
Saturation | Normal |
Saturation Adjustment Aqua | 0 |
Saturation Adjustment Blue | 0 |
Saturation Adjustment Green | 0 |
Saturation Adjustment Magenta | 0 |
Saturation Adjustment Orange | 0 |
Saturation Adjustment Purple | 0 |
Saturation Adjustment Red | 0 |
Saturation Adjustment Yellow | 0 |
Scale Factor To 35 mm Equivalent | 1.0 |
Scene Capture Type | Standard |
Scene Type | Directly photographed |
Sensing Method | One-chip color area |
Sensitivity Type | Recommended Exposure Index |
Shadow Tint | 0 |
Shadows 2012 | +11 |
Sharpen Detail | 25 |
Sharpen Edge Masking | 0 |
Sharpen Radius | +1.0 |
Sharpness | Normal |
Split Toning Balance | 0 |
Split Toning Highlight Hue | 0 |
Split Toning Highlight Saturation | 0 |
Split Toning Shadow Hue | 0 |
Split Toning Shadow Saturation | 0 |
Subject Distance Range | Unknown |
Tint | +13 |
Tone Curve Name 2012 | Linear |
Tone Curve PV2012 | 0, 0, 255, 255 |
Tone Curve PV2012 Blue | 0, 0, 255, 255 |
Tone Curve PV2012 Green | 0, 0, 255, 255 |
Tone Curve PV2012 Red | 0, 0, 255, 255 |
Version | 7.4 |
Vibrance | +7 |
Vignette Amount | 0 |
White Balance | Auto |
Whites 2012 | -27 |