Shooting information for this photo
Camera: | NIKON CORPORATION NIKON Df |
Exposure: | 0.01667 sec. (1/60) |
Aperture: | f/4.0 |
Focal Length: | 105.0 mm (35 mm equivalent: 105.0 mm) |
Flash: | No Flash |
Exposure mode: | Manual |
Max Aperture: | 2.9 |
Resolution: | 240 x 240 dpi |
Original Date: | 2014:04:18 15:43:27.80 |
Created on: | 2014:04:18 15:43:27.80 |
Modified on: | 2014:04:21 07:06:22 |
Software: | Adobe Photoshop Lightroom 4.4 (Macintosh) |
Already Applied | True |
Approximate Focus Distance | 168 |
Auto Lateral CA | 0 |
Blacks 2012 | -7 |
Blue Hue | 0 |
Blue Saturation | 0 |
CFA Pattern | [Red,Green][Green,Blue] |
Camera Profile | Adobe Standard |
Circle Of Confusion | 0.030 mm |
Clarity 2012 | +36 |
Color Noise Reduction | 25 |
Color Noise Reduction Detail | 50 |
Color Temperature | 5050 |
Contrast | Normal |
Contrast 2012 | -20 |
Convert To Grayscale | False |
Custom Rendered | Normal |
Date Created | 2014:04:18 15:43:27.80 |
Defringe Green Amount | 0 |
Defringe Green Hue Hi | 60 |
Defringe Green Hue Lo | 40 |
Defringe Purple Amount | 0 |
Defringe Purple Hue Hi | 70 |
Defringe Purple Hue Lo | 30 |
Digital Zoom Ratio | 1 |
Exposure 2012 | -0.10 |
Exposure Compensation | 0 |
Exposure Mode | Manual |
Field Of View | 19.5 deg |
Focal Length In 35mm Format | 105 mm |
Format | image/jpeg |
Gain Control | Low gain up |
Grain Amount | 0 |
Green Hue | 0 |
Green Saturation | 0 |
Has Crop | False |
Has Settings | True |
Highlights 2012 | -24 |
Hue Adjustment Aqua | 0 |
Hue Adjustment Blue | 0 |
Hue Adjustment Green | 0 |
Hue Adjustment Magenta | 0 |
Hue Adjustment Orange | 0 |
Hue Adjustment Purple | 0 |
Hue Adjustment Red | 0 |
Hue Adjustment Yellow | 0 |
Hyperfocal Distance | 91.73 m |
ISO | 640 |
Image Number | 3459 |
Image Size | 4928x3280 |
Lens | 105.0 mm f/2.8 |
Lens ID | AF Micro-Nikkor 105mm f/2.8 |
Lens Info | 105mm f/2.8 |
Lens Manual Distortion Amount | 0 |
Lens Model | 105.0 mm f/2.8 |
Lens Profile Enable | 0 |
Lens Profile Setup | LensDefaults |
Light Source | Unknown |
Light Value | 7.2 |
Luminance Adjustment Aqua | 0 |
Luminance Adjustment Blue | 0 |
Luminance Adjustment Green | 0 |
Luminance Adjustment Magenta | 0 |
Luminance Adjustment Orange | 0 |
Luminance Adjustment Purple | 0 |
Luminance Adjustment Red | 0 |
Luminance Adjustment Yellow | 0 |
Luminance Smoothing | 0 |
Metering Mode | Multi-segment |
Parametric Darks | 0 |
Parametric Highlight Split | 75 |
Parametric Highlights | 0 |
Parametric Lights | 0 |
Parametric Midtone Split | 50 |
Parametric Shadow Split | 25 |
Parametric Shadows | 0 |
Perspective Horizontal | 0 |
Perspective Rotate | 0.0 |
Perspective Scale | 100 |
Perspective Vertical | 0 |
Post Crop Vignette Amount | 0 |
Process Version | 6.7 |
Red Hue | 0 |
Red Saturation | 0 |
Saturation | Normal |
Saturation Adjustment Aqua | 0 |
Saturation Adjustment Blue | 0 |
Saturation Adjustment Green | 0 |
Saturation Adjustment Magenta | 0 |
Saturation Adjustment Orange | 0 |
Saturation Adjustment Purple | 0 |
Saturation Adjustment Red | 0 |
Saturation Adjustment Yellow | 0 |
Scale Factor To 35 mm Equivalent | 1.0 |
Scene Capture Type | Standard |
Scene Type | Directly photographed |
Sensing Method | One-chip color area |
Sensitivity Type | Recommended Exposure Index |
Shadow Tint | 0 |
Shadows 2012 | +13 |
Sharpen Detail | 25 |
Sharpen Edge Masking | 0 |
Sharpen Radius | +1.0 |
Sharpness | Normal |
Split Toning Balance | 0 |
Split Toning Highlight Hue | 0 |
Split Toning Highlight Saturation | 0 |
Split Toning Shadow Hue | 0 |
Split Toning Shadow Saturation | 0 |
Subject Distance Range | Unknown |
Tint | +19 |
Tone Curve Name 2012 | Linear |
Tone Curve PV2012 | 0, 0, 255, 255 |
Tone Curve PV2012 Blue | 0, 0, 255, 255 |
Tone Curve PV2012 Green | 0, 0, 255, 255 |
Tone Curve PV2012 Red | 0, 0, 255, 255 |
Version | 7.4 |
Vibrance | +7 |
Vignette Amount | 0 |
White Balance | Auto |
Whites 2012 | -42 |