Shooting information for this photo
Camera: | Canon EOS 550D |
Exposure: | 0.00125 sec. (1/800) |
Aperture: | f/7.1 |
Focal Length: | 100.0 mm (35 mm equivalent: 176.2 mm) |
Flash: | Off, Did not fire |
Exposure mode: | Program AE |
Max Aperture: | 2.8 |
Resolution: | 240 x 240 dpi |
Dimension: | 3269 x 4534 pixels |
Original Date: | 2010:11:15 14:58:18.00 |
Created on: | 2010:11:15 14:58:18.00 |
Modified on: | 2010:11:18 18:00:25 |
Software: | Picasa |
Already Applied | True |
Artist | DOMCHO |
Blue Hue | 0 |
Blue Saturation | 0 |
Brightness | 0 |
Camera Profile | Embedded |
Chromatic Aberration B | 0 |
Chromatic Aberration R | 0 |
Circle Of Confusion | 0.017 mm |
Clarity | +100 |
Color Noise Reduction | 0 |
Contrast | +20 |
Convert To Grayscale | False |
Creator | DOMCHO |
Custom Rendered | Normal |
Defringe | 0 |
Depth Of Field | 0.03 m (1.16 - 1.19) |
Exposure | 0.00 |
Exposure Compensation | 0 |
Exposure Mode | Auto |
Field Of View | 11.7 deg |
Fill Light | 65 |
Firmware | 1.0.8 |
Flash Compensation | 0 |
Flash Fired | False |
Flash Function | False |
Flash Mode | Off |
Flash Red Eye Mode | False |
Flash Return | No return detection |
Green Hue | 0 |
Green Saturation | 0 |
Has Crop | False |
Has Settings | True |
Highlight Recovery | 65 |
Hue Adjustment Aqua | 0 |
Hue Adjustment Blue | 0 |
Hue Adjustment Green | 0 |
Hue Adjustment Magenta | 0 |
Hue Adjustment Orange | 0 |
Hue Adjustment Purple | 0 |
Hue Adjustment Red | 0 |
Hue Adjustment Yellow | 0 |
Hyperfocal Distance | 82.58 m |
ISO | 400 |
Image Number | 0 |
Image Size | 3269x4534 |
Incremental Temperature | -43 |
Incremental Tint | -11 |
Lens | EF100mm f/2.8L Macro IS USM |
Lens ID | Canon EF 100mm f/2.8L Macro IS USM |
Lens Info | 100mm f/? |
Light Value | 13.3 |
Luminance Adjustment Aqua | 0 |
Luminance Adjustment Blue | 0 |
Luminance Adjustment Green | 0 |
Luminance Adjustment Magenta | 0 |
Luminance Adjustment Orange | 0 |
Luminance Adjustment Purple | 0 |
Luminance Adjustment Red | 0 |
Luminance Adjustment Yellow | 0 |
Luminance Smoothing | 0 |
Metering Mode | Partial |
Parametric Darks | -8 |
Parametric Highlight Split | 75 |
Parametric Highlights | +39 |
Parametric Lights | 0 |
Parametric Midtone Split | 50 |
Parametric Shadow Split | 25 |
Parametric Shadows | -28 |
Post Crop Vignette Amount | 0 |
Red Hue | 0 |
Red Saturation | 0 |
Related Image Height | 5184 |
Related Image Width | 3456 |
Saturation | -50 |
Saturation Adjustment Aqua | -100 |
Saturation Adjustment Blue | -100 |
Saturation Adjustment Green | -100 |
Saturation Adjustment Magenta | -100 |
Saturation Adjustment Orange | -45 |
Saturation Adjustment Purple | -100 |
Saturation Adjustment Red | +25 |
Saturation Adjustment Yellow | -100 |
Scale Factor To 35 mm Equivalent | 1.8 |
Scene Capture Type | Standard |
Shadow Tint | 0 |
Shadows | 9 |
Sharpen Detail | 25 |
Sharpen Edge Masking | 0 |
Sharpen Radius | +1.0 |
Sharpness | 0 |
Split Toning Balance | -85 |
Split Toning Highlight Hue | 0 |
Split Toning Highlight Saturation | 24 |
Split Toning Shadow Hue | 54 |
Split Toning Shadow Saturation | 24 |
Subject Distance | 1.17 m |
Tone Curve | 0, 0, 255, 255 |
Tone Curve Name | Linear |
Version | 5.7 |
Vibrance | 0 |
Vignette Amount | -100 |
Vignette Midpoint | 33 |
White Balance | Auto |