Shooting information for this photo
Camera: | Canon EOS 7D |
Exposure: | 0.002 sec. (1/500) |
Aperture: | f/5.6 |
Focal Length: | 100.0 mm (35 mm equivalent: 313.3 mm) |
Flash: | Off, Did not fire |
Exposure mode: | Program AE |
Max Aperture: | 2.8 |
Resolution: | 240 x 240 dpi |
Dimension: | 2624 x 1692 pixels |
Original Date: | 2012:06:25 16:24:18.00 |
Created on: | 2012:06:25 16:24:18.00 |
Modified on: | 2012:10:05 00:34:28 |
Software: | Adobe Photoshop CS5 Macintosh |
Already Applied | True |
Approximate Focus Distance | 0.31 |
Artist | CHAUD Dominique DOMCHO |
Blue Hue | 0 |
Blue Saturation | 0 |
Brightness | 0 |
Camera Profile | Adobe Standard |
Chromatic Aberration B | 0 |
Chromatic Aberration R | 0 |
Circle Of Confusion | 0.010 mm |
Clarity | +8 |
Color Mode | RGB |
Color Noise Reduction | 25 |
Color Noise Reduction Detail | 50 |
Color Space | Uncalibrated |
Color Temperature | 5800 |
Contrast | +38 |
Convert To Grayscale | False |
Creator | CHAUD Dominique DOMCHO |
Crop Angle | -19.002926 |
Crop Bottom | 0.656014 |
Crop Constrain To Warp | 1 |
Crop Left | 0.06974 |
Crop Right | 0.647257 |
Crop Top | 0.445828 |
Custom Rendered | Normal |
Defringe | 0 |
Depth Of Field | 0.00 m (0.31 - 0.31) |
Exposure | -0.15 |
Exposure Compensation | -1/3 |
Exposure Mode | Auto |
Field Of View | 6.6 deg |
Fill Light | 33 |
Firmware | 1.2.5 |
Flash Compensation | 0 |
Format | image/jpeg |
Grain Amount | 0 |
Green Hue | 0 |
Green Saturation | 0 |
Has Crop | True |
Has Settings | True |
Highlight Recovery | 22 |
Hue Adjustment Aqua | 0 |
Hue Adjustment Blue | 0 |
Hue Adjustment Green | 0 |
Hue Adjustment Magenta | 0 |
Hue Adjustment Orange | 0 |
Hue Adjustment Purple | 0 |
Hue Adjustment Red | 0 |
Hue Adjustment Yellow | 0 |
Hyperfocal Distance | 186.19 m |
ICC Profile Name | Adobe RGB (1998) |
ISO | 500 |
Image Number | 0 |
Image Size | 2624x1692 |
Lens | EF100mm f/2.8L Macro IS USM |
Lens ID | Canon EF 100mm f/2.8L Macro IS USM |
Lens Info | 100mm f/? |
Lens Manual Distortion Amount | 0 |
Lens Model | EF100mm f/2.8L Macro IS USM |
Lens Profile Chromatic Aberration Scale | 100 |
Lens Profile Distortion Scale | 100 |
Lens Profile Enable | 1 |
Lens Profile Filename | Canon EOS 5D Mark II (Canon EF 100mm f2.8 L Macro IS USM) - RAW.lcp |
Lens Profile Name | Adobe (Canon EF 100mm f2.8 L Macro IS USM) |
Lens Profile Setup | LensDefaults |
Lens Profile Vignetting Scale | 100 |
Light Value | 11.6 |
Luminance Adjustment Aqua | 0 |
Luminance Adjustment Blue | 0 |
Luminance Adjustment Green | 0 |
Luminance Adjustment Magenta | 0 |
Luminance Adjustment Orange | 0 |
Luminance Adjustment Purple | 0 |
Luminance Adjustment Red | 0 |
Luminance Adjustment Yellow | 0 |
Luminance Smoothing | 0 |
Metering Mode | Multi-segment |
Parametric Darks | 0 |
Parametric Highlight Split | 77 |
Parametric Highlights | 0 |
Parametric Lights | 0 |
Parametric Midtone Split | 49 |
Parametric Shadow Split | 25 |
Parametric Shadows | 0 |
Perspective Horizontal | 0 |
Perspective Rotate | 0.0 |
Perspective Scale | 100 |
Perspective Vertical | 0 |
Photometric Interpretation | RGB |
Post Crop Vignette Amount | 0 |
Process Version | 5.7 |
Raw File Name | _MG_2899.CR2 |
Red Hue | 0 |
Red Saturation | 0 |
Related Image Height | 1662 |
Related Image Width | 2594 |
Samples Per Pixel | 3 |
Saturation | 0 |
Saturation Adjustment Aqua | 0 |
Saturation Adjustment Blue | 0 |
Saturation Adjustment Green | 0 |
Saturation Adjustment Magenta | 0 |
Saturation Adjustment Orange | 0 |
Saturation Adjustment Purple | 0 |
Saturation Adjustment Red | 0 |
Saturation Adjustment Yellow | 0 |
Scale Factor To 35 mm Equivalent | 3.1 |
Scene Capture Type | Standard |
Shadow Tint | 0 |
Shadows | 6 |
Sharpen Detail | 25 |
Sharpen Edge Masking | 0 |
Sharpen Radius | +1.0 |
Sharpness | 37 |
Split Toning Balance | 0 |
Split Toning Highlight Hue | 0 |
Split Toning Highlight Saturation | 0 |
Split Toning Shadow Hue | 0 |
Split Toning Shadow Saturation | 0 |
Subject Distance | 0.31 m |
Tint | +18 |
Tone Curve | 0, 0, 32, 22, 64, 56, 128, 128, 192, 196, 255, 255 |
Tone Curve Name | Medium Contrast |
Version | 6.6 |
Vibrance | 0 |
Vignette Amount | 0 |
White Balance | As Shot |