Shooting information for this photo
Camera: | SONY ILCE-7C |
Exposure: | 0.00625 sec. (1/160) |
Aperture: | f/5.6 |
Focal Length: | 60.0 mm (35 mm equivalent: 60.0 mm) |
Flash: | Off, Did not fire |
Exposure mode: | Aperture-priority AE |
Max Aperture: | 5.6 |
Resolution: | 72 x 72 dpi |
Original Date: | 2025:01:08 11:40:58.249 |
Created on: | 2025:01:08 11:40:58.249 |
Modified on: | 2025:03:22 18:56:34 |
Software: | Adobe Photoshop Lightroom Classic 14.2 (Windows) |
Already Applied | True |
Auto Lateral CA | 1 |
Blacks 2012 | -20 |
Blue Hue | 0 |
Blue Saturation | +14 |
Brightness Value | 8.48203125 |
Camera Profile | Adobe Standard |
Circle Of Confusion | 0.030 mm |
Clarity 2012 | +26 |
Color Grade Blending | 50 |
Color Grade Global Hue | 0 |
Color Grade Global Lum | 0 |
Color Grade Global Sat | 0 |
Color Grade Highlight Lum | 0 |
Color Grade Midtone Hue | 0 |
Color Grade Midtone Lum | +7 |
Color Grade Midtone Sat | 0 |
Color Grade Shadow Lum | 0 |
Color Noise Reduction | 25 |
Color Noise Reduction Detail | 50 |
Color Noise Reduction Smoothness | 50 |
Color Space | sRGB |
Color Temperature | 5650 |
Compatible Version | 268435456 |
Contrast | Normal |
Contrast 2012 | 0 |
Crop Angle | 0.07 |
Crop Bottom | 0.655227 |
Crop Constrain To Warp | 1 |
Crop Left | 0.080748 |
Crop Right | 0.731113 |
Crop Top | 0.075221 |
Custom Rendered | Normal |
Date Created | 2025:01:08 11:40:58.249+02:00 |
Dehaze | +30 |
Depth Map Info Base Highlight Guide Table | 9BFC3F9EEB74F883877DE39B7A7760 9F |
Depth Map Info Base Highlight Guide Version | 1 |
Depth Map Info Base Layered Depth Table | 526DF04FD7860176F0C2BAF0052905 01 |
Depth Map Info Base Layered Depth Version | 1 |
Depth Map Info Base Raw Depth Table | B2DEE40FBCC5FC1CA31B14B93097F2 9C |
Depth Map Info Base Raw Depth Version | 12 |
Depth Map Info Depth Source | 2 |
Digital Zoom Ratio | 1 |
Distortion Correction Already Applied | True |
Exposure 2012 | +0.38 |
Exposure Compensation | 0 |
Exposure Mode | Auto |
Field Of View | 33.4 deg |
Focal Length In 35mm Format | 60 mm |
Format | image/jpeg |
Grain Amount | 0 |
Gray Mixer Aqua | 0 |
Gray Mixer Blue | 0 |
Gray Mixer Green | 0 |
Gray Mixer Magenta | 0 |
Gray Mixer Orange | 0 |
Gray Mixer Purple | 0 |
Gray Mixer Red | 0 |
Gray Mixer Yellow | 0 |
Green Hue | 0 |
Green Saturation | +23 |
HDR Edit Mode | 0 |
Has Crop | True |
Has Settings | True |
Highlights 2012 | 0 |
Hyperfocal Distance | 21.40 m |
ISO | 100 |
Image Size | 2400x1423 |
Label | Violet |
Lateral Chromatic Aberration Correction Already Applied | True |
Lens | FE 28-60mm F4-5.6 |
Lens Blur Active | true |
Lens Blur Blur Amount | 50 |
Lens Blur Bokeh Aspect | 0 |
Lens Blur Bokeh Rotation | 0 |
Lens Blur Bokeh Shape | 0 |
Lens Blur Bokeh Shape Detail | 0 |
Lens Blur Cat Eye Amount | 0 |
Lens Blur Cat Eye Scale | 100 |
Lens Blur Focal Range | -75 5 46 126 |
Lens Blur Focal Range Source | 3 |
Lens Blur Highlights Boost | 56 |
Lens Blur Highlights Threshold | 50 |
Lens Blur Image Orientation | 0 |
Lens Blur Sampled Area | -0.216818 -0.762372 1.783182 1.237628 |
Lens Blur Sampled Range | 5 53 |
Lens Blur Spherical Aberration | 80 |
Lens Blur Subject Range | 5 53 |
Lens Blur Version | 1 |
Lens Distort Info | 32812/32768 -5901844/1073741824 3447918/1073741824 249294/1073741824 |
Lens Info | 28-60mm f/4-5.6 |
Lens Manual Distortion Amount | 0 |
Lens Model | FE 28-60mm F4-5.6 |
Lens Profile Distortion Scale | 100 |
Lens Profile Enable | 1 |
Lens Profile Filename | SONY (Sony FE 28-60mm F4-5.6) - RAW.lcp |
Lens Profile Is Embedded | False |
Lens Profile Name | Adobe (Sony FE 28-60mm F4-5.6) |
Lens Profile Setup | LensDefaults |
Lens Profile Vignetting Scale | 100 |
Light Source | Unknown |
Light Value | 12.3 |
Look Amount | 1 |
Look Cluster | Adobe |
Look Copyright | Adobe 2023 |
Look Group | B&W |
Look Name | B&W Red Filter v2 |
Look Parameters Clarity 2012 | +8 |
Look Parameters Convert To Grayscale | True |
Look Parameters Gray Mixer Aqua | 0 |
Look Parameters Gray Mixer Blue | 0 |
Look Parameters Gray Mixer Green | 0 |
Look Parameters Gray Mixer Magenta | 0 |
Look Parameters Gray Mixer Orange | 0 |
Look Parameters Gray Mixer Purple | 0 |
Look Parameters Gray Mixer Red | 0 |
Look Parameters Gray Mixer Yellow | 0 |
Look Parameters Look Table | A60F10E7696424528F958222E1448A F8 |
Look Parameters Process Version | 15.4 |
Look Parameters Tone Curve PV2012 | 0, 0, 64, 56, 128, 128, 192, 197, 255, 255 |
Look Parameters Tone Curve PV2012 Blue | 0, 0, 255, 255 |
Look Parameters Tone Curve PV2012 Green | 0, 0, 255, 255 |
Look Parameters Tone Curve PV2012 Red | 0, 0, 255, 255 |
Look Parameters Version | 17.2 |
Look Sort Name | B&W 55 |
Look Supports Monochrome | false |
Luminance Smoothing | 0 |
Metering Mode | Multi-segment |
Override Look Vignette | False |
Parametric Darks | 0 |
Parametric Highlight Split | 75 |
Parametric Highlights | 0 |
Parametric Lights | 0 |
Parametric Midtone Split | 50 |
Parametric Shadow Split | 25 |
Parametric Shadows | 0 |
Perspective Aspect | 0 |
Perspective Horizontal | 0 |
Perspective Rotate | 0.0 |
Perspective Scale | 100 |
Perspective Upright | 1 |
Perspective Vertical | 0 |
Perspective X | 0.00 |
Perspective Y | 0.00 |
Pick | 0 |
Point Colors | -1.000000, -1.000000, -1.000000, -1.000000, -1.000000, -1.000000, -1.000000, -1.000000, -1.000000, -1.000000, -1.000000, -1.000000, -1.000000, -1.000000, -1.000000, -1.000000, -1.000000, -1.000000, -1.000000 |
Post Crop Vignette Amount | 0 |
Preserved File Name | A7C03604.ARW |
Process Version | 15.4 |
Rating | 5 |
Raw File Name | sans titre-541.dng |
Recommended Exposure Index | 100 |
Red Hue | 0 |
Red Saturation | +18 |
Region Applied To Dimensions H | 2315 |
Region Applied To Dimensions Unit | pixel |
Region Applied To Dimensions W | 3905 |
Region Area H | 0.14223, 0.17989 |
Region Area W | 0.08578, 0.10646 |
Region Area X | 0.13867, 0.79888 |
Region Area Y | 0.36234, 0.14030 |
Region Rotation | -0.00122 |
Region Type | Face, Face |
Saturation | Normal |
Scale Factor To 35 mm Equivalent | 1.0 |
Scene Capture Type | Standard |
Scene Type | Directly photographed |
Sensitivity Type | Recommended Exposure Index |
Shadow Tint | 0 |
Shadows 2012 | +93 |
Sharpen Detail | 25 |
Sharpen Edge Masking | 80 |
Sharpen Radius | +1.0 |
Sharpness | Normal |
Split Toning Balance | 0 |
Split Toning Highlight Hue | 0 |
Split Toning Highlight Saturation | 0 |
Split Toning Shadow Hue | 0 |
Split Toning Shadow Saturation | 0 |
Subject | marché prigonrieux rue |
Texture | +8 |
Tint | +5 |
Tone Curve Name 2012 | Linear |
Tone Curve PV2012 | 0, 0, 255, 255 |
Tone Curve PV2012 Blue | 0, 0, 255, 255 |
Tone Curve PV2012 Green | 0, 0, 255, 255 |
Tone Curve PV2012 Red | 0, 0, 255, 255 |
Version | 17.2 |
Vibrance | +26 |
Vignette Amount | 0 |
Vignette Correction Already Applied | True |
Weighted Flat Subject | marché prigonrieux rue |
White Balance | Manual |
Whites 2012 | +10 |