Shooting information for this photo
Camera: | SONY ILCE-7C |
Exposure: | 0.125 sec. (1/8) |
Aperture: | f/18.0 |
Focal Length: | 73.0 mm (35 mm equivalent: 73.0 mm) |
Flash: | Off, Did not fire |
Exposure mode: | Shutter speed priority AE |
Max Aperture: | 2.8 |
Resolution: | 72 x 72 dpi |
Original Date: | 2025:03:10 16:15:55.718 |
Created on: | 2025:03:10 16:15:55.718 |
Modified on: | 2025:03:07 17:27:39 |
Software: | Adobe Photoshop Lightroom Classic 14.2 (Windows) |
Already Applied | True |
Auto Lateral CA | 1 |
Blacks 2012 | +100 |
Blue Hue | 0 |
Blue Saturation | +27 |
Brightness Value | 7.45859375 |
Camera Profile | Adobe Standard |
Circle Of Confusion | 0.030 mm |
Clarity 2012 | +26 |
Color Grade Blending | 50 |
Color Grade Global Hue | 0 |
Color Grade Global Lum | 0 |
Color Grade Global Sat | 0 |
Color Grade Highlight Lum | 0 |
Color Grade Midtone Hue | 0 |
Color Grade Midtone Lum | +7 |
Color Grade Midtone Sat | 0 |
Color Grade Shadow Lum | 0 |
Color Noise Reduction | 25 |
Color Noise Reduction Detail | 50 |
Color Noise Reduction Smoothness | 50 |
Color Space | Uncalibrated |
Color Temperature | 5650 |
Compatible Version | 268632064 |
Contrast | Normal |
Contrast 2012 | 0 |
Crop Angle | 0 |
Crop Bottom | 1 |
Crop Constrain To Warp | 0 |
Crop Left | 0.056 |
Crop Right | 0.944 |
Crop Top | 0 |
Custom Rendered | Normal |
Date Created | 2025:03:10 16:15:55.718+02:00 |
Defringe Green Amount | 0 |
Defringe Green Hue Hi | 60 |
Defringe Green Hue Lo | 40 |
Defringe Purple Amount | 0 |
Defringe Purple Hue Hi | 70 |
Defringe Purple Hue Lo | 30 |
Dehaze | +35 |
Digital Zoom Ratio | 1 |
Distortion Correction Already Applied | True |
Exposure 2012 | +0.38 |
Exposure Compensation | +1.3 |
Exposure Mode | Auto |
Field Of View | 27.7 deg |
Focal Length In 35mm Format | 73 mm |
Format | image/jpeg |
Grain Amount | 0 |
Grain Frequency | 50 |
Grain Size | 25 |
Green Hue | +32 |
Green Saturation | +55 |
HDR Edit Mode | 0 |
Has Crop | True |
Has Extended XMP | C803EF356477C44D8D4A6A05D6B723 06 |
Has Settings | True |
Highlights 2012 | -100 |
Hue Adjustment Aqua | 0 |
Hue Adjustment Blue | 0 |
Hue Adjustment Green | 0 |
Hue Adjustment Magenta | 0 |
Hue Adjustment Orange | 0 |
Hue Adjustment Purple | 0 |
Hue Adjustment Red | 0 |
Hue Adjustment Yellow | 0 |
Hyperfocal Distance | 9.85 m |
ISO | 100 |
Image Size | 1920x1441 |
Lateral Chromatic Aberration Correction Already Applied | True |
Lens | E 70-180mm F2.8 A065 |
Lens Distort Info | 1047644494/1073741824 25023935/1073741824 -191100/1073741824 1246578/1073741824 |
Lens Info | 70-180mm f/2.8 |
Lens Manual Distortion Amount | 0 |
Lens Model | E 70-180mm F2.8 A065 |
Lens Profile Distortion Scale | 100 |
Lens Profile Enable | 1 |
Lens Profile Filename | SONY (TAMRON 70-180mm F2.8 Di III VC VXD A065) - RAW.lcp |
Lens Profile Is Embedded | False |
Lens Profile Name | Adobe (TAMRON 70-180mm F2.8 Di III VC VXD A065, SONY) |
Lens Profile Setup | LensDefaults |
Lens Profile Vignetting Scale | 100 |
Light Source | Unknown |
Light Value | 11.3 |
Look Amount | 1 |
Look Copyright | © 2018 Adobe Systems, Inc. |
Look Group | Profiles |
Look Name | Adobe Color |
Look Parameters Camera Profile | Adobe Standard |
Look Parameters Convert To Grayscale | False |
Look Parameters Look Table | E1095149FDB39D7A057BAB208837E2 E1 |
Look Parameters Process Version | 15.4 |
Look Parameters Tone Curve PV2012 | 0, 0, 22, 16, 40, 35, 127, 127, 224, 230, 240, 246, 255, 255 |
Look Parameters Tone Curve PV2012 Blue | 0, 0, 255, 255 |
Look Parameters Tone Curve PV2012 Green | 0, 0, 255, 255 |
Look Parameters Tone Curve PV2012 Red | 0, 0, 255, 255 |
Look Parameters Version | 17.2 |
Look Supports Amount | false |
Look Supports Monochrome | false |
Look Supports Output Referred | false |
Luminance Adjustment Aqua | 0 |
Luminance Adjustment Blue | 0 |
Luminance Adjustment Green | 0 |
Luminance Adjustment Magenta | 0 |
Luminance Adjustment Orange | 0 |
Luminance Adjustment Purple | 0 |
Luminance Adjustment Red | 0 |
Luminance Adjustment Yellow | 0 |
Luminance Smoothing | 0 |
Metering Mode | Multi-segment |
Override Look Vignette | False |
Parametric Darks | 0 |
Parametric Highlight Split | 75 |
Parametric Highlights | 0 |
Parametric Lights | 0 |
Parametric Midtone Split | 50 |
Parametric Shadow Split | 25 |
Parametric Shadows | 0 |
Perspective Aspect | 0 |
Perspective Horizontal | 0 |
Perspective Rotate | 0.0 |
Perspective Scale | 100 |
Perspective Upright | 0 |
Perspective Vertical | 0 |
Perspective X | 0.00 |
Perspective Y | 0.00 |
Pick | 0 |
Point Colors | -1.000000, -1.000000, -1.000000, -1.000000, -1.000000, -1.000000, -1.000000, -1.000000, -1.000000, -1.000000, -1.000000, -1.000000, -1.000000, -1.000000, -1.000000, -1.000000, -1.000000, -1.000000, -1.000000 |
Post Crop Vignette Amount | 0 |
Preserved File Name | A7C03760.ARW |
Process Version | 15.4 |
Raw File Name | sans titre-14.ARW |
Recommended Exposure Index | 100 |
Red Hue | 0 |
Red Saturation | +18 |
Remove Areas Fill method | firefly |
Remove Areas Ingest Info | 7E4A47088B17C506A62B9EF746D9A6 CA |
Remove Areas Masks Center Weight | 1 |
Remove Areas Masks Flow | 1 |
Remove Areas Masks Gesture Brush Gesture Interpretation | 0 |
Remove Areas Masks Gesture Center Weight | 0 |
Remove Areas Masks Gesture Flow | 1 |
Remove Areas Masks Gesture Mask Active | true |
Remove Areas Masks Gesture Mask Blend Mode | 0 |
Remove Areas Masks Gesture Mask Inverted | false |
Remove Areas Masks Gesture Mask Sync ID | 478292B011BEBE45849DE6FF16759B A0 |
Remove Areas Masks Gesture Mask Value | 1 |
Remove Areas Masks Gesture Radius | 0 |
Remove Areas Masks Gesture What | Mask/Paint |
Remove Areas Masks Mask Active | true |
Remove Areas Masks Mask Blend Mode | 0 |
Remove Areas Masks Mask Inverted | false |
Remove Areas Masks Mask Sub Type | 0 |
Remove Areas Masks Mask Sync ID | 782E129F39CB224CACAF85DB2E2DF6 4B |
Remove Areas Masks Mask Value | 1 |
Remove Areas Masks Mask Version | 1 |
Remove Areas Masks Model Version | 234881976 |
Remove Areas Masks Origin | 1844,1180 |
Remove Areas Masks Radius | 0.00415 |
Remove Areas Masks Reference Point | 0.647062 0.626859 |
Remove Areas Masks What | Mask/Paint |
Remove Areas Masks Whole Image Area | 0/1,0/1,1920/1,2880/1 |
Remove Areas Opacity | 1 |
Remove Areas Pm black level | 2048 |
Remove Areas Pm clio model version | 1.0.5-beta.1-1.2_1.2-8c2cea4-0 .1.27.1r16.2 |
Remove Areas Pm gamma type | 1 |
Remove Areas Pm mask remap info | 0.000000000,1.000000000,0.0000 00000,1.000000000 |
Remove Areas Pm patch | 7021D6A2113A6D956F550FFA0DADC0 5C |
Remove Areas Pm patch mask | 9C8EA5A02DCAC48CFD3C39CA405B96 8E |
Remove Areas Pm patch variations Pm patch variation | 7BDB1C8C43F40CCB2B15C6A48D0A77 64 |
Remove Areas Pm remap info 0 | 0.154329747,0.301441967,0.0000 00000,1.000000000 |
Remove Areas Pm remap info 1 | 0.346684992,0.741542697,0.0000 00000,1.000000000 |
Remove Areas Pm remap info 2 | 0.224155039,0.503395140,0.0000 00000,1.000000000 |
Remove Areas Pm remap info variation 0 0 | 0.149813071,0.293308914,0.0000 00000,1.000000000 |
Remove Areas Pm remap info variation 0 1 | 0.341176480,0.718471050,0.0000 00000,1.000000000 |
Remove Areas Pm remap info variation 0 2 | 0.218722820,0.482200354,0.0000 00000,1.000000000 |
Remove Areas Pm remap info variation 1 0 | 0.156572819,0.290333420,0.0000 00000,1.000000000 |
Remove Areas Pm remap info variation 1 1 | 0.352147698,0.704646349,0.0000 00000,1.000000000 |
Remove Areas Pm remap info variation 1 2 | 0.229526207,0.473044932,0.0000 00000,1.000000000 |
Remove Areas Pm search bottom | 2980 |
Remove Areas Pm search left | 3810 |
Remove Areas Pm search right | 3912 |
Remove Areas Pm search top | 2878 |
Remove Areas Pm source type | full |
Remove Areas Pm target bottom | 2960 |
Remove Areas Pm target left | 3831 |
Remove Areas Pm target right | 3886 |
Remove Areas Pm target top | 2899 |
Remove Areas Pm version | 327680 |
Remove Areas Pm whole image bottom | 4012 |
Remove Areas Pm whole image left | 12 |
Remove Areas Pm whole image right | 6012 |
Remove Areas Pm whole image top | 12 |
Remove Areas Seed | 1 |
Remove Areas Source State | sourceAutoComputed |
Remove Areas Spot Type | heal_patchmatch |
Saturation | Normal |
Saturation Adjustment Aqua | 0 |
Saturation Adjustment Blue | 0 |
Saturation Adjustment Green | 0 |
Saturation Adjustment Magenta | 0 |
Saturation Adjustment Orange | 0 |
Saturation Adjustment Purple | 0 |
Saturation Adjustment Red | 0 |
Saturation Adjustment Yellow | 0 |
Scale Factor To 35 mm Equivalent | 1.0 |
Scene Capture Type | Standard |
Scene Type | Directly photographed |
Sensitivity Type | Recommended Exposure Index |
Shadow Tint | +10 |
Shadows 2012 | -6 |
Sharpen Detail | 30 |
Sharpen Edge Masking | 90 |
Sharpen Radius | +1.1 |
Sharpness | Normal |
Split Toning Balance | 0 |
Split Toning Highlight Hue | 0 |
Split Toning Highlight Saturation | 0 |
Split Toning Shadow Hue | 0 |
Split Toning Shadow Saturation | 0 |
Subject | pombonne |
Texture | +8 |
Tint | +5 |
Tone Curve Name 2012 | Linear |
Tone Curve PV2012 | 0, 0, 255, 255 |
Tone Curve PV2012 Blue | 0, 0, 255, 255 |
Tone Curve PV2012 Green | 0, 0, 255, 255 |
Tone Curve PV2012 Red | 0, 0, 255, 255 |
Version | 17.2 |
Vibrance | +26 |
Vignette Amount | 0 |
Vignette Correction Already Applied | True |
Weighted Flat Subject | pombonne |
White Balance | Manual |
Whites 2012 | -2 |