Shooting information for this photo
Camera: | SONY ILCE-7C |
Exposure: | 0.0125 sec. (1/80) |
Aperture: | f/5.6 |
Focal Length: | 28.0 mm (35 mm equivalent: 28.0 mm) |
Flash: | Off, Did not fire |
Exposure mode: | Aperture-priority AE |
Max Aperture: | 4.0 |
Resolution: | 72 x 72 dpi |
Original Date: | 2025:02:24 17:23:03.363 |
Created on: | 2025:02:24 17:23:03.363 |
Modified on: | 2025:02:24 17:33:39 |
Software: | Adobe Photoshop Lightroom Classic 14.2 (Windows) |
Already Applied | True |
Auto Lateral CA | 1 |
Blacks 2012 | -20 |
Blue Hue | 0 |
Blue Saturation | +14 |
Brightness Value | 6.353125 |
Camera Profile | Adobe Standard |
Circle Of Confusion | 0.030 mm |
Clarity 2012 | +26 |
Color Grade Blending | 50 |
Color Grade Global Hue | 0 |
Color Grade Global Lum | 0 |
Color Grade Global Sat | 0 |
Color Grade Highlight Lum | 0 |
Color Grade Midtone Hue | 0 |
Color Grade Midtone Lum | +7 |
Color Grade Midtone Sat | 0 |
Color Grade Shadow Lum | 0 |
Color Noise Reduction | 25 |
Color Noise Reduction Detail | 50 |
Color Noise Reduction Smoothness | 50 |
Color Space | Uncalibrated |
Color Temperature | 5800 |
Compatible Version | 268632064 |
Contrast | Normal |
Contrast 2012 | 0 |
Crop Angle | 0 |
Crop Bottom | 0.756885 |
Crop Constrain To Warp | 0 |
Crop Left | 0.159797 |
Crop Right | 0.890835 |
Crop Top | 0.131054 |
Custom Rendered | Normal |
Date Created | 2025:02:24 17:23:03.363+02:00 |
Defringe Green Amount | 0 |
Defringe Green Hue Hi | 60 |
Defringe Green Hue Lo | 40 |
Defringe Purple Amount | 0 |
Defringe Purple Hue Hi | 70 |
Defringe Purple Hue Lo | 30 |
Dehaze | +30 |
Digital Zoom Ratio | 1 |
Distortion Correction Already Applied | True |
Exposure 2012 | +0.38 |
Exposure Compensation | -0.3 |
Exposure Mode | Auto |
Field Of View | 65.5 deg |
Focal Length In 35mm Format | 28 mm |
Format | image/jpeg |
Grain Amount | 0 |
Green Hue | 0 |
Green Saturation | +23 |
HDR Edit Mode | 0 |
Has Crop | True |
Has Settings | True |
Highlights 2012 | 0 |
Hue Adjustment Aqua | 0 |
Hue Adjustment Blue | 0 |
Hue Adjustment Green | 0 |
Hue Adjustment Magenta | 0 |
Hue Adjustment Orange | 0 |
Hue Adjustment Purple | 0 |
Hue Adjustment Red | 0 |
Hue Adjustment Yellow | 0 |
Hyperfocal Distance | 4.66 m |
ISO | 100 |
Image Size | 1920x1096 |
Lateral Chromatic Aberration Correction Already Applied | True |
Lens | FE 28-60mm F4-5.6 |
Lens Distort Info | 33785/32768 -119106022/1073741824 36214188/1073741824 -7719330/1073741824 |
Lens Info | 28-60mm f/4-5.6 |
Lens Manual Distortion Amount | 0 |
Lens Model | FE 28-60mm F4-5.6 |
Lens Profile Distortion Scale | 100 |
Lens Profile Enable | 1 |
Lens Profile Filename | SONY (Sony FE 28-60mm F4-5.6) - RAW.lcp |
Lens Profile Is Embedded | False |
Lens Profile Name | Adobe (Sony FE 28-60mm F4-5.6) |
Lens Profile Setup | LensDefaults |
Lens Profile Vignetting Scale | 100 |
Light Source | Unknown |
Light Value | 11.3 |
Look Amount | 1 |
Look Copyright | © 2018 Adobe Systems, Inc. |
Look Group | Profiles |
Look Name | Adobe Color |
Look Parameters Camera Profile | Adobe Standard |
Look Parameters Convert To Grayscale | False |
Look Parameters Look Table | E1095149FDB39D7A057BAB208837E2 E1 |
Look Parameters Process Version | 15.4 |
Look Parameters Tone Curve PV2012 | 0, 0, 22, 16, 40, 35, 127, 127, 224, 230, 240, 246, 255, 255 |
Look Parameters Tone Curve PV2012 Blue | 0, 0, 255, 255 |
Look Parameters Tone Curve PV2012 Green | 0, 0, 255, 255 |
Look Parameters Tone Curve PV2012 Red | 0, 0, 255, 255 |
Look Parameters Version | 17.2 |
Look Supports Amount | false |
Look Supports Monochrome | false |
Look Supports Output Referred | false |
Luminance Adjustment Aqua | 0 |
Luminance Adjustment Blue | 0 |
Luminance Adjustment Green | 0 |
Luminance Adjustment Magenta | 0 |
Luminance Adjustment Orange | 0 |
Luminance Adjustment Purple | 0 |
Luminance Adjustment Red | 0 |
Luminance Adjustment Yellow | 0 |
Luminance Smoothing | 0 |
Metering Mode | Average |
Override Look Vignette | False |
Parametric Darks | 0 |
Parametric Highlight Split | 75 |
Parametric Highlights | 0 |
Parametric Lights | 0 |
Parametric Midtone Split | 50 |
Parametric Shadow Split | 25 |
Parametric Shadows | 0 |
Perspective Aspect | 0 |
Perspective Horizontal | 0 |
Perspective Rotate | 0.0 |
Perspective Scale | 100 |
Perspective Upright | 0 |
Perspective Vertical | 0 |
Perspective X | 0.00 |
Perspective Y | 0.00 |
Pick | 0 |
Point Colors | -1.000000, -1.000000, -1.000000, -1.000000, -1.000000, -1.000000, -1.000000, -1.000000, -1.000000, -1.000000, -1.000000, -1.000000, -1.000000, -1.000000, -1.000000, -1.000000, -1.000000, -1.000000, -1.000000 |
Post Crop Vignette Amount | 0 |
Preserved File Name | _A7C3687.ARW |
Process Version | 15.4 |
Raw File Name | _A7C3687.ARW |
Recommended Exposure Index | 100 |
Red Hue | 0 |
Red Saturation | +18 |
Remove Areas Masks Gesture Brush Gesture Interpretation | 0 |
Remove Areas Masks Gesture Center Weight | 0 |
Remove Areas Masks Gesture Flow | 1 |
Remove Areas Masks Gesture Mask Active | true |
Remove Areas Masks Gesture Mask Blend Mode | 0 |
Remove Areas Masks Gesture Mask Inverted | false |
Remove Areas Masks Gesture Mask Sync ID | 5EDDCFF76F10944996213B2D019B04 71 |
Remove Areas Masks Gesture Mask Value | 1 |
Remove Areas Masks Gesture Radius | 0 |
Remove Areas Masks Gesture What | Mask/Paint |
Remove Areas Masks Mask Active | true |
Remove Areas Masks Mask Blend Mode | 0 |
Remove Areas Masks Mask Inverted | false |
Remove Areas Masks Mask Sub Type | 0 |
Remove Areas Masks Mask Sync ID | 25DB8CA597044240BB2CEA4CC11FD1 FD |
Remove Areas Masks Mask Value | 1 |
Remove Areas Masks Mask Version | 1 |
Remove Areas Masks Model Version | 234881976 |
Remove Areas Masks Origin | 2184,95 |
Remove Areas Masks Reference Point | 0.828662 0.150472 |
Remove Areas Masks What | Mask/Image |
Remove Areas Masks Whole Image Area | 0/1,0/1,1920/1,2880/1 |
Remove Areas Opacity | 1 |
Remove Areas Pm black level | 2048 |
Remove Areas Pm gamma type | 1 |
Remove Areas Pm patch | 05EED0B2F9417C6D2C29F08BF1AB44 D0 |
Remove Areas Pm remap info 0 | 0.030334935,0.187518120,0.0000 00000,1.000000000 |
Remove Areas Pm remap info 1 | 0.029236287,0.415701538,0.0000 00000,1.000000000 |
Remove Areas Pm remap info 2 | 0.026962692,0.288242936,0.0000 00000,1.000000000 |
Remove Areas Pm search bottom | 3408 |
Remove Areas Pm search left | 2642 |
Remove Areas Pm search right | 6048 |
Remove Areas Pm search top | 0 |
Remove Areas Pm source type | full |
Remove Areas Pm target bottom | 1060 |
Remove Areas Pm target left | 4562 |
Remove Areas Pm target right | 5416 |
Remove Areas Pm target top | 210 |
Remove Areas Pm version | 327680 |
Remove Areas Pm whole image bottom | 4012 |
Remove Areas Pm whole image left | 12 |
Remove Areas Pm whole image right | 6012 |
Remove Areas Pm whole image top | 12 |
Remove Areas Seed | 2 |
Remove Areas Source State | sourceAutoComputed |
Remove Areas Spot Type | heal_patchmatch |
Saturation | Normal |
Saturation Adjustment Aqua | 0 |
Saturation Adjustment Blue | 0 |
Saturation Adjustment Green | 0 |
Saturation Adjustment Magenta | 0 |
Saturation Adjustment Orange | 0 |
Saturation Adjustment Purple | 0 |
Saturation Adjustment Red | 0 |
Saturation Adjustment Yellow | 0 |
Scale Factor To 35 mm Equivalent | 1.0 |
Scene Capture Type | Standard |
Scene Type | Directly photographed |
Sensitivity Type | Recommended Exposure Index |
Shadow Tint | 0 |
Shadows 2012 | +93 |
Sharpen Detail | 25 |
Sharpen Edge Masking | 0 |
Sharpen Radius | +1.0 |
Sharpness | Normal |
Split Toning Balance | 0 |
Split Toning Highlight Hue | 0 |
Split Toning Highlight Saturation | 0 |
Split Toning Shadow Hue | 0 |
Split Toning Shadow Saturation | 0 |
Texture | +8 |
Tint | +6 |
Tone Curve Name 2012 | Linear |
Tone Curve PV2012 | 0, 0, 255, 255 |
Tone Curve PV2012 Blue | 0, 0, 255, 255 |
Tone Curve PV2012 Green | 0, 0, 255, 255 |
Tone Curve PV2012 Red | 0, 0, 255, 255 |
Version | 17.2 |
Vibrance | +26 |
Vignette Amount | 0 |
Vignette Correction Already Applied | True |
White Balance | Auto |
Whites 2012 | +10 |