Shooting information for this photo
Camera: | LEICA CAMERA AG LEICA Q2 MONO |
Exposure: | 0.01667 sec. (1/60) |
Aperture: | f/5.6 |
Focal Length: | 28.0 mm (35 mm equivalent: 28.0 mm) |
Flash: | Off, Did not fire |
Exposure mode: | Aperture-priority AE |
Max Aperture: | 1.7 |
Resolution: | 72 x 72 dpi |
Original Date: | 2021:06:05 18:15:53 |
Created on: | 2021:06:05 18:15:53 |
Modified on: | 2021:06:05 22:09:00 |
Software: | Adobe Photoshop Lightroom Classic 10.2 (Macintosh) |
Copyright: | Thomas Krull |
Already Applied | True |
Artist | Thomas Krull |
Blacks 2012 | 0 |
Circle Of Confusion | 0.030 mm |
Clarity 2012 | +60 |
Color Grade Blending | 50 |
Color Grade Global Hue | 0 |
Color Grade Global Lum | 0 |
Color Grade Global Sat | 0 |
Color Grade Highlight Lum | 0 |
Color Grade Midtone Hue | 0 |
Color Grade Midtone Lum | 0 |
Color Grade Midtone Sat | 0 |
Color Grade Shadow Lum | 0 |
Color Space | sRGB |
Contrast | Normal |
Contrast 2012 | 0 |
Creator | Thomas Krull |
Crop Angle | 0.171938 |
Crop Bottom | 1 |
Crop Constrain To Warp | 0 |
Crop Left | 0.003235 |
Crop Right | 0.996765 |
Crop Top | 0 |
Custom Rendered | Normal |
Dehaze | 0 |
Description | Still live at the local bar |
Digital Zoom Ratio | 1 |
Distortion Correction Already Applied | True |
Exposure 2012 | 0.00 |
Exposure Compensation | 0 |
Field Of View | 65.5 deg |
Focal Length In 35mm Format | 28 mm |
Format | image/jpeg |
Grain Amount | 0 |
Has Crop | True |
Has Settings | True |
Highlights 2012 | 0 |
Hyperfocal Distance | 4.66 m |
ISO | 200 |
Image Description | Still live at the local bar |
Image Size | 1024x683 |
Lens | SUMMILUX 1:1.7/28 ASPH. |
Lens Info | 28mm f/1.53125-2.97265625 |
Lens Manual Distortion Amount | 0 |
Lens Model | SUMMILUX 1:1.7/28 ASPH. |
Lens Profile Enable | 0 |
Light Source | Unknown |
Light Value | 9.9 |
Luminance Noise Reduction Contrast | 0 |
Luminance Noise Reduction Detail | 50 |
Luminance Smoothing | 5 |
Marked | True |
Metering Mode | Multi-segment |
Override Look Vignette | False |
Parametric Darks | 0 |
Parametric Highlight Split | 75 |
Parametric Highlights | 0 |
Parametric Lights | 0 |
Parametric Midtone Split | 50 |
Parametric Shadow Split | 25 |
Parametric Shadows | 0 |
Perspective Aspect | 0 |
Perspective Horizontal | 0 |
Perspective Rotate | 0.0 |
Perspective Scale | 100 |
Perspective Upright | 0 |
Perspective Vertical | 0 |
Perspective X | 0.00 |
Perspective Y | 0.00 |
Post Crop Vignette Amount | 0 |
Preserved File Name | L1000072.DNG |
Process Version | 11.0 |
Rights | Thomas Krull |
Scale Factor To 35 mm Equivalent | 1.0 |
Scene Capture Type | Standard |
Sensitivity Type | Standard Output Sensitivity |
Shadows 2012 | 0 |
Sharpen Detail | 25 |
Sharpen Edge Masking | 0 |
Sharpen Radius | +1.0 |
Sharpness | Normal |
Split Toning Balance | 0 |
Split Toning Highlight Hue | 0 |
Split Toning Highlight Saturation | 0 |
Split Toning Shadow Hue | 0 |
Split Toning Shadow Saturation | 0 |
Standard Output Sensitivity | 200 |
Subject | Deutschland, Eimsbüttel, Germany, Getränk, Hamburg, Kneipe, Sonnenseite, Weidenallee |
Texture | 0 |
Tone Curve Name 2012 | Linear |
Tone Curve PV2012 | 0, 0, 255, 255 |
Tone Curve PV2012 Blue | 0, 0, 255, 255 |
Tone Curve PV2012 Green | 0, 0, 255, 255 |
Tone Curve PV2012 Red | 0, 0, 255, 255 |
Version | 13.2 |
Vignette Amount | 0 |
Whites 2012 | 0 |
GPS Information |
GPS Altitude | 13 m |
GPS Latitude | 53 deg 34' 2.92" N |
GPS Latitude Ref | North |
GPS Longitude | 9 deg 57' 53.95" E |
GPS Longitude Ref | East |
GPS Position | 53 deg 34' 2.92" N, 9 deg 57' 53.95" E |
GPS Version ID | 2.2.0.0 |