Shooting information for this photo
Camera: | Canon EOS 620 |
Exposure: | 0.004 sec. (1/250) |
Aperture: | f/5.6 |
Focal Length: | 35.0 mm |
Flash: | Off, Did not fire, Return not detected |
Exposure mode: | Manual |
Resolution: | 300 x 300 dpi |
Dimension: | 1628 x 1104 pixels |
Original Date: | 1989:07:15 12:00:00 |
Digitized Date: | 1989:07:15 12:00:00-05:00 |
Created on: | 1989:07:15 12:00:00 |
Software: | Adobe Photoshop Lightroom 5.7.1 (Windows) |
Copyright: | Charles D Therit (c) 1987-2021 |
Already Applied | True |
Artist | Picasa |
Auto Lateral CA | 0 |
Auto White Version | 134348800 |
Base URL | https://www.flickr.com/photos/ ctofcsco |
Blacks 2012 | -7 |
Blue Hue | 0 |
Blue Saturation | 0 |
Camera Profile | Embedded |
Clarity 2012 | +55 |
Color Noise Reduction | 32 |
Color Noise Reduction Detail | 50 |
Color Noise Reduction Smoothness | 50 |
Color Space | sRGB |
Contrast 2012 | +12 |
Convert To Grayscale | False |
Country | United States |
Country Code | USA |
Creator | Picasa |
Date Acquired | 2010:05:19 20:10:29 |
Defringe Green Amount | 0 |
Defringe Green Hue Hi | 60 |
Defringe Green Hue Lo | 40 |
Defringe Purple Amount | 0 |
Defringe Purple Hue Hi | 70 |
Defringe Purple Hue Lo | 30 |
Description | USS Alabama Battleship Memorial Park</b>..Mobile, Alabama....https://www.ussalab ama.com |
Exposure 2012 | -0.36 |
Flash Fired | False |
Flash Mode | Off |
Flash Return | Return not detected |
Format | image/jpeg |
Grain Amount | 0 |
Green Hue | 0 |
Green Saturation | 0 |
Has Crop | False |
Has Settings | True |
Highlights 2012 | -79 |
Hue Adjustment Aqua | 0 |
Hue Adjustment Blue | 0 |
Hue Adjustment Green | 0 |
Hue Adjustment Magenta | 0 |
Hue Adjustment Orange | 0 |
Hue Adjustment Purple | 0 |
Hue Adjustment Red | 0 |
Hue Adjustment Yellow | 0 |
ISO | 64 |
Image Description | USS Alabama Battleship Memorial Park</b>.Mobile, Alabama..https://www.ussalabam a.com |
Image Size | 1628x1104 |
Incremental Temperature | +33 |
Incremental Tint | -5 |
Lens Manual Distortion Amount | 0 |
Lens Model | EF35-105mm f/3.5-4.5 |
Lens Profile Enable | 0 |
Lens Profile Setup | LensDefaults |
Light Value | 13.6 |
Location | Mobile |
Luminance Adjustment Aqua | 0 |
Luminance Adjustment Blue | 0 |
Luminance Adjustment Green | 0 |
Luminance Adjustment Magenta | 0 |
Luminance Adjustment Orange | 0 |
Luminance Adjustment Purple | 0 |
Luminance Adjustment Red | 0 |
Luminance Adjustment Yellow | 0 |
Luminance Noise Reduction Contrast | 15 |
Luminance Noise Reduction Detail | 50 |
Luminance Smoothing | 13 |
Parametric Darks | 0 |
Parametric Highlight Split | 75 |
Parametric Highlights | 0 |
Parametric Lights | 0 |
Parametric Midtone Split | 50 |
Parametric Shadow Split | 25 |
Parametric Shadows | 0 |
Perspective Aspect | 0 |
Perspective Horizontal | 0 |
Perspective Rotate | 0.0 |
Perspective Scale | 100 |
Perspective Upright | 0 |
Perspective Vertical | 0 |
Post Crop Vignette Amount | 0 |
Process Version | 6.7 |
Red Hue | 0 |
Red Saturation | 0 |
Related Image Height | 1076 |
Related Image Width | 1600 |
Rights | Charles D Therit (c) 1987-2021 |
Saturation | Normal |
Saturation Adjustment Aqua | 0 |
Saturation Adjustment Blue | 0 |
Saturation Adjustment Green | 0 |
Saturation Adjustment Magenta | 0 |
Saturation Adjustment Orange | 0 |
Saturation Adjustment Purple | 0 |
Saturation Adjustment Red | 0 |
Saturation Adjustment Yellow | 0 |
Shadow Tint | 0 |
Shadows 2012 | -29 |
Sharpen Detail | 32 |
Sharpen Edge Masking | 45 |
Sharpen Radius | +2.0 |
Sharpness | Normal |
Split Toning Balance | 0 |
Split Toning Highlight Hue | 0 |
Split Toning Highlight Saturation | 0 |
Split Toning Shadow Hue | 0 |
Split Toning Shadow Saturation | 0 |
State | Alabama |
Subject | 35mm, 35mm analog daylight, 420EZ, analog, ASA 64, Canon, color negative, Color Slide, Eastman Kodak, EF100-300mm f/5.6L, EF35-105mm f/3.5-4.5, EF50mm f/1.8, EOS, EOS 620, esplora, explore, explored, film, ISO64, K-14 process, Kodak Kodachrome 64 color positive slide film, scanned, United States, USA |
Title | Visiting Mobile |
Tone Curve | 0, 0, 255, 255 |
Tone Curve Blue | 0, 0, 255, 255 |
Tone Curve Green | 0, 0, 255, 255 |
Tone Curve Name | Linear |
Tone Curve Name 2012 | Linear |
Tone Curve PV2012 | 0, 0, 255, 255 |
Tone Curve PV2012 Blue | 0, 0, 255, 255 |
Tone Curve PV2012 Green | 0, 0, 255, 255 |
Tone Curve PV2012 Red | 0, 0, 255, 255 |
Tone Curve Red | 0, 0, 255, 255 |
Version | 8.7.1 |
Vibrance | +29 |
Vignette Amount | 0 |
White Balance | Manual |
Whites 2012 | -29 |
GPS Information |
GPS Altitude | 2 m Above Sea Level |
GPS Altitude Ref | Above Sea Level |
GPS Date Stamp | 1989:07:15 |
GPS Date/Time | 1989:07:15 17:00:00Z |
GPS Latitude | 30 deg 40' 53.44" N |
GPS Latitude Ref | North |
GPS Longitude | 88 deg 0' 56.14" W |
GPS Longitude Ref | West |
GPS Map Datum | WGS-84 |
GPS Position | 30 deg 40' 53.44" N, 88 deg 0' 56.14" W |
GPS Time Stamp | 17:00:00 |
GPS Version ID | 2.2.0.0 |