Shooting information for this photo
Camera: | Canon EOS 50D |
Exposure: | 0.005 sec. (1/200) |
Aperture: | f/11.0 |
Focal Length: | 180.0 mm (35 mm equivalent: 1233.4 mm) |
Flash: | On, Fired |
Exposure mode: | Manual |
Max Aperture: | 3.5 |
Resolution: | 72 x 72 dpi |
Dimension: | 1626 x 1093 pixels |
Original Date: | 2021:11:25 10:37:07.75 |
Created on: | 2021:11:25 10:37:07.75 |
Modified on: | 2021:11:25 11:06:56.75 |
Software: | Adobe Photoshop Lightroom 5.7.1 (Windows) |
Copyright: | Charles D Therit (c) 2011-2022 |
AEB Auto Cancel | On |
AEB Sequence | 0,-,+ |
AF Area Mode | Single-point AF |
AF Assist Beam | Emits |
AF Image Height | 3168 |
AF Image Width | 4752 |
AF Micro Adj Mode | Disable |
AF Micro Adj Value | 0 |
AF Microadjustment | Disable; 0; 0; 0; 0 |
AF On AE Lock Button Switch | Disable |
AF Point Selection Method | Multi-controller direct |
AF Points In Focus | 7 |
AF Points Selected | 7 |
Add Original Decision Data | Off |
Already Applied | True |
Approximate Focus Distance | 0.72 |
Artist | Charles D Therit (c) 2011-2022 |
Aspect Ratio | 3:2 |
Assign Func Button | LCD brightness |
Auto Lateral CA | 0 |
Auto Lighting Optimizer | Disable |
Auto White Version | 134348800 |
Blacks 2012 | -5 |
Blue Balance | 1.243164 |
Blue Hue | 0 |
Blue Saturation | 0 |
Camera Orientation | Horizontal (normal) |
Camera Profile | Adobe Standard |
Camera Temperature | 21 C |
Camera Type | EOS High-end |
Canon Exposure Mode | Manual |
Canon Firmware Version | Firmware Version 1.0.9 |
Canon Flash Mode | External flash |
Canon Image Size | Unknown (-1) |
Canon Model ID | EOS 50D |
Chromatic Aberration Corr | Off |
Circle Of Confusion | 0.004 mm |
Clarity 2012 | +19 |
Color Data Version | 6 (50D/5DmkII) |
Color Noise Reduction | 25 |
Color Noise Reduction Detail | 50 |
Color Noise Reduction Smoothness | 50 |
Color Space | sRGB |
Color Temp As Shot | 6519 |
Color Temp Auto | 6519 |
Color Temp Cloudy | 6000 |
Color Temp Daylight | 5200 |
Color Temp Flash | 6576 |
Color Temp Fluorescent | 3793 |
Color Temp Kelvin | 5238 |
Color Temp Measured | 6519 |
Color Temp Shade | 7000 |
Color Temp Tungsten | 3200 |
Color Tone | Normal |
Color Tone Faithful | 0 |
Color Tone Landscape | 0 |
Color Tone Neutral | 0 |
Color Tone Portrait | 0 |
Color Tone Standard | 0 |
Color Tone User Def 1 | 0 |
Color Tone User Def 2 | 0 |
Color Tone User Def 3 | 0 |
Continuous Drive | Single |
Contrast | Normal |
Contrast 2012 | 0 |
Contrast Faithful | 0 |
Contrast Landscape | 0 |
Contrast Monochrome | 0 |
Contrast Neutral | 0 |
Contrast Portrait | 0 |
Contrast Standard | 0 |
Contrast User Def 1 | 0 |
Contrast User Def 2 | 0 |
Contrast User Def 3 | 0 |
Convert To Grayscale | False |
Creator | Charles D Therit (c) 2011-2022 |
Crop Bottom Margin | 0 |
Crop Height | 0 |
Crop Left Margin | 0 |
Crop Right Margin | 0 |
Crop Top Margin | 0 |
Crop Width | 0 |
Cropped Image Height | 3168 |
Cropped Image Left | 0 |
Cropped Image Top | 0 |
Cropped Image Width | 4752 |
Custom Rendered | Normal |
Defringe Green Amount | 0 |
Defringe Green Hue Hi | 60 |
Defringe Green Hue Lo | 40 |
Defringe Purple Amount | 0 |
Defringe Purple Hue Hi | 70 |
Defringe Purple Hue Lo | 30 |
Description | Happy Thanksgiving! |
Dial Direction Tv Av | Normal |
Digital Zoom | None |
Drive Mode | Single-frame Shooting |
Easy Mode | Manual |
Exposure 2012 | +0.24 |
Exposure Level Increments | 1/3 Stop |
Exposure Mode | Manual |
Field Of View | 1.7 deg |
File Number | 100-4048 |
Filter Effect Monochrome | None |
Filter Effect User Def 1 | n/a |
Filter Effect User Def 2 | None |
Filter Effect User Def 3 | None |
Firmware | 1.0.9 |
Firmware Version | 1.0.9 |
Flash Activity | 145 |
Flash Bits | E-TTL, External |
Flash Compensation | 0 |
Flash Exposure Compensation | 0 |
Flash Fired | True |
Flash Function | False |
Flash Metering Mode | E-TTL |
Flash Mode | On |
Flash Red Eye Mode | False |
Flash Return | No return detection |
Flash Sync Speed Av | Auto |
Flash Type | External |
Focal Units | 1/mm |
Focus Distance Lower | 0.66 m |
Focus Distance Upper | 0.8 m |
Focus Mode | AI Servo AF |
Focus Range | Not Known |
Focusing Screen | Ef-A |
Format | image/jpeg |
Grain Amount | 0 |
Green Hue | 0 |
Green Saturation | 0 |
Has Crop | False |
Has Settings | True |
High ISO Noise Reduction | Standard |
Highlight Tone Priority | Disable |
Highlights 2012 | +19 |
Hue Adjustment Aqua | 0 |
Hue Adjustment Blue | 0 |
Hue Adjustment Green | 0 |
Hue Adjustment Magenta | 0 |
Hue Adjustment Orange | 0 |
Hue Adjustment Purple | 0 |
Hue Adjustment Red | 0 |
Hue Adjustment Yellow | 0 |
Hyperfocal Distance | 671.71 m |
ISO | 400 |
ISO Expansion | On |
ISO Speed Increments | 1/3 Stop |
Image Number | 0 |
Image Size | 1626x1093 |
Lens | 180.0 mm (35 mm equivalent: 1233.4 mm) |
Lens AF Stop Button | AF stop |
Lens Drive No AF | Focus search on |
Lens ID | Canon EF 180mm Macro f/3.5L or Sigma 180mm EX HSM Macro f/3.5 |
Lens Info | 180mm f/? |
Lens Manual Distortion Amount | 0 |
Lens Model | EF180mm f/3.5L Macro USM |
Lens Profile Enable | 0 |
Lens Profile Setup | LensDefaults |
Lens Type | Canon EF 180mm Macro f/3.5L or Sigma Lens |
Light Value | 12.6 |
Long Exposure Noise Reduction | Off |
Luminance Adjustment Aqua | 0 |
Luminance Adjustment Blue | 0 |
Luminance Adjustment Green | 0 |
Luminance Adjustment Magenta | 0 |
Luminance Adjustment Orange | 0 |
Luminance Adjustment Purple | 0 |
Luminance Adjustment Red | 0 |
Luminance Adjustment Yellow | 0 |
Luminance Smoothing | 0 |
Macro Mode | Normal |
Manual Flash Output | n/a |
Max Aperture | 3.6 |
Max Focal Length | 180 mm |
Measured RGGB | 775 1024 1024 997 |
Metering Mode | Spot |
Min Aperture | 32 |
Min Focal Length | 180 mm |
Mirror Lockup | Disable |
Num AF Points | 9 |
Optical Zoom Code | n/a |
Original Decision Data Offset | 0 |
Original Image Height | 3168 |
Original Image Width | 4752 |
Owner Name | Charles D Therit (c) 2011-2022 |
Parametric Darks | 0 |
Parametric Highlight Split | 75 |
Parametric Highlights | 0 |
Parametric Lights | 0 |
Parametric Midtone Split | 50 |
Parametric Shadow Split | 25 |
Parametric Shadows | 0 |
Peripheral Lighting | Off |
Peripheral Lighting Setting | Off |
Peripheral Lighting Value | 63 |
Perspective Aspect | 0 |
Perspective Horizontal | 0 |
Perspective Rotate | 0.0 |
Perspective Scale | 100 |
Perspective Upright | 0 |
Perspective Vertical | 0 |
Photometric Interpretation | RGB |
Planar Configuration | Chunky |
Post Crop Vignette Amount | -10 |
Post Crop Vignette Feather | 50 |
Post Crop Vignette Highlight Contrast | 0 |
Post Crop Vignette Midpoint | 50 |
Post Crop Vignette Roundness | 0 |
Post Crop Vignette Style | 1 |
Process Version | 6.7 |
Quality | RAW |
Rating | 5 |
Raw Measured RGGB | 73899 104490 103236 104422 |
Record Mode | CR2 |
Red Balance | 2.306641 |
Red Eye Reduction | Off |
Red Hue | 0 |
Red Saturation | 0 |
Related Image Height | 1067 |
Related Image Width | 1600 |
Rights | Charles D Therit (c) 2011-2022 |
SRAW Quality | n/a |
Safety Shift | Disable |
Samples Per Pixel | 3 |
Saturation | Normal |
Saturation Adjustment Aqua | 0 |
Saturation Adjustment Blue | 0 |
Saturation Adjustment Green | 0 |
Saturation Adjustment Magenta | 0 |
Saturation Adjustment Orange | 0 |
Saturation Adjustment Purple | 0 |
Saturation Adjustment Red | 0 |
Saturation Adjustment Yellow | 0 |
Saturation Faithful | 0 |
Saturation Landscape | 0 |
Saturation Neutral | 0 |
Saturation Portrait | 0 |
Saturation Standard | 0 |
Saturation User Def 1 | 0 |
Saturation User Def 2 | 0 |
Saturation User Def 3 | 0 |
Scale Factor To 35 mm Equivalent | 6.9 |
Scene Capture Type | Standard |
Self Timer | Off |
Sequence Number | 0 |
Set Button When Shooting | Normal (disabled) |
Shadow Tint | 0 |
Shadows 2012 | -10 |
Sharpen Detail | 25 |
Sharpen Edge Masking | 35 |
Sharpen Radius | +1.0 |
Sharpness | Hard |
Sharpness Faithful | 0 |
Sharpness Landscape | 4 |
Sharpness Monochrome | 3 |
Sharpness Neutral | 0 |
Sharpness Portrait | 2 |
Sharpness Standard | 3 |
Sharpness User Def 1 | 7 |
Sharpness User Def 2 | 3 |
Sharpness User Def 3 | 3 |
Shooting Mode | Manual |
Shutter Button AF On Button | Metering + AF start/AF stop |
Shutter Curtain Sync | 1st-curtain sync |
Split Toning Balance | 0 |
Split Toning Highlight Hue | 0 |
Split Toning Highlight Saturation | 0 |
Split Toning Shadow Hue | 0 |
Split Toning Shadow Saturation | 0 |
Subject | 1/200, 180 mm, Canon, Canon EF 180mm Macro f/3.5L USM or Sigma Lens, Colorado, Colorado Springs, EF180mm f/3.5L Macro USM, EOS 50D, esplora, explore, f/11.0, Fired, Flash On, ISO400, Manual, photo, pic, pretty, renown, Spot, United States, USA |
Superimposed Display | On |
Tint | 0 |
Tone Curve | Standard |
Tone Curve Blue | 0, 0, 255, 255 |
Tone Curve Green | 0, 0, 255, 255 |
Tone Curve Name | Linear |
Tone Curve Name 2012 | Linear |
Tone Curve PV2012 | 0, 0, 255, 255 |
Tone Curve PV2012 Blue | 0, 0, 255, 255 |
Tone Curve PV2012 Green | 0, 0, 255, 255 |
Tone Curve PV2012 Red | 0, 0, 255, 255 |
Tone Curve Red | 0, 0, 255, 255 |
Toning Effect Monochrome | None |
Toning Effect User Def 1 | n/a |
Toning Effect User Def 2 | None |
Toning Effect User Def 3 | None |
User Def 1 Picture Style | Faithful |
User Def 2 Picture Style | Standard |
User Def 3 Picture Style | Standard |
VRD Offset | 0 |
Valid AF Points | 9 |
Version | 8.7.1 |
Vibrance | +7 |
Vignette Amount | 0 |
WB RGGB Levels | 2362 1024 1024 1273 |
WB RGGB Levels As Shot | 2362 1024 1024 1273 |
WB RGGB Levels Auto | 2362 1024 1024 1273 |
WB RGGB Levels Cloudy | 2310 1024 1024 1319 |
WB RGGB Levels Daylight | 2158 1024 1024 1440 |
WB RGGB Levels Flash | 2411 1024 1024 1282 |
WB RGGB Levels Fluorescent | 1935 1024 1024 1928 |
WB RGGB Levels Kelvin | 2158 1024 1024 1440 |
WB RGGB Levels Measured | 2359 1024 1023 1271 |
WB RGGB Levels Shade | 2461 1024 1024 1228 |
WB RGGB Levels Tungsten | 1698 1095 1095 2164 |
Whites 2012 | +14 |
Zoom Source Width | 0 |
Zoom Target Width | 0 |