Shooting information for this photo
Camera: | Canon EOS 620 |
Exposure: | 0.004 sec. (1/250) |
Aperture: | f/5.6 |
Focal Length: | 35.0 mm |
Flash: | On, Return not detected |
Exposure mode: | Manual |
Resolution: | 300 x 300 dpi |
Dimension: | 1624 x 1050 pixels |
Original Date: | 1988:07:15 12:00:00 |
Digitized Date: | 1988:07:15 12:00:00-04:00 |
Created on: | 1988:07:15 12:00:00 |
Software: | Adobe Photoshop Lightroom 5.7.1 (Windows) |
Copyright: | Charles D Therit (c) 1987-2021 |
Already Applied | True |
Artist | Picasa |
Auto Lateral CA | 0 |
Auto White Version | 134348800 |
Base URL | https://www.flickr.com/photos/ ctofcsco |
Blacks 2012 | -7 |
Blue Hue | 0 |
Blue Saturation | 0 |
Camera Profile | Embedded |
Clarity 2012 | +76 |
Color Noise Reduction | 35 |
Color Noise Reduction Detail | 50 |
Color Noise Reduction Smoothness | 50 |
Color Space | sRGB |
Contrast 2012 | -24 |
Convert To Grayscale | False |
Country | United States |
Country Code | USA |
Creator | Picasa |
Crop Angle | 2 |
Crop Bottom | 0.974118 |
Crop Constrain To Warp | 0 |
Crop Left | 0.035543 |
Crop Right | 0.912049 |
Crop Top | 0.06399 |
Defringe Green Amount | 0 |
Defringe Green Hue Hi | 60 |
Defringe Green Hue Lo | 40 |
Defringe Purple Amount | 0 |
Defringe Purple Hue Hi | 70 |
Defringe Purple Hue Lo | 30 |
Description | <b>N269VA.Model 76 Voyager</b>..National Air and Space Museum.Washington, DC..https://airandspace.si.edu /collection-objects/rutan-voya ger/nasm_A19880548000.https:// en.wikipedia.org/wiki/Rutan_Vo yager..Scanned Color Negative, Kodak CA100, Circa July 1988 |
Exposure 2012 | -0.71 |
Flash Fired | True |
Flash Mode | On |
Flash Return | Return not detected |
Format | image/jpeg |
Grain Amount | 0 |
Green Hue | 0 |
Green Saturation | 0 |
Has Crop | True |
Has Settings | True |
Highlights 2012 | +10 |
Hue Adjustment Aqua | 0 |
Hue Adjustment Blue | 0 |
Hue Adjustment Green | 0 |
Hue Adjustment Magenta | 0 |
Hue Adjustment Orange | 0 |
Hue Adjustment Purple | 0 |
Hue Adjustment Red | 0 |
Hue Adjustment Yellow | 0 |
ISO | 100 |
Image Description | <b>N269VA.Model 76 Voyager</b>..National Air and Space Museum.Washington, DC..https://airandspace.si.edu /collection-objects/rutan-voya ger/nasm_A19880548000.https:// en.wikipedia.org/wiki/Rutan_Vo yager..Scanned Color Negative, Kodak CA100, Circa July 1988 |
Image Size | 1624x1050 |
Incremental Temperature | +4 |
Incremental Tint | +9 |
Lens Manual Distortion Amount | 0 |
Lens Model | EF35-105mm f/3.5-4.5 |
Lens Profile Enable | 0 |
Lens Profile Setup | LensDefaults |
Light Value | 12.9 |
Location | Southwest |
Luminance Adjustment Aqua | 0 |
Luminance Adjustment Blue | 0 |
Luminance Adjustment Green | 0 |
Luminance Adjustment Magenta | 0 |
Luminance Adjustment Orange | 0 |
Luminance Adjustment Purple | 0 |
Luminance Adjustment Red | 0 |
Luminance Adjustment Yellow | 0 |
Luminance Noise Reduction Contrast | 31 |
Luminance Noise Reduction Detail | 50 |
Luminance Smoothing | 21 |
Parametric Darks | 0 |
Parametric Highlight Split | 75 |
Parametric Highlights | 0 |
Parametric Lights | 0 |
Parametric Midtone Split | 50 |
Parametric Shadow Split | 25 |
Parametric Shadows | 0 |
Perspective Aspect | 0 |
Perspective Horizontal | 0 |
Perspective Rotate | 0.0 |
Perspective Scale | 100 |
Perspective Upright | 0 |
Perspective Vertical | 0 |
Post Crop Vignette Amount | 0 |
Process Version | 6.7 |
Red Hue | 0 |
Red Saturation | 0 |
Related Image Height | 1026 |
Related Image Width | 1600 |
Rights | Charles D Therit (c) 1987-2021 |
Saturation | +19 |
Saturation Adjustment Aqua | 0 |
Saturation Adjustment Blue | 0 |
Saturation Adjustment Green | 0 |
Saturation Adjustment Magenta | 0 |
Saturation Adjustment Orange | 0 |
Saturation Adjustment Purple | 0 |
Saturation Adjustment Red | 0 |
Saturation Adjustment Yellow | 0 |
Shadow Tint | 0 |
Shadows 2012 | +31 |
Sharpen Detail | 25 |
Sharpen Edge Masking | 35 |
Sharpen Radius | +1.0 |
Sharpness | 64 |
Split Toning Balance | 0 |
Split Toning Highlight Hue | 0 |
Split Toning Highlight Saturation | 0 |
Split Toning Shadow Hue | 0 |
Split Toning Shadow Saturation | 0 |
State | District of Columbia |
Subject | 35mm, 420EZ, 5095, analog, ASA 100, Canon, CanoScan, CanoScan 9000F Mark II, color negative, EF100-300mm f/5.6L, EF35-105mm f/3.5-4.5, EF50mm f/1.8, EOS, EOS 620, esplora, explore, explored, film, GA, Gold Plus 100, ISO100, Kodacolor VR Gold 100, Kodak, process C-41, scanned, standard base, United States, USA |
Title | Rutan Voyager |
Tone Curve | 0, 0, 255, 255 |
Tone Curve Blue | 0, 0, 255, 255 |
Tone Curve Green | 0, 0, 255, 255 |
Tone Curve Name | Linear |
Tone Curve Name 2012 | Linear |
Tone Curve PV2012 | 0, 0, 255, 255 |
Tone Curve PV2012 Blue | 0, 0, 255, 255 |
Tone Curve PV2012 Green | 0, 0, 255, 255 |
Tone Curve PV2012 Red | 0, 0, 255, 255 |
Tone Curve Red | 0, 0, 255, 255 |
Version | 8.7.1 |
Vibrance | +17 |
Vignette Amount | 0 |
White Balance | Manual |
Whites 2012 | +17 |
GPS Information |
GPS Altitude | 13 m Above Sea Level |
GPS Altitude Ref | Above Sea Level |
GPS Date Stamp | 1988:07:15 |
GPS Date/Time | 1988:07:15 16:00:00Z |
GPS Latitude | 38 deg 53' 17.38" N |
GPS Latitude Ref | North |
GPS Longitude | 77 deg 1' 11.52" W |
GPS Longitude Ref | West |
GPS Map Datum | WGS-84 |
GPS Position | 38 deg 53' 17.38" N, 77 deg 1' 11.52" W |
GPS Time Stamp | 16:00:00 |
GPS Version ID | 2.2.0.0 |