Shooting information for this photo
Camera: | OLYMPUS IMAGING CORP. E-3 |
Exposure: | 0.02 sec. (1/50) |
Aperture: | f/2.8 |
Focal Length: | 12.0 mm (35 mm equivalent: 24.0 mm) |
Flash: | Auto, Did not fire |
Exposure mode: | Aperture-priority AE |
Max Aperture: | 2.8 |
Resolution: | 300 x 300 dpi |
Original Date: | 2019:10:02 16:48:52 |
Created on: | 2019:10:02 16:48:52 |
Modified on: | 2024:01:04 17:14:43 |
Software: | Adobe Photoshop Lightroom Classic 13.1 (Windows) |
Copyright: | Karl Doppler |
Already Applied | True |
Auto Lateral CA | 0 |
Black Clip | 3.000 |
Blacks 2012 | -14 |
Blend With EV | 0.0 |
Blending Opacity | 0.0 |
Blue Hue | 0 |
Blue Saturation | 0 |
Brightness | +50 |
Brightness Individual Colors | 0.0,0.0,0.0,0.0,0.0,0.0,0.0,0. 0 |
CFA Pattern | [Red,Green][Green,Blue] |
Camera Profile | Embedded |
Circle Of Confusion | 0.015 mm |
Clarity 2012 | 0 |
Color Grade Blending | 50 |
Color Grade Global Hue | 0 |
Color Grade Global Lum | 0 |
Color Grade Global Sat | 0 |
Color Grade Highlight Lum | 0 |
Color Grade Midtone Hue | 0 |
Color Grade Midtone Lum | 0 |
Color Grade Midtone Sat | 0 |
Color Grade Shadow Lum | 0 |
Color Noise Reduction | 0 |
Color Space | Uncalibrated |
Color Temperature | 0.0 |
Contrast | Low |
Contrast 2012 | +7 |
Convert To Grayscale | False |
Crop Angle | -4.52 |
Crop Bottom | 0.92566 |
Crop Constrain To Warp | 0 |
Crop Left | 0 |
Crop Right | 1 |
Crop Top | 0.07434 |
Custom Rendered | Normal |
Date Created | 2019:10:02 16:48:52 |
Defringe Green Amount | 0 |
Defringe Green Hue Hi | 60 |
Defringe Green Hue Lo | 40 |
Defringe Purple Amount | 0 |
Defringe Purple Hue Hi | 70 |
Defringe Purple Hue Lo | 30 |
Dehaze | 0 |
Description | Agia Theodora |
Digital Zoom Ratio | 1 |
Exposure 2012 | +0.52 |
Exposure Compensation | 0 |
Exposure Mode | Auto bracket |
Field Of View | 73.7 deg |
Flash Compensation | 0 |
Focal Length In 35mm Format | 24 mm |
Format | image/jpeg |
Gain Control | None |
Grain Amount | 0 |
Green Hue | 0 |
Green Saturation | 0 |
HDR Edit Mode | 0 |
Has Crop | True |
Has Settings | True |
Hierarchical Subject | Agia Theodora, Arcadia, Arkadien, Church, Church of Agia Theodora, Greece, Griechenland, Grèce, Grèce occidentale, Halbinsel, Kirche, Peloponnes, Peloponnese, Peninsula, Péloponnèse, Vasta, West Greece, Westgriechenland, péninsule, église, église d'Agia Theodora |
Highlights 2012 | -7 |
Hue Adjustment Aqua | 0 |
Hue Adjustment Blue | 0 |
Hue Adjustment Green | 0 |
Hue Adjustment Magenta | 0 |
Hue Adjustment Orange | 0 |
Hue Adjustment Purple | 0 |
Hue Adjustment Red | 0 |
Hue Adjustment Yellow | 0 |
Hyperfocal Distance | 3.42 m |
ISO | 100 |
Image Description | Agia Theodora |
Image Size | 2448x3227 |
Incremental Temperature | 0 |
Incremental Tint | 0 |
Is Pano 360 | No |
Label | Grün |
Lens | 12.0-60.0 mm f/2.8-4.0 |
Lens Info | 12-60mm f/2.8-4 |
Lens Manual Distortion Amount | 0 |
Lens Model | 12.0-60.0 mm f/2.8-4.0 |
Lens Profile Enable | 0 |
Light Source | Cloudy |
Light Value | 8.6 |
Lighting Effect | 20.0 |
Luminance | 0.0 |
Luminance Adjustment Aqua | 0 |
Luminance Adjustment Blue | 0 |
Luminance Adjustment Green | 0 |
Luminance Adjustment Magenta | 0 |
Luminance Adjustment Orange | 0 |
Luminance Adjustment Purple | 0 |
Luminance Adjustment Red | 0 |
Luminance Adjustment Yellow | 0 |
Luminance Smoothing | 0 |
Marked | True |
Metering Mode | Center-weighted average |
Method | Contrast Optimizer |
Override Look Vignette | False |
Parametric Darks | 0 |
Parametric Highlight Split | 75 |
Parametric Highlights | 0 |
Parametric Lights | 0 |
Parametric Midtone Split | 50 |
Parametric Shadow Split | 25 |
Parametric Shadows | 0 |
Perspective Aspect | 0 |
Perspective Horizontal | 0 |
Perspective Rotate | 0.0 |
Perspective Scale | 100 |
Perspective Upright | 0 |
Perspective Vertical | 0 |
Perspective X | 0.00 |
Perspective Y | 0.00 |
Point Colors | -1.000000, -1.000000, -1.000000, -1.000000, -1.000000, -1.000000, -1.000000, -1.000000, -1.000000, -1.000000, -1.000000, -1.000000, -1.000000, -1.000000, -1.000000, -1.000000, -1.000000, -1.000000, -1.000000 |
Post Crop Vignette Amount | 0 |
Preserved File Name | PA023088_89_90_91_92.tif |
Process Version | 15.4 |
Raw File Name | PA023088_89_90_91_92.tif |
Red Hue | 0 |
Red Saturation | 0 |
Rights | Karl Doppler |
Saturation | 0.0 |
Saturation Adjustment Aqua | 0 |
Saturation Adjustment Blue | 0 |
Saturation Adjustment Green | 0 |
Saturation Adjustment Magenta | 0 |
Saturation Adjustment Orange | 0 |
Saturation Adjustment Purple | 0 |
Saturation Adjustment Red | 0 |
Saturation Adjustment Yellow | 0 |
Saturation Individual Colors | 0.0,0.0,0.0,0.0,0.0,0.0,0.0,0. 0 |
Scale Factor To 35 mm Equivalent | 2.0 |
Scene Capture Type | Standard |
Shadow Tint | 0 |
Shadows | 5 |
Shadows 2012 | +27 |
Sharpness | Soft |
Split Toning Balance | 0 |
Split Toning Highlight Hue | 0 |
Split Toning Highlight Saturation | 0 |
Split Toning Shadow Hue | 0 |
Split Toning Shadow Saturation | 0 |
Strength | 50.0 |
Subject | Agia Theodora, Arcadia, Arkadien, Church, Church of Agia Theodora, Greece, Griechenland, Grèce, Grèce occidentale, Halbinsel, Kirche, Peloponnes, Peloponnese, Peninsula, Péloponnèse, Vasta, West Greece, Westgriechenland, péninsule, église, église d'Agia Theodora |
Temperature Individual Colors | 0.0,0.0,0.0,0.0,0.0,0.0,0.0,0. 0 |
Texture | 0 |
Tone Compression | 0.0 |
Tone Curve Name 2012 | Linear |
Tone Curve PV2012 | 0, 0, 255, 255 |
Tone Curve PV2012 Blue | 0, 0, 255, 255 |
Tone Curve PV2012 Green | 0, 0, 255, 255 |
Tone Curve PV2012 Red | 0, 0, 255, 255 |
User Comment | HDR, 5 Fotos, +/- 1EV, Ausgewogen |
Version | 16.1 |
Vibrance | +16 |
Vignette Amount | 0 |
Weighted Flat Subject | Agia Theodora, Peloponnes, Vasta, Peloponnese, Peninsula, Halbinsel, West Greece, Westgriechenland, Arcadia, Arkadien, Kirche, Church, Church of Agia Theodora, Griechenland, Greece, église, église d'Agia Theodora, Grèce, péninsule, Péloponnèse, Grèce occidentale |
White Balance | Manual |
White Clip | 3.992 |
Whites 2012 | +2 |