Shooting information for this photo
Camera: | OLYMPUS IMAGING CORP. E-PL1 |
Exposure: | 0.0025 sec. (1/400) |
Aperture: | f/5.6 |
Focal Length: | 42.0 mm (35 mm equivalent: 84.0 mm) |
Flash: | Auto, Did not fire |
Exposure mode: | Aperture-priority AE |
Max Aperture: | 3.5 |
Resolution: | 300 x 300 dpi |
Dimension: | 3756 x 2817 pixels |
Original Date: | 2010:11:12 14:00:01 |
Digitized Date: | 2010:11:12 14:00:01+01:00 |
Created on: | 2010:11:12 14:00:01 |
Modified on: | 2010:11:15 20:44:26 |
Software: | Version 1.1 |
Already Applied | True |
Approximate Focus Distance | 0.28 |
Blue Hue | 0 |
Blue Saturation | 0 |
Brightness | +50 |
CFA Pattern | [Red,Green][Green,Blue] |
Camera Profile | Matrix |
Chromatic Aberration B | 0 |
Chromatic Aberration R | -8 |
Circle Of Confusion | 0.015 mm |
City | München |
Clarity | 0 |
Color Noise Reduction | 60 |
Color Noise Reduction Detail | 50 |
Color Temperature | 5150 |
Contrast | +25 |
Convert To Grayscale | False |
Country | Deutschland |
Crop Angle | 0 |
Crop Bottom | 1 |
Crop Constrain To Warp | 0 |
Crop Height | 2817 |
Crop Left | 0.068376 |
Crop Right | 1 |
Crop Top | 0.068376 |
Crop Unit | pixels |
Crop Width | 3756 |
Custom Rendered | Normal |
Defringe | 0 |
Depth Of Field | 0.01 m (0.28 - 0.28) |
Description | OLYMPUS DIGITAL CAMERA |
Digital Zoom Ratio | 1 |
Exposure | +1.50 |
Exposure Compensation | 0 |
Exposure Mode | Auto |
Field Of View | 24.2 deg |
Fill Light | 0 |
Flash Compensation | 0 |
Flash Fired | False |
Flash Function | False |
Flash Mode | Auto |
Flash Red Eye Mode | False |
Flash Return | No return detection |
Focal Length In 35mm Format | 84 mm |
Gain Control | Low gain up |
Grain Amount | 0 |
Green Hue | 0 |
Green Saturation | 0 |
Has Crop | True |
Has Settings | True |
Highlight Recovery | 0 |
Hue Adjustment Aqua | +10 |
Hue Adjustment Blue | -25 |
Hue Adjustment Green | 0 |
Hue Adjustment Magenta | 0 |
Hue Adjustment Orange | 0 |
Hue Adjustment Purple | 0 |
Hue Adjustment Red | 0 |
Hue Adjustment Yellow | 0 |
Hyperfocal Distance | 20.97 m |
ISO | 200 |
Image Description | OLYMPUS DIGITAL CAMERA |
Image Size | 3756x2817 |
Lens | OLYMPUS M.14-42mm F3.5-5.6 L |
Lens Info | 14-42mm f/3.5-5.6 |
Lens Manual Distortion Amount | 0 |
Lens Model | OLYMPUS M.14-42mm F3.5-5.6 L |
Lens Profile Enable | 0 |
Lens Profile Setup | LensDefaults |
Light Source | Other |
Light Value | 12.6 |
Luminance Adjustment Aqua | 0 |
Luminance Adjustment Blue | +75 |
Luminance Adjustment Green | 0 |
Luminance Adjustment Magenta | 0 |
Luminance Adjustment Orange | 0 |
Luminance Adjustment Purple | 0 |
Luminance Adjustment Red | 0 |
Luminance Adjustment Yellow | 0 |
Luminance Noise Reduction Contrast | 0 |
Luminance Noise Reduction Detail | 50 |
Luminance Smoothing | 66 |
Metering Mode | Multi-segment |
Parametric Darks | +25 |
Parametric Highlight Split | 75 |
Parametric Highlights | +75 |
Parametric Lights | +10 |
Parametric Midtone Split | 50 |
Parametric Shadow Split | 25 |
Parametric Shadows | -100 |
Perspective Horizontal | 0 |
Perspective Rotate | 0.0 |
Perspective Scale | 100 |
Perspective Vertical | 0 |
Post Crop Vignette Amount | 0 |
Process Version | 5.7 |
Red Hue | 0 |
Red Saturation | 0 |
Saturation | -25 |
Saturation Adjustment Aqua | 0 |
Saturation Adjustment Blue | +40 |
Saturation Adjustment Green | +50 |
Saturation Adjustment Magenta | +40 |
Saturation Adjustment Orange | 0 |
Saturation Adjustment Purple | 0 |
Saturation Adjustment Red | 0 |
Saturation Adjustment Yellow | 0 |
Scale Factor To 35 mm Equivalent | 2.0 |
Scene Capture Type | Standard |
Sensitivity Type | Unknown |
Shadow Tint | 0 |
Shadows | 10 |
Sharpen Detail | 25 |
Sharpen Edge Masking | 0 |
Sharpen Radius | +1.0 |
Sharpness | 25 |
Split Toning Balance | 0 |
Split Toning Highlight Hue | 55 |
Split Toning Highlight Saturation | 33 |
Split Toning Shadow Hue | 21 |
Split Toning Shadow Saturation | 0 |
State | Bayern |
Subject Distance | 0.28 m |
Tint | +6 |
Tone Curve | 0, 0, 32, 22, 64, 56, 128, 128, 192, 196, 255, 255 |
Tone Curve Name | Medium Contrast |
Version | 6.2 |
Vibrance | +10 |
Vignette Amount | -100 |
Vignette Midpoint | 0 |
White Balance | As Shot |