Shooting information for this photo
Camera: | OLYMPUS IMAGING CORP. E-3 |
Exposure: | 0.01 sec. (1/100) |
Aperture: | f/4.5 |
Focal Length: | 200.0 mm (35 mm equivalent: 401.0 mm) |
Flash: | Auto, Did not fire |
Exposure mode: | Aperture-priority AE |
Max Aperture: | 2.8 |
Resolution: | 300 x 300 dpi |
Dimension: | 3318 x 2489 pixels |
Original Date: | 2010:08:15 07:45:47 |
Digitized Date: | 2010:08:15 07:45:47+02:00 |
Created on: | 2010:08:15 07:45:47 |
Modified on: | 2010:08:17 20:57:54 |
Software: | Version 1.4 |
Already Applied | True |
Blue Hue | 0 |
Blue Saturation | 0 |
Brightness | +89 |
CFA Pattern | [Red,Green][Green,Blue] |
Camera Profile | Adobe Standard |
Chromatic Aberration B | 0 |
Chromatic Aberration R | 0 |
Circle Of Confusion | 0.015 mm |
City | Emden |
Clarity | -26 |
Color Noise Reduction | 42 |
Color Noise Reduction Detail | 50 |
Color Temperature | 16917 |
Contrast | +64 |
Convert To Grayscale | False |
Country | Deutschland |
Crop Angle | -3.05446 |
Crop Bottom | 0.908096 |
Crop Constrain To Warp | 0 |
Crop Height | 2489 |
Crop Left | 0.040012 |
Crop Right | 0.98445 |
Crop Top | 0.064609 |
Crop Unit | pixels |
Crop Width | 3318 |
Custom Rendered | Normal |
Defringe | 0 |
Description | OLYMPUS DIGITAL CAMERA |
Digital Zoom Ratio | 1 |
Exposure | 0.00 |
Exposure Compensation | 0 |
Exposure Mode | Auto |
Field Of View | 5.1 deg |
Fill Light | 26 |
Flash Compensation | 0 |
Flash Fired | False |
Flash Function | False |
Flash Mode | Auto |
Flash Red Eye Mode | False |
Flash Return | No return detection |
Focal Length In 35mm Format | 401 mm |
Gain Control | Low gain up |
Grain Amount | 0 |
Green Hue | +48 |
Green Saturation | 0 |
Has Crop | True |
Has Settings | True |
Highlight Recovery | 69 |
Hue Adjustment Aqua | 0 |
Hue Adjustment Blue | 0 |
Hue Adjustment Green | 0 |
Hue Adjustment Magenta | 0 |
Hue Adjustment Orange | 0 |
Hue Adjustment Purple | 0 |
Hue Adjustment Red | 0 |
Hue Adjustment Yellow | 0 |
Hyperfocal Distance | 593.16 m |
ISO | 200 |
Image Description | OLYMPUS DIGITAL CAMERA |
Image Size | 3318x2489 |
Lens | 50.0-200.0 mm f/2.8-3.5 |
Lens Info | 50-200mm f/2.8-3.5 |
Lens Manual Distortion Amount | 0 |
Lens Profile Enable | 0 |
Lens Profile Setup | LensDefaults |
Light Source | Unknown |
Light Value | 10.0 |
Luminance Adjustment Aqua | 0 |
Luminance Adjustment Blue | 0 |
Luminance Adjustment Green | 0 |
Luminance Adjustment Magenta | 0 |
Luminance Adjustment Orange | 0 |
Luminance Adjustment Purple | 0 |
Luminance Adjustment Red | 0 |
Luminance Adjustment Yellow | 0 |
Luminance Noise Reduction Contrast | 0 |
Luminance Noise Reduction Detail | 50 |
Luminance Smoothing | 53 |
Metering Mode | Multi-segment |
Parametric Darks | -2 |
Parametric Highlight Split | 75 |
Parametric Highlights | -12 |
Parametric Lights | +26 |
Parametric Midtone Split | 37 |
Parametric Shadow Split | 24 |
Parametric Shadows | -29 |
Perspective Horizontal | 0 |
Perspective Rotate | 0.0 |
Perspective Scale | 100 |
Perspective Vertical | 0 |
Post Crop Vignette Amount | 0 |
Process Version | 5.7 |
Rating | 3 |
Red Hue | +45 |
Red Saturation | -43 |
Saturation | -38 |
Saturation Adjustment Aqua | 0 |
Saturation Adjustment Blue | 0 |
Saturation Adjustment Green | 0 |
Saturation Adjustment Magenta | 0 |
Saturation Adjustment Orange | 0 |
Saturation Adjustment Purple | 0 |
Saturation Adjustment Red | 0 |
Saturation Adjustment Yellow | 0 |
Scale Factor To 35 mm Equivalent | 2.0 |
Scene Capture Type | Standard |
Shadow Tint | -60 |
Shadows | 0 |
Sharpen Detail | 19 |
Sharpen Edge Masking | 0 |
Sharpen Radius | +1.0 |
Sharpness | 25 |
Split Toning Balance | 0 |
Split Toning Highlight Hue | 32 |
Split Toning Highlight Saturation | 0 |
Split Toning Shadow Hue | 42 |
Split Toning Shadow Saturation | 24 |
State | Niedersachsen |
Tint | +13 |
Tone Curve | 0, 0, 32, 22, 64, 56, 128, 128, 192, 196, 255, 255 |
Tone Curve Name | Medium Contrast |
Version | 6.1 |
Vibrance | 0 |
Vignette Amount | -19 |
Vignette Midpoint | 58 |
White Balance | Custom |