Shooting information for this photo
Camera: | Canon EOS 40D |
Exposure: | 0.025 sec. (1/40) |
Aperture: | f/1.8 |
Focal Length: | 50.0 mm (35 mm equivalent: 393.4 mm) |
Flash: | Off, Did not fire |
Exposure mode: | Manual |
Max Aperture: | 1.8 |
Resolution: | 72 x 72 dpi |
Original Date: | 2010:05:04 12:22:27.01 |
Digitized Date: | 2010:05:04 12:22:27.01+02:00 |
Created on: | 2010:05:04 12:22:27.01 |
Modified on: | 2010:09:14 13:12:22 |
Copyright: | Mika Pankar |
Already Applied | True |
Blue Hue | 0 |
Blue Saturation | 0 |
Brightness | +103 |
Camera Profile | ACR 4.4 |
Chromatic Aberration B | 0 |
Chromatic Aberration R | 0 |
Circle Of Confusion | 0.004 mm |
Clarity | 30 |
Color Noise Reduction | 25 |
Color Temperature | 3500 |
Contrast | +19 |
Convert To Grayscale | True |
Crop Angle | 1.961556 |
Crop Bottom | 1 |
Crop Height | 680 |
Crop Left | 0.262789 |
Crop Right | 0.885301 |
Crop Top | 0 |
Crop Unit | pixels |
Crop Width | 680 |
Custom Rendered | Normal |
Defringe | 0 |
Exposure | +0.50 |
Exposure Compensation | 0 |
Exposure Mode | Manual |
Field Of View | 5.2 deg |
Fill Light | 7 |
Firmware | 1.0.5 |
Flash Compensation | 0 |
Flash Fired | False |
Flash Function | False |
Flash Mode | Off |
Flash Red Eye Mode | False |
Flash Return | No return detection |
Gray Mixer Aqua | -24 |
Gray Mixer Blue | -3 |
Gray Mixer Green | -18 |
Gray Mixer Magenta | +14 |
Gray Mixer Orange | 0 |
Gray Mixer Purple | +12 |
Gray Mixer Red | +11 |
Gray Mixer Yellow | -6 |
Green Hue | 0 |
Green Saturation | 0 |
Has Crop | True |
Has Settings | True |
Highlight Recovery | 0 |
Hyperfocal Distance | 363.72 m |
ISO | 800 |
Image Number | 0 |
Image Size | 680x680 |
Label | Blue |
Lens | EF50mm f/1.8 II |
Lens Info | 50mm f/? |
Light Value | 4.0 |
Luminance Smoothing | 0 |
Marked | True |
Metering Mode | Multi-segment |
Parametric Darks | +13 |
Parametric Highlight Split | 75 |
Parametric Highlights | +31 |
Parametric Lights | +65 |
Parametric Midtone Split | 50 |
Parametric Shadow Split | 25 |
Parametric Shadows | -4 |
Red Hue | 0 |
Red Saturation | 0 |
Rights | Mika Pankar |
Scale Factor To 35 mm Equivalent | 7.9 |
Scene Capture Type | Standard |
Shadow Tint | 0 |
Shadows | 5 |
Sharpen Detail | 25 |
Sharpen Edge Masking | 0 |
Sharpen Radius | +1.0 |
Sharpness | 25 |
Split Toning Balance | 0 |
Split Toning Highlight Hue | 0 |
Split Toning Highlight Saturation | 0 |
Split Toning Shadow Hue | 0 |
Split Toning Shadow Saturation | 0 |
Subject | 2010, Aquarium, Bretagne, France, Saint Malo, jellyfish, may |
Tint | -4 |
Tone Curve | 0, 0, 32, 22, 64, 56, 128, 128, 192, 196, 255, 255 |
Tone Curve Name | Medium Contrast |
Usage Terms | All rights reserved |
Version | 4.4.1 |
Vignette Amount | -6 |
Vignette Midpoint | 50 |
Web Statement | www.mikapankar.com |
White Balance | As Shot |