Shooting information for this photo
Camera: | Canon EOS 40D |
Exposure: | 0.0125 sec. (1/80) |
Aperture: | f/2.8 |
Focal Length: | 70.0 mm (35 mm equivalent: 367.2 mm) |
Flash: | Off, Did not fire |
Exposure mode: | Manual |
Max Aperture: | 2.8 |
Resolution: | 72 x 72 dpi |
Original Date: | 2010:07:02 21:41:19.13 |
Digitized Date: | 2010:07:02 21:41:19.13+02:00 |
Created on: | 2010:07:02 21:41:19.13 |
Modified on: | 2010:08:04 20:17:35 |
Copyright: | Mika Pankar |
Already Applied | True |
Blue Hue | 0 |
Blue Saturation | 0 |
Brightness | +66 |
Camera Profile | ACR 4.4 |
Chromatic Aberration B | 0 |
Chromatic Aberration R | 0 |
Circle Of Confusion | 0.006 mm |
Clarity | 35 |
Color Noise Reduction | 25 |
Color Temperature | 3500 |
Contrast | +28 |
Convert To Grayscale | True |
Crop Angle | 0 |
Crop Bottom | 1 |
Crop Height | 1020 |
Crop Left | 0.068697 |
Crop Right | 0.735363 |
Crop Top | 0 |
Crop Unit | pixels |
Crop Width | 1020 |
Custom Rendered | Normal |
Defringe | 0 |
Exposure | +0.83 |
Exposure Compensation | 0 |
Exposure Mode | Manual |
Field Of View | 5.6 deg |
Fill Light | 26 |
Firmware | 1.0.5 |
Flash Compensation | 0 |
Flash Fired | False |
Flash Function | False |
Flash Mode | Off |
Flash Red Eye Mode | False |
Flash Return | No return detection |
Gray Mixer Aqua | -20 |
Gray Mixer Blue | +6 |
Gray Mixer Green | -24 |
Gray Mixer Magenta | +6 |
Gray Mixer Orange | -14 |
Gray Mixer Purple | +14 |
Gray Mixer Red | -5 |
Gray Mixer Yellow | -18 |
Green Hue | 0 |
Green Saturation | 0 |
Has Crop | True |
Has Settings | True |
Highlight Recovery | 36 |
Hyperfocal Distance | 305.52 m |
ISO | 800 |
Image Number | 0 |
Image Size | 1020x1020 |
Label | Blue |
Lens | EF24-70mm f/2.8L USM |
Lens Info | 24-70mm f/? |
Light Value | 6.3 |
Luminance Smoothing | 0 |
Marked | True |
Metering Mode | Multi-segment |
Parametric Darks | +38 |
Parametric Highlight Split | 75 |
Parametric Highlights | -4 |
Parametric Lights | +35 |
Parametric Midtone Split | 50 |
Parametric Shadow Split | 25 |
Parametric Shadows | 0 |
Rating | 4 |
Red Hue | 0 |
Red Saturation | 0 |
Rights | Mika Pankar |
Scale Factor To 35 mm Equivalent | 5.2 |
Scene Capture Type | Standard |
Shadow Tint | 0 |
Shadows | 5 |
Sharpen Detail | 25 |
Sharpen Edge Masking | 0 |
Sharpen Radius | +1.0 |
Sharpness | 25 |
Split Toning Balance | 0 |
Split Toning Highlight Hue | 0 |
Split Toning Highlight Saturation | 0 |
Split Toning Shadow Hue | 0 |
Split Toning Shadow Saturation | 0 |
Subject | 2010, Beauregard, Caen, Concert, Festival, Iggy, July, Live music, Normandie, Pop, Rock, Stooges, music |
Tint | -4 |
Tone Curve | 0, 0, 32, 22, 64, 56, 128, 128, 192, 196, 255, 255 |
Tone Curve Name | Medium Contrast |
Usage Terms | All rights reserved |
Version | 4.4.1 |
Vignette Amount | +4 |
Vignette Midpoint | 50 |
Web Statement | www.mikapankar.com |
White Balance | As Shot |