Shooting information for this photo
Camera: | Canon EOS 40D |
Exposure: | 0.07692 sec. (1/13) |
Aperture: | f/13.0 |
Focal Length: | 50.0 mm (35 mm equivalent: 462.9 mm) |
Flash: | Off, Did not fire |
Exposure mode: | Aperture-priority AE |
Max Aperture: | 1.8 |
Resolution: | 72 x 72 dpi |
Original Date: | 2010:07:29 12:45:27.00 |
Digitized Date: | 2010:07:29 12:45:27.00+02:00 |
Created on: | 2010:07:29 12:45:27.00 |
Modified on: | 2010:09:19 13:56:22 |
Copyright: | Mika Pankar |
Already Applied | True |
Blue Hue | 0 |
Blue Saturation | 0 |
Brightness | +59 |
Camera Profile | ACR 4.4 |
Chromatic Aberration B | 0 |
Chromatic Aberration R | 0 |
Circle Of Confusion | 0.003 mm |
Clarity | 20 |
Color Noise Reduction | 25 |
Color Temperature | 4250 |
Contrast | +64 |
Convert To Grayscale | True |
Crop Angle | 1.113128 |
Crop Bottom | 0.976372 |
Crop Height | 454 |
Crop Left | 0.043116 |
Crop Right | 0.956884 |
Crop Top | 0.023628 |
Crop Unit | pixels |
Crop Width | 680 |
Custom Rendered | Normal |
Defringe | 0 |
Exposure | +0.67 |
Exposure Compensation | 0 |
Exposure Mode | Auto |
Field Of View | 4.5 deg |
Fill Light | 43 |
Firmware | 1.0.5 |
Flash Compensation | 0 |
Flash Fired | False |
Flash Function | False |
Flash Mode | Off |
Flash Red Eye Mode | False |
Flash Return | No return detection |
Gray Mixer Aqua | -21 |
Gray Mixer Blue | +5 |
Gray Mixer Green | -23 |
Gray Mixer Magenta | +8 |
Gray Mixer Orange | -11 |
Gray Mixer Purple | +14 |
Gray Mixer Red | -1 |
Gray Mixer Yellow | -16 |
Green Hue | 0 |
Green Saturation | 0 |
Has Crop | True |
Has Settings | True |
Highlight Recovery | 16 |
Hyperfocal Distance | 59.25 m |
ISO | 200 |
Image Number | 0 |
Image Size | 454x680 |
Label | Blue |
Lens | EF50mm f/1.8 II |
Lens Info | 50mm f/? |
Light Value | 10.1 |
Luminance Smoothing | 0 |
Marked | True |
Metering Mode | Multi-segment |
Parametric Darks | -2 |
Parametric Highlight Split | 75 |
Parametric Highlights | +21 |
Parametric Lights | +35 |
Parametric Midtone Split | 50 |
Parametric Shadow Split | 25 |
Parametric Shadows | -71 |
Rating | 4 |
Red Hue | 0 |
Red Saturation | 0 |
Rights | Mika Pankar |
Scale Factor To 35 mm Equivalent | 9.3 |
Scene Capture Type | Standard |
Shadow Tint | 0 |
Shadows | 10 |
Sharpen Detail | 25 |
Sharpen Edge Masking | 0 |
Sharpen Radius | +1.0 |
Sharpness | 25 |
Split Toning Balance | 0 |
Split Toning Highlight Hue | 0 |
Split Toning Highlight Saturation | 0 |
Split Toning Shadow Hue | 0 |
Split Toning Shadow Saturation | 0 |
Subject | 2010, B&W, Czech, Czech Republic, July, Prague, Vacation, city |
Tint | -4 |
Tone Curve | 0, 0, 32, 22, 64, 56, 128, 128, 192, 196, 255, 255 |
Tone Curve Name | Medium Contrast |
Usage Terms | All rights reserved |
Version | 4.4.1 |
Vignette Amount | -48 |
Vignette Midpoint | 50 |
Web Statement | www.mikapankar.com |
White Balance | As Shot |