Shooting information for this photo
Camera: | Canon EOS 40D |
Exposure: | 0.025 sec. (1/40) |
Aperture: | f/8.0 |
Focal Length: | 24.0 mm (35 mm equivalent: 222.0 mm) |
Flash: | Off, Did not fire |
Exposure mode: | Aperture-priority AE |
Max Aperture: | 2.8 |
Resolution: | 72 x 72 dpi |
Original Date: | 2010:10:10 17:49:09.00 |
Digitized Date: | 2010:10:10 17:49:09.00+02:00 |
Created on: | 2010:10:10 17:49:09.00 |
Modified on: | 2010:10:20 13:57:01 |
Copyright: | Mika Pankar |
Already Applied | True |
Blue Hue | 0 |
Blue Saturation | 0 |
Brightness | +75 |
Camera Profile | ACR 4.4 |
Chromatic Aberration B | 0 |
Chromatic Aberration R | 0 |
Circle Of Confusion | 0.003 mm |
Clarity | 30 |
Color Noise Reduction | 25 |
Color Temperature | 4100 |
Contrast | +50 |
Convert To Grayscale | True |
Custom Rendered | Normal |
Defringe | 0 |
Exposure | +0.42 |
Exposure Compensation | -1/3 |
Exposure Mode | Auto |
Field Of View | 9.3 deg |
Fill Light | 36 |
Firmware | 1.0.5 |
Flash Compensation | 0 |
Flash Fired | False |
Flash Function | False |
Flash Mode | Off |
Flash Red Eye Mode | False |
Flash Return | No return detection |
Gray Mixer Aqua | -19 |
Gray Mixer Blue | +25 |
Gray Mixer Green | -10 |
Gray Mixer Magenta | +4 |
Gray Mixer Orange | -15 |
Gray Mixer Purple | +13 |
Gray Mixer Red | -7 |
Gray Mixer Yellow | -18 |
Green Hue | 0 |
Green Saturation | 0 |
Has Crop | False |
Has Settings | True |
Highlight Recovery | 17 |
Hyperfocal Distance | 22.17 m |
ISO | 400 |
Image Number | 0 |
Image Size | 680x454 |
Label | Blue |
Lens | EF24-70mm f/2.8L USM |
Lens Info | 24-70mm f/? |
Light Value | 9.3 |
Luminance Smoothing | 0 |
Marked | True |
Metering Mode | Multi-segment |
Parametric Darks | -46 |
Parametric Highlight Split | 75 |
Parametric Highlights | +54 |
Parametric Lights | -48 |
Parametric Midtone Split | 50 |
Parametric Shadow Split | 25 |
Parametric Shadows | -29 |
Rating | 4 |
Red Hue | 0 |
Red Saturation | 0 |
Rights | Mika Pankar |
Scale Factor To 35 mm Equivalent | 9.3 |
Scene Capture Type | Standard |
Shadow Tint | 0 |
Shadows | 25 |
Sharpen Detail | 25 |
Sharpen Edge Masking | 0 |
Sharpen Radius | +1.0 |
Sharpness | 50 |
Split Toning Balance | 0 |
Split Toning Highlight Hue | 0 |
Split Toning Highlight Saturation | 0 |
Split Toning Shadow Hue | 0 |
Split Toning Shadow Saturation | 0 |
Subject | B&W, France, Normandie, grass, landscape, lignes, nature, trees |
Tint | +11 |
Tone Curve | 0, 0, 32, 22, 64, 56, 128, 128, 192, 196, 255, 255 |
Tone Curve Name | Medium Contrast |
Usage Terms | All rights reserved |
Version | 4.4.1 |
Vignette Amount | -56 |
Vignette Midpoint | 31 |
Web Statement | www.mikapankar.com |
White Balance | As Shot |