Shooting information for this photo
Camera: | Canon EOS 40D |
Exposure: | 0.02 sec. (1/50) |
Aperture: | f/9.0 |
Focal Length: | 400.0 mm (35 mm equivalent: 3147.4 mm) |
Flash: | Off, Did not fire |
Exposure mode: | Shutter speed priority AE |
Max Aperture: | 5.7 |
Resolution: | 72 x 72 dpi |
Original Date: | 2010:07:03 00:32:58.66+02:00 |
Digitized Date: | 2010:07:03 00:32:58.66+02:00 |
Modified on: | 2010:08:08 11:05:16+02:00 |
Already Applied | True |
Blue Hue | 0 |
Blue Saturation | 0 |
Brightness | +50 |
Camera Profile | ACR 4.4 |
Chromatic Aberration B | 0 |
Chromatic Aberration R | 0 |
Circle Of Confusion | 0.004 mm |
Clarity | 20 |
Color Noise Reduction | 25 |
Color Temperature | 6350 |
Contrast | +36 |
Convert To Grayscale | True |
Crop Angle | 0 |
Crop Bottom | 1 |
Crop Height | 680 |
Crop Left | 0.121285 |
Crop Right | 0.787951 |
Crop Top | 0 |
Crop Unit | pixels |
Crop Width | 680 |
Custom Rendered | Normal |
Defringe | 0 |
Exposure | +1.00 |
Exposure Compensation | 0 |
Exposure Mode | Auto |
Field Of View | 0.7 deg |
Fill Light | 5 |
Firmware | 1.0.5 |
Flash Compensation | 0 |
Flash Fired | False |
Flash Function | False |
Flash Mode | Off |
Flash Red Eye Mode | False |
Flash Return | No return detection |
Gray Mixer Aqua | -18 |
Gray Mixer Blue | +9 |
Gray Mixer Green | -26 |
Gray Mixer Magenta | +4 |
Gray Mixer Orange | -18 |
Gray Mixer Purple | +15 |
Gray Mixer Red | -9 |
Gray Mixer Yellow | -22 |
Green Hue | 0 |
Green Saturation | 0 |
Has Crop | True |
Has Settings | True |
Highlight Recovery | 13 |
Hyperfocal Distance | 4655.61 m |
ISO | 800 |
Image Number | 0 |
Image Size | 680x680 |
Label | Blue |
Lens | EF100-400mm f/4.5-5.6L IS USM |
Lens Info | 100-400mm f/? |
Light Value | 9.0 |
Luminance Smoothing | 0 |
Marked | True |
Metering Mode | Spot |
Parametric Darks | -15 |
Parametric Highlight Split | 75 |
Parametric Highlights | -17 |
Parametric Lights | 0 |
Parametric Midtone Split | 50 |
Parametric Shadow Split | 25 |
Parametric Shadows | +19 |
Rating | 4 |
Red Hue | 0 |
Red Saturation | 0 |
Rights | Mika Pankar |
Scale Factor To 35 mm Equivalent | 7.9 |
Scene Capture Type | Standard |
Shadow Tint | 0 |
Shadows | 8 |
Sharpen Detail | 25 |
Sharpen Edge Masking | 0 |
Sharpen Radius | +1.0 |
Sharpness | 25 |
Split Toning Balance | 0 |
Split Toning Highlight Hue | 0 |
Split Toning Highlight Saturation | 0 |
Split Toning Shadow Hue | 0 |
Split Toning Shadow Saturation | 0 |
Subject | 2010, Beauregard, Caen, Concert, July, Normandie, Phoenix, Pop rock, music |
Tint | +31 |
Tone Curve | 0, 0, 32, 22, 64, 56, 128, 128, 192, 196, 255, 255 |
Tone Curve Name | Medium Contrast |
Usage Terms | All rights reserved |
Version | 4.4.1 |
Vignette Amount | 0 |
Web Statement | www.mikapankar.com |
White Balance | As Shot |