Shooting information for this photo
Camera: | Canon EOS 40D |
Exposure: | 0.04 sec. (1/25) |
Aperture: | f/3.2 |
Focal Length: | 70.0 mm (35 mm equivalent: 113.3 mm) |
Flash: | Off, Did not fire |
Exposure mode: | Aperture-priority AE |
Max Aperture: | 2.8 |
Resolution: | 72 x 72 dpi |
Original Date: | 2011:01:07 10:53:52.38 |
Created on: | 2011:01:07 10:53:52.38 |
Modified on: | 2011:07:18 13:13:03 |
Software: | Adobe Photoshop Lightroom 3.4.1 |
Copyright: | Mika Pankar |
Already Applied | True |
Approximate Focus Distance | 0.62 |
Blue Hue | 0 |
Blue Saturation | 0 |
Brightness | +72 |
Camera Profile | Adobe Standard |
Chromatic Aberration B | 0 |
Chromatic Aberration R | 0 |
Circle Of Confusion | 0.019 mm |
Clarity | +30 |
Color Noise Reduction | 25 |
Color Noise Reduction Detail | 50 |
Color Temperature | 5333 |
Contrast | +61 |
Convert To Grayscale | True |
Crop Angle | 0 |
Crop Bottom | 0.815504 |
Crop Constrain To Warp | 0 |
Crop Height | 340 |
Crop Left | 0 |
Crop Right | 1 |
Crop Top | 0.065504 |
Crop Unit | pixels |
Crop Width | 680 |
Custom Rendered | Normal |
Date Created | 2011:01:07 10:53:52.38+01:00 |
Defringe | 0 |
Depth Of Field | 0.008 m (0.616 - 0.624) |
Exposure | +0.75 |
Exposure Compensation | -1/3 |
Exposure Mode | Auto |
Field Of View | 18.1 deg |
Fill Light | 24 |
Firmware | 1.0.5 |
Flash Compensation | 0 |
Grain Amount | 80 |
Grain Frequency | 50 |
Grain Size | 41 |
Gray Mixer Aqua | -18 |
Gray Mixer Blue | +11 |
Gray Mixer Green | -27 |
Gray Mixer Magenta | +4 |
Gray Mixer Orange | -19 |
Gray Mixer Purple | +16 |
Gray Mixer Red | -10 |
Gray Mixer Yellow | -23 |
Green Hue | 0 |
Green Saturation | 0 |
Has Crop | True |
Has Settings | True |
Highlight Recovery | 50 |
Hyperfocal Distance | 82.50 m |
ISO | 250 |
Image Number | 0 |
Image Size | 680x340 |
Label | Blue |
Lens | EF24-70mm f/2.8L USM |
Lens ID | Canon EF 24-70mm f/2.8L |
Lens Info | 24-70mm f/? |
Lens Manual Distortion Amount | 0 |
Lens Model | EF24-70mm f/2.8L USM |
Lens Profile Enable | 0 |
Lens Profile Setup | LensDefaults |
Light Value | 6.7 |
Luminance Smoothing | 0 |
Marked | True |
Metering Mode | Multi-segment |
Parametric Darks | -21 |
Parametric Highlight Split | 75 |
Parametric Highlights | +45 |
Parametric Lights | +29 |
Parametric Midtone Split | 50 |
Parametric Shadow Split | 25 |
Parametric Shadows | -31 |
Perspective Horizontal | 0 |
Perspective Rotate | 0.0 |
Perspective Scale | 100 |
Perspective Vertical | 0 |
Post Crop Vignette Amount | -27 |
Post Crop Vignette Feather | 50 |
Post Crop Vignette Highlight Contrast | 0 |
Post Crop Vignette Midpoint | 50 |
Post Crop Vignette Roundness | 0 |
Post Crop Vignette Style | 1 |
Process Version | 5.7 |
Rating | 5 |
Red Hue | 0 |
Red Saturation | 0 |
Rights | Mika Pankar |
Scale Factor To 35 mm Equivalent | 1.6 |
Scene Capture Type | Standard |
Shadow Tint | 0 |
Shadows | 14 |
Sharpen Detail | 25 |
Sharpen Edge Masking | 0 |
Sharpen Radius | +1.0 |
Sharpness | 50 |
Split Toning Balance | 0 |
Split Toning Highlight Hue | 64 |
Split Toning Highlight Saturation | 10 |
Split Toning Shadow Hue | 75 |
Split Toning Shadow Saturation | 10 |
Subject | Akaslompolo, B&W, Finland, Lapland, Snow, animal, dog, eye, husky, look, panoramic format, tinted, winter |
Subject Distance | 0.62 m |
Tint | +3 |
Tone Curve | 0, 0, 32, 22, 64, 56, 128, 128, 192, 196, 255, 255 |
Tone Curve Name | Medium Contrast |
Usage Terms | All rights reserved |
Version | 6.4.1 |
Vignette Amount | -100 |
Vignette Midpoint | 42 |
Web Statement | www.mikapankar.com |
White Balance | Auto |