Shooting information for this photo
Camera: | Canon PowerShot S95 |
Exposure: | 0.005 sec. (1/200) |
Aperture: | f/8.0 |
Focal Length: | 8.6 mm (35 mm equivalent: 214.2 mm) |
Flash: | Off, Did not fire |
Max Aperture: | 2.8 |
Resolution: | 72 x 72 dpi |
Original Date: | 2012:01:09 13:44:05 |
Created on: | 2012:01:09 13:44:05 |
Modified on: | 2012:08:10 12:17:46 |
Software: | Adobe Photoshop Lightroom 3.6 (Macintosh) |
Copyright: | Mika Pankar |
Already Applied | True |
Approximate Focus Distance | 64.4 |
Artist | Mika |
Blue Hue | 0 |
Blue Saturation | 0 |
Brightness | +44 |
Camera Profile | Adobe Standard |
Chromatic Aberration B | 0 |
Chromatic Aberration R | 0 |
Circle Of Confusion | 0.001 mm |
Clarity | +30 |
Color Noise Reduction | 25 |
Color Noise Reduction Detail | 50 |
Color Temperature | 5350 |
Contrast | +80 |
Convert To Grayscale | True |
Creator | Mika |
Crop Angle | 0.895821 |
Crop Bottom | 1 |
Crop Constrain To Warp | 0 |
Crop Height | 510 |
Crop Left | 0.016712 |
Crop Right | 0.9848 |
Crop Top | 0 |
Crop Unit | pixels |
Crop Width | 680 |
Custom Rendered | Normal |
Date Created | 2012:01:09 13:44:05 |
Defringe | 0 |
Depth Of Field | inf (6.82 m - inf) |
Digital Zoom Ratio | 1 |
Exposure | +0.20 |
Exposure Compensation | -1/3 |
Exposure Mode | Manual |
Field Of View | 9.6 deg |
Fill Light | 35 |
Firmware | 1.00 |
Flash Compensation | 0 |
Format | image/jpeg |
Gradient Based Corr Active | true |
Gradient Based Corr Amount | 1.000000 |
Gradient Based Corr Brightness | 0.000000 |
Gradient Based Corr Clarity | 0.294118 |
Gradient Based Corr Contrast | 0.223529 |
Gradient Based Corr Exposure | -0.105882 |
Gradient Based Corr Hue | 240.000000 |
Gradient Based Corr Mask Full X | 0.249172 |
Gradient Based Corr Mask Full Y | 0.420339 |
Gradient Based Corr Mask Value | 1.000000 |
Gradient Based Corr Mask What | Mask/Gradient |
Gradient Based Corr Mask Zero X | 1.413380 |
Gradient Based Corr Mask Zero Y | 0.474067 |
Gradient Based Corr Saturation | 0.000000 |
Gradient Based Corr Sharpness | 0.000000 |
Gradient Based Corr What | Correction |
Grain Amount | 0 |
Gray Mixer Aqua | -19 |
Gray Mixer Blue | -2 |
Gray Mixer Green | -17 |
Gray Mixer Magenta | +4 |
Gray Mixer Orange | -19 |
Gray Mixer Purple | +16 |
Gray Mixer Red | -10 |
Gray Mixer Yellow | 0 |
Green Hue | 0 |
Green Saturation | 0 |
Has Crop | True |
Has Settings | True |
Highlight Recovery | 7 |
Hyperfocal Distance | 7.63 m |
ISO | 80 |
Image Size | 510x680 |
Label | Blue |
Lens | 6.0-22.5 mm |
Lens Info | 6-22.5mm f/? |
Lens Manual Distortion Amount | 0 |
Lens Model | 6.0-22.5 mm |
Lens Profile Enable | 0 |
Lens Profile Setup | LensDefaults |
Light Value | 14.0 |
Luminance Smoothing | 0 |
Marked | True |
Metering Mode | Multi-segment |
Owner Name | Mika |
Parametric Darks | -11 |
Parametric Highlight Split | 75 |
Parametric Highlights | +92 |
Parametric Lights | +33 |
Parametric Midtone Split | 50 |
Parametric Shadow Split | 25 |
Parametric Shadows | -62 |
Perspective Horizontal | 0 |
Perspective Rotate | 0.0 |
Perspective Scale | 100 |
Perspective Vertical | 0 |
Post Crop Vignette Amount | -11 |
Post Crop Vignette Feather | 50 |
Post Crop Vignette Highlight Contrast | 0 |
Post Crop Vignette Midpoint | 50 |
Post Crop Vignette Roundness | 0 |
Post Crop Vignette Style | 1 |
Process Version | 5.7 |
Rating | 4 |
Red Hue | 0 |
Red Saturation | 0 |
Rights | Mika Pankar |
Scale Factor To 35 mm Equivalent | 25.0 |
Scene Capture Type | Standard |
Sensing Method | One-chip color area |
Sensitivity Type | Standard Output Sensitivity and Recommended Exposure Index |
Shadow Tint | 0 |
Shadows | 36 |
Sharpen Detail | 25 |
Sharpen Edge Masking | 0 |
Sharpen Radius | +1.0 |
Sharpness | 51 |
Split Toning Balance | 0 |
Split Toning Highlight Hue | 0 |
Split Toning Highlight Saturation | 0 |
Split Toning Shadow Hue | 0 |
Split Toning Shadow Saturation | 0 |
Subject | Coast, France, Mont, Normandie, Rock, Saint-Michel, beach, clouds, landscape, sand, sea, sky, stone |
Subject Distance | 64.4 m |
Tint | +11 |
Tone Curve | 0, 0, 32, 22, 64, 56, 128, 128, 192, 196, 255, 255 |
Tone Curve Name | Medium Contrast |
Usage Terms | All rights reserved |
Version | 6.6 |
Vignette Amount | 0 |
Web Statement | mikazmail@yahoo.fr |
White Balance | As Shot |