Shooting information for this photo
Camera: | Canon EOS 40D |
Exposure: | 0.01667 sec. (1/60) |
Aperture: | f/4.0 |
Focal Length: | 55.0 mm (35 mm equivalent: 509.2 mm) |
Flash: | Off, Did not fire |
Exposure mode: | Aperture-priority AE |
Max Aperture: | 2.8 |
Resolution: | 72 x 72 dpi |
Original Date: | 2010:11:07 14:54:18.69 |
Digitized Date: | 2010:11:07 14:54:18.69+01:00 |
Created on: | 2010:11:07 14:54:18.69 |
Modified on: | 2010:11:28 22:30:24 |
Copyright: | Mika Pankar |
Already Applied | True |
Blue Hue | 0 |
Blue Saturation | 0 |
Brightness | +50 |
Camera Profile | ACR 4.4 |
Chromatic Aberration B | 0 |
Chromatic Aberration R | 0 |
Circle Of Confusion | 0.003 mm |
Clarity | 30 |
Color Noise Reduction | 25 |
Color Temperature | 3950 |
Contrast | +55 |
Convert To Grayscale | True |
Custom Rendered | Normal |
Defringe | 0 |
Exposure | +0.92 |
Exposure Compensation | 0 |
Exposure Mode | Auto |
Field Of View | 4.0 deg |
Fill Light | 44 |
Firmware | 1.0.5 |
Flash Compensation | 0 |
Flash Fired | False |
Flash Function | False |
Flash Mode | Off |
Flash Red Eye Mode | False |
Flash Return | No return detection |
Gray Mixer Aqua | -18 |
Gray Mixer Blue | +11 |
Gray Mixer Green | -30 |
Gray Mixer Magenta | +5 |
Gray Mixer Orange | -19 |
Gray Mixer Purple | +17 |
Gray Mixer Red | -9 |
Gray Mixer Yellow | -43 |
Green Hue | 0 |
Green Saturation | 0 |
Has Crop | False |
Has Settings | True |
Highlight Recovery | 25 |
Hyperfocal Distance | 233.01 m |
ISO | 200 |
Image Number | 0 |
Image Size | 454x680 |
Label | Blue |
Lens | EF24-70mm f/2.8L USM |
Lens Info | 24-70mm f/? |
Light Value | 8.9 |
Luminance Smoothing | 0 |
Marked | True |
Metering Mode | Multi-segment |
Parametric Darks | +2 |
Parametric Highlight Split | 75 |
Parametric Highlights | +23 |
Parametric Lights | +4 |
Parametric Midtone Split | 50 |
Parametric Shadow Split | 25 |
Parametric Shadows | -35 |
Rating | 3 |
Red Hue | 0 |
Red Saturation | 0 |
Rights | Mika Pankar |
Scale Factor To 35 mm Equivalent | 9.3 |
Scene Capture Type | Standard |
Shadow Tint | 0 |
Shadows | 18 |
Sharpen Detail | 25 |
Sharpen Edge Masking | 0 |
Sharpen Radius | +1.0 |
Sharpness | 50 |
Split Toning Balance | 0 |
Split Toning Highlight Hue | 0 |
Split Toning Highlight Saturation | 0 |
Split Toning Shadow Hue | 0 |
Split Toning Shadow Saturation | 0 |
Subject | B&W, Fall, France, Normandie, Still life, branch, diagonal, forest, grimbosq, nature, trees |
Tint | +16 |
Tone Curve | 0, 0, 32, 22, 64, 56, 128, 128, 192, 196, 255, 255 |
Tone Curve Name | Medium Contrast |
Usage Terms | All rights reserved |
Version | 4.4.1 |
Vignette Amount | -88 |
Vignette Midpoint | 35 |
Web Statement | www.mikapankar.com |
White Balance | As Shot |