Shooting information for this photo
Camera: | SONY ILCE-7M3 |
Exposure: | 0.0125 sec. (1/80) |
Aperture: | f/13.0 |
Focal Length: | 24.0 mm (35 mm equivalent: 24.0 mm) |
Flash: | Off, Did not fire |
Exposure mode: | Aperture-priority AE |
Max Aperture: | 2.8 |
Resolution: | 300 x 300 dpi |
Dimension: | 1620 x 1080 pixels |
Original Date: | 2019:12:18 12:08:20 |
Created on: | 2019:12:18 12:08:20 |
Modified on: | 2020:01:26 11:22:09 |
Software: | Adobe Photoshop CC 2019 (Windows) |
Already Applied | True |
Auto Lateral CA | 1 |
Blacks 2012 | -14 |
Blue Hue | 0 |
Blue Saturation | 0 |
Brightness Value | 8.0328125 |
Camera Profile | Adobe Standard |
Circle Of Confusion | 0.030 mm |
Clarity 2012 | +9 |
Color Mode | RGB |
Color Noise Reduction | 25 |
Color Noise Reduction Detail | 50 |
Color Noise Reduction Smoothness | 50 |
Color Space | Uncalibrated |
Color Temperature | 5400 |
Contrast | Normal |
Contrast 2012 | +3 |
Convert To Grayscale | False |
Custom Rendered | Normal |
Date Created | 2019:12:18 12:08:20+01:00 |
Defringe Green Amount | 0 |
Defringe Green Hue Hi | 60 |
Defringe Green Hue Lo | 40 |
Defringe Purple Amount | 0 |
Defringe Purple Hue Hi | 70 |
Defringe Purple Hue Lo | 30 |
Dehaze | +21 |
Digital Zoom Ratio | 1 |
Distortion Correction Already Applied | True |
Exposure 2012 | +0.25 |
Exposure Compensation | 0 |
Exposure Mode | Auto |
Field Of View | 73.7 deg |
Focal Length In 35mm Format | 24 mm |
Format | image/jpeg |
Grain Amount | 0 |
Green Hue | 0 |
Green Saturation | 0 |
Has Crop | False |
Has Settings | True |
Highlights 2012 | -65 |
Hue Adjustment Aqua | 0 |
Hue Adjustment Blue | 0 |
Hue Adjustment Green | 0 |
Hue Adjustment Magenta | 0 |
Hue Adjustment Orange | 0 |
Hue Adjustment Purple | 0 |
Hue Adjustment Red | 0 |
Hue Adjustment Yellow | 0 |
Hyperfocal Distance | 1.47 m |
ICC Profile Name | Adobe RGB (1998) |
ISO | 100 |
Image Size | 1620x1080 |
Lateral Chromatic Aberration Correction Already Applied | True |
Lens | FE 24-70mm F2.8 GM |
Lens Distort Info | 33485/32768 -94218413/1073741824 56002501/1073741824 3422066/1073741824 |
Lens Info | 24-70mm f/2.8 |
Lens Manual Distortion Amount | 0 |
Lens Model | FE 24-70mm F2.8 GM |
Lens Profile Chromatic Aberration Scale | 100 |
Lens Profile Distortion Scale | 100 |
Lens Profile Enable | 1 |
Lens Profile Filename | SONY (Sony FE 24-70mm f2.8 GM) - RAW.lcp |
Lens Profile Name | Adobe (Sony FE 24-70mm f/2.8 GM) |
Lens Profile Setup | LensDefaults |
Lens Profile Vignetting Scale | 100 |
Light Source | Unknown |
Light Value | 13.7 |
Look Amount | 1.000000 |
Look Copyright | © 2018 Adobe Systems, Inc. |
Look Group | Profiles |
Look Name | Adobe Color |
Look Parameters Camera Profile | Adobe Standard |
Look Parameters Convert To Grayscale | False |
Look Parameters Look Table | E1095149FDB39D7A057BAB208837E2 E1 |
Look Parameters Process Version | 11.0 |
Look Parameters Tone Curve PV2012 | 0, 0, 22, 16, 40, 35, 127, 127, 224, 230, 240, 246, 255, 255 |
Look Parameters Tone Curve PV2012 Blue | 0, 0, 255, 255 |
Look Parameters Tone Curve PV2012 Green | 0, 0, 255, 255 |
Look Parameters Tone Curve PV2012 Red | 0, 0, 255, 255 |
Look Parameters Version | 12.1 |
Look Supports Amount | false |
Look Supports Monochrome | false |
Look Supports Output Referred | false |
Luminance Adjustment Aqua | 0 |
Luminance Adjustment Blue | 0 |
Luminance Adjustment Green | 0 |
Luminance Adjustment Magenta | 0 |
Luminance Adjustment Orange | 0 |
Luminance Adjustment Purple | 0 |
Luminance Adjustment Red | 0 |
Luminance Adjustment Yellow | 0 |
Luminance Smoothing | 0 |
Metering Mode | Multi-segment |
Override Look Vignette | False |
Parametric Darks | 0 |
Parametric Highlight Split | 75 |
Parametric Highlights | 0 |
Parametric Lights | 0 |
Parametric Midtone Split | 50 |
Parametric Shadow Split | 25 |
Parametric Shadows | 0 |
Perspective Aspect | 0 |
Perspective Horizontal | 0 |
Perspective Rotate | 0.0 |
Perspective Scale | 100 |
Perspective Upright | 0 |
Perspective Vertical | 0 |
Perspective X | 0.00 |
Perspective Y | 0.00 |
Photometric Interpretation | RGB |
Post Crop Vignette Amount | 0 |
Process Version | 11.0 |
Recommended Exposure Index | 100 |
Red Hue | 0 |
Red Saturation | 0 |
Samples Per Pixel | 3 |
Saturation | Normal |
Saturation Adjustment Aqua | 0 |
Saturation Adjustment Blue | 0 |
Saturation Adjustment Green | 0 |
Saturation Adjustment Magenta | 0 |
Saturation Adjustment Orange | 0 |
Saturation Adjustment Purple | 0 |
Saturation Adjustment Red | 0 |
Saturation Adjustment Yellow | 0 |
Scale Factor To 35 mm Equivalent | 1.0 |
Scene Capture Type | Standard |
Scene Type | Directly photographed |
Sensitivity Type | Recommended Exposure Index |
Shadow Tint | 0 |
Shadows 2012 | +65 |
Sharpen Detail | 25 |
Sharpen Edge Masking | 0 |
Sharpen Radius | +1.0 |
Sharpness | Normal |
Split Toning Balance | 0 |
Split Toning Highlight Hue | 0 |
Split Toning Highlight Saturation | 0 |
Split Toning Shadow Hue | 0 |
Split Toning Shadow Saturation | 0 |
Texture | 0 |
Time Zone Offset | 1 |
Tint | +6 |
Tone Curve | 0, 0, 32, 22, 64, 56, 128, 128, 192, 196, 255, 255 |
Tone Curve Blue | 0, 0, 255, 255 |
Tone Curve Green | 0, 0, 255, 255 |
Tone Curve Name | Medium Contrast |
Tone Curve Name 2012 | Linear |
Tone Curve PV2012 | 0, 0, 255, 255 |
Tone Curve PV2012 Blue | 0, 0, 255, 255 |
Tone Curve PV2012 Green | 0, 0, 255, 255 |
Tone Curve PV2012 Red | 0, 0, 255, 255 |
Tone Curve Red | 0, 0, 255, 255 |
Tone Map Strength | 0 |
Version | 12.1 |
Vibrance | +15 |
Vignette Amount | 0 |
Vignette Correction Already Applied | True |
White Balance | Auto |
Whites 2012 | +7 |
GPS Information |
GPS Date Stamp | 2019:12:18 |
GPS Date/Time | 2019:12:18 11:08:20Z |
GPS Latitude | 12 deg 1' 55.10" N |
GPS Latitude Ref | North |
GPS Longitude | 61 deg 40' 24.50" W |
GPS Longitude Ref | West |
GPS Map Datum | WGS-84 |
GPS Position | 12 deg 1' 55.10" N, 61 deg 40' 24.50" W |
GPS Time Stamp | 11:08:20 |
GPS Version ID | 2.2.0.0 |