Shooting information for this photo
Camera: | SONY ILCE-7M2 |
Exposure: | 0.005 sec. (1/200) |
Aperture: | f/8.0 |
Focal Length: | 50.0 mm (35 mm equivalent: 50.0 mm) |
Flash: | Off, Did not fire |
Exposure mode: | Aperture-priority AE |
Max Aperture: | 2.8 |
Resolution: | 300 x 300 dpi |
Dimension: | 1620 x 1080 pixels |
Original Date: | 2016:07:20 10:00:31 |
Created on: | 2016:07:20 10:00:31 |
Modified on: | 2016:10:02 23:42:48 |
Software: | Adobe Photoshop CS6 (Windows) |
Already Applied | True |
Auto Lateral CA | 1 |
Auto White Version | 134348800 |
Blacks 2012 | 0 |
Blue Hue | 0 |
Blue Saturation | 0 |
Brightness Value | 9.6265625 |
Camera Profile | Adobe Standard |
Circle Of Confusion | 0.030 mm |
Clarity 2012 | 0 |
Color Mode | RGB |
Color Noise Reduction | 25 |
Color Noise Reduction Detail | 50 |
Color Noise Reduction Smoothness | 50 |
Color Space | sRGB |
Color Temperature | 5300 |
Contrast | Normal |
Contrast 2012 | 0 |
Convert To Grayscale | False |
Custom Rendered | Normal |
Date Created | 2016:07:20 10:00:31 |
Defringe Green Amount | 0 |
Defringe Green Hue Hi | 60 |
Defringe Green Hue Lo | 40 |
Defringe Purple Amount | 0 |
Defringe Purple Hue Hi | 70 |
Defringe Purple Hue Lo | 30 |
Dehaze | 0 |
Digital Zoom Ratio | 1 |
Exposure 2012 | -0.75 |
Exposure Compensation | 0 |
Exposure Mode | Auto |
Field Of View | 39.6 deg |
Focal Length In 35mm Format | 50 mm |
Format | image/jpeg |
Grain Amount | 0 |
Green Hue | 0 |
Green Saturation | 0 |
Has Crop | False |
Has Settings | True |
Highlights 2012 | -17 |
Hue Adjustment Aqua | 0 |
Hue Adjustment Blue | 0 |
Hue Adjustment Green | 0 |
Hue Adjustment Magenta | 0 |
Hue Adjustment Orange | 0 |
Hue Adjustment Purple | 0 |
Hue Adjustment Red | 0 |
Hue Adjustment Yellow | 0 |
Hyperfocal Distance | 10.40 m |
ICC Profile Name | sRGB IEC61966-2.1 |
ISO | 100 |
Image Size | 1620x1080 |
Lateral Chromatic Aberration Correction Already Applied | True |
Lens | FE 24-70mm F2.8 GM |
Lens Distort Info | 1037861055/1073741824 23650500/1073741824 7461348/1073741824 4762599/1073741824 |
Lens Info | 24-70mm f/2.8 |
Lens Manual Distortion Amount | 0 |
Lens Model | FE 24-70mm F2.8 GM |
Lens Profile Enable | 0 |
Lens Profile Setup | LensDefaults |
Lens Specification | 24, 70, 2.8, 2.8 |
Light Source | Unknown |
Light Value | 13.6 |
Luminance Adjustment Aqua | 0 |
Luminance Adjustment Blue | 0 |
Luminance Adjustment Green | 0 |
Luminance Adjustment Magenta | 0 |
Luminance Adjustment Orange | 0 |
Luminance Adjustment Purple | 0 |
Luminance Adjustment Red | 0 |
Luminance Adjustment Yellow | 0 |
Luminance Smoothing | 0 |
Metering Mode | Multi-segment |
Parametric Darks | 0 |
Parametric Highlight Split | 75 |
Parametric Highlights | 0 |
Parametric Lights | 0 |
Parametric Midtone Split | 50 |
Parametric Shadow Split | 25 |
Parametric Shadows | 0 |
Perspective Aspect | 0 |
Perspective Horizontal | 0 |
Perspective Rotate | 0.0 |
Perspective Scale | 100 |
Perspective Upright | 0 |
Perspective Vertical | 0 |
Post Crop Vignette Amount | 0 |
Process Version | 6.7 |
Rating | 0 |
Raw File Name | DSC04110.ARW |
Recommended Exposure Index | 100 |
Red Hue | 0 |
Red Saturation | 0 |
Saturation | Normal |
Saturation Adjustment Aqua | 0 |
Saturation Adjustment Blue | 0 |
Saturation Adjustment Green | 0 |
Saturation Adjustment Magenta | 0 |
Saturation Adjustment Orange | 0 |
Saturation Adjustment Purple | 0 |
Saturation Adjustment Red | 0 |
Saturation Adjustment Yellow | 0 |
Scale Factor To 35 mm Equivalent | 1.0 |
Scene Capture Type | Standard |
Scene Type | Directly photographed |
Sensitivity Type | 2 |
Shadow Tint | 0 |
Shadows 2012 | +58 |
Sharpen Detail | 25 |
Sharpen Edge Masking | 0 |
Sharpen Radius | +1.0 |
Sharpness | Normal |
Split Toning Balance | 0 |
Split Toning Highlight Hue | 0 |
Split Toning Highlight Saturation | 0 |
Split Toning Shadow Hue | 0 |
Split Toning Shadow Saturation | 0 |
Tint | +4 |
Tone Curve | 0, 0, 32, 22, 64, 56, 128, 128, 192, 196, 255, 255 |
Tone Curve Blue | 0, 0, 255, 255 |
Tone Curve Green | 0, 0, 255, 255 |
Tone Curve Name | Medium Contrast |
Tone Curve Name 2012 | Linear |
Tone Curve PV2012 | 0, 0, 255, 255 |
Tone Curve PV2012 Blue | 0, 0, 255, 255 |
Tone Curve PV2012 Green | 0, 0, 255, 255 |
Tone Curve PV2012 Red | 0, 0, 255, 255 |
Tone Curve Red | 0, 0, 255, 255 |
Tone Map Strength | 0 |
Version | 9.1.1 |
Vibrance | 0 |
Vignette Amount | 0 |
White Balance | Auto |
Whites 2012 | +20 |
GPS Information |
GPS Date Stamp | 2016:07:20 |
GPS Date/Time | 2016:07:20 10:00:31Z |
GPS Latitude | 69 deg 39' 10.90" N |
GPS Latitude Ref | North |
GPS Longitude | 18 deg 57' 54.46" E |
GPS Longitude Ref | East |
GPS Map Datum | WGS-84 |
GPS Position | 69 deg 39' 10.90" N, 18 deg 57' 54.46" E |
GPS Time Stamp | 10:00:31 |
GPS Version ID | 2.2.0.0 |