Shooting information for this photo
Camera: | Apple iPhone 15 Pro Max |
Exposure: | 0.00027 sec. (1/3700) |
Aperture: | f/2.2 |
Focal Length: | 2.2 mm (35 mm equivalent: 14.0 mm) |
Flash: | Off, Did not fire |
Exposure mode: | Program AE |
Resolution: | 300 x 300 dpi |
Dimension: | 1280 x 816 pixels |
Original Date: | 2025:02:16 12:50:18.095 |
Created on: | 2025:02:16 12:50:18.095 |
Modified on: | 2025:02:16 15:31:24 |
Software: | PhotoScape |
Already Applied | True |
Auto Lateral CA | 1 |
Blacks 2012 | +43 |
Blue Hue | -10 |
Blue Saturation | +64 |
Brightness | +50 |
Brightness Value | 10.25283231 |
Camera Profile | Embedded |
Circle Of Confusion | 0.005 mm |
Clarity 2012 | +28 |
Color Grade Blending | 50 |
Color Grade Global Hue | 0 |
Color Grade Global Lum | 0 |
Color Grade Global Sat | 0 |
Color Grade Highlight Lum | 0 |
Color Grade Midtone Hue | 0 |
Color Grade Midtone Lum | 0 |
Color Grade Midtone Sat | 0 |
Color Grade Shadow Lum | 0 |
Color Noise Reduction | 25 |
Color Noise Reduction Detail | 50 |
Color Noise Reduction Smoothness | 50 |
Color Space | sRGB |
Compatible Version | 234881024 |
Contrast | +25 |
Contrast 2012 | +8 |
Convert To Grayscale | True |
Country | Deutschland |
Country Code | DE |
Crop Angle | 0 |
Crop Bottom | 1 |
Crop Constrain To Warp | 0 |
Crop Left | 0 |
Crop Right | 1 |
Crop Top | 0 |
Dehaze | 0 |
Distortion Correction Already Applied | True |
Exposure 2012 | +0.15 |
Exposure Compensation | -0.669 |
Exposure Mode | Auto |
Field Of View | 104.3 deg |
Focal Length In 35mm Format | 14 mm |
Format | image/jpeg |
Grain Amount | 9 |
Grain Frequency | 50 |
Grain Size | 25 |
Gray Mixer Aqua | +42 |
Gray Mixer Blue | +7 |
Gray Mixer Green | +38 |
Gray Mixer Magenta | +4 |
Gray Mixer Orange | +23 |
Gray Mixer Purple | +8 |
Gray Mixer Red | +12 |
Gray Mixer Yellow | +7 |
Green Hue | -9 |
Green Saturation | 0 |
HDR Edit Mode | 0 |
Has Crop | False |
Has Settings | True |
Highlights 2012 | -20 |
Hyperfocal Distance | 0.47 m |
ISO | 32 |
Image Size | 1280x816 |
Incremental Temperature | -6 |
Incremental Tint | +1 |
Lateral Chromatic Aberration Correction Already Applied | True |
Lens | iPhone 15 Pro Max back triple camera 2.22mm f/2.2 |
Lens Info | 2.22000002861193-15.6599998473 83mm f/1.77999997138807-2.8 |
Lens Make | Apple |
Lens Manual Distortion Amount | 0 |
Lens Model | iPhone 15 Pro Max back triple camera 2.22mm f/2.2 |
Lens Profile Distortion Scale | 100 |
Lens Profile Enable | 1 |
Lens Profile Filename | Apple iPhone (Apple iPhone 15 Pro Max back camera 2.22mm f2.2).lcp |
Lens Profile Is Embedded | False |
Lens Profile Name | Adobe (Apple iPhone 15 Pro Max back camera 2.22mm f/2.2) |
Lens Profile Setup | LensDefaults |
Lens Profile Vignetting Scale | 100 |
Light Value | 15.8 |
Luminance Smoothing | 0 |
Metering Mode | Multi-segment |
Override Look Vignette | True |
Parametric Darks | 0 |
Parametric Highlight Split | 75 |
Parametric Highlights | 0 |
Parametric Lights | 0 |
Parametric Midtone Split | 50 |
Parametric Shadow Split | 25 |
Parametric Shadows | 0 |
Perspective Aspect | 0 |
Perspective Horizontal | 0 |
Perspective Rotate | 0.0 |
Perspective Scale | 100 |
Perspective Upright | 0 |
Perspective Vertical | 0 |
Perspective X | 0.00 |
Perspective Y | 0.00 |
Pick | 0 |
Point Colors | -1.000000, -1.000000, -1.000000, -1.000000, -1.000000, -1.000000, -1.000000, -1.000000, -1.000000, -1.000000, -1.000000, -1.000000, -1.000000, -1.000000, -1.000000, -1.000000, -1.000000, -1.000000, -1.000000 |
Post Crop Vignette Amount | -9 |
Post Crop Vignette Feather | 85 |
Post Crop Vignette Highlight Contrast | 0 |
Post Crop Vignette Midpoint | 50 |
Post Crop Vignette Roundness | 0 |
Post Crop Vignette Style | 1 |
Preserved File Name | IMG_3493.JPG |
Process Version | 15.4 |
Raw File Name | IMG_3493.JPG |
Red Hue | -1 |
Red Saturation | 0 |
Saturation | +2 |
Scale Factor To 35 mm Equivalent | 6.3 |
Scene Capture Type | Standard |
Scene Type | Directly photographed |
Sensing Method | One-chip color area |
Shadow Tint | 0 |
Shadows | 5 |
Shadows 2012 | +35 |
Sharpen Detail | 25 |
Sharpen Edge Masking | 0 |
Sharpen Radius | +1.0 |
Sharpness | 25 |
Split Toning Balance | 0 |
Split Toning Highlight Hue | 0 |
Split Toning Highlight Saturation | 0 |
Split Toning Shadow Hue | 0 |
Split Toning Shadow Saturation | 0 |
State | Hamburg |
Subject Area | 2012 1511 2217 1330 |
Texture | 0 |
Tone Curve Name 2012 | Custom |
Tone Curve PV2012 | 0, 11, 66, 77, 163, 162, 255, 255 |
Tone Curve PV2012 Blue | 0, 0, 255, 255 |
Tone Curve PV2012 Green | 0, 0, 255, 255 |
Tone Curve PV2012 Red | 0, 0, 255, 255 |
Version | 17.2 |
Vibrance | +12 |
Vignette Amount | 0 |
White Balance | Auto |
Whites 2012 | -5 |
GPS Information |
GPS Altitude | 0.1 m Below Sea Level |
GPS Altitude Ref | Below Sea Level |
GPS Date Stamp | 2025:02:16 |
GPS Date/Time | 2025:02:16 11:50:17Z |
GPS Dest Bearing | 242.6926576 |
GPS Dest Bearing Ref | True North |
GPS Horizontal Positioning Error | 249.188824 m |
GPS Img Direction | 242.6926576 |
GPS Img Direction Ref | True North |
GPS Latitude | 53 deg 32' 35.38" N |
GPS Latitude Ref | North |
GPS Longitude | 9 deg 55' 30.05" E |
GPS Longitude Ref | East |
GPS Position | 53 deg 32' 35.38" N, 9 deg 55' 30.05" E |
GPS Speed | 0 |
GPS Speed Ref | km/h |
GPS Time Stamp | 11:50:17 |