Shooting information for this photo
Camera: | Canon EOS 70D |
Exposure: | 0.00556 sec. (1/180) |
Aperture: | f/13.0 |
Focal Length: | 35.0 mm (35 mm equivalent: 160.9 mm) |
Flash: | Off, Did not fire |
Exposure mode: | Aperture-priority AE |
Max Aperture: | 2.8 |
Resolution: | 240 x 240 dpi |
Original Date: | 2017:09:25 09:37:32.59 |
Created on: | 2017:09:25 09:37:32.59 |
Modified on: | 2018:04:18 18:15:46 |
Software: | Adobe Photoshop Lightroom 6.14 (Windows) |
Copyright: | Andrew Luyten |
Already Applied | True |
Approximate Focus Distance | 9.22 |
Artist | Andrew Luyten |
Auto Lateral CA | 0 |
Auto White Version | 134348800 |
Blacks 2012 | 0 |
Blue Hue | 0 |
Blue Saturation | 0 |
Camera Profile | Adobe Standard |
Circle Of Confusion | 0.007 mm |
City | Venezia |
Clarity 2012 | 0 |
Color Noise Reduction | 25 |
Color Noise Reduction Detail | 50 |
Color Noise Reduction Smoothness | 50 |
Color Space | sRGB |
Color Temperature | 5452 |
Contrast 2012 | +33 |
Convert To Grayscale | False |
Country | Italy |
Country Code | IT |
Creator | Andrew Luyten |
Crop Angle | 0 |
Crop Bottom | 0.871703 |
Crop Constrain To Warp | 0 |
Crop Left | 0 |
Crop Right | 0.860911 |
Crop Top | 0.010792 |
Custom Rendered | Normal |
Date Created | 2017:09:25 09:37:32.59 |
Defringe Green Amount | 0 |
Defringe Green Hue Hi | 60 |
Defringe Green Hue Lo | 40 |
Defringe Purple Amount | 0 |
Defringe Purple Hue Hi | 70 |
Defringe Purple Hue Lo | 30 |
Dehaze | 0 |
Description | A bit easier than Where's Wally? |
Exposure 2012 | +0.12 |
Exposure Compensation | 0 |
Exposure Mode | Auto |
Field Of View | 12.8 deg |
Firmware | 1.1.1 |
Flash Compensation | 0 |
Format | image/jpeg |
Grain Amount | 0 |
Green Hue | 0 |
Green Saturation | 0 |
Has Crop | True |
Has Settings | True |
Highlights 2012 | -100 |
Hue Adjustment Aqua | 0 |
Hue Adjustment Blue | 0 |
Hue Adjustment Green | 0 |
Hue Adjustment Magenta | 0 |
Hue Adjustment Orange | 0 |
Hue Adjustment Purple | 0 |
Hue Adjustment Red | 0 |
Hue Adjustment Yellow | 0 |
Hyperfocal Distance | 14.42 m |
ISO | 200 |
Image Description | A bit easier than Where's Wally? |
Image Number | 0 |
Image Size | 1920x1280 |
Lens | EF-S17-55mm f/2.8 IS USM |
Lens ID | Canon EF-S 17-55mm f/2.8 IS USM |
Lens Info | 17-55mm f/? |
Lens Manual Distortion Amount | 0 |
Lens Model | EF-S17-55mm f/2.8 IS USM |
Lens Profile Enable | 0 |
Lens Profile Setup | LensDefaults |
Light Value | 13.9 |
Luminance Adjustment Aqua | 0 |
Luminance Adjustment Blue | 0 |
Luminance Adjustment Green | 0 |
Luminance Adjustment Magenta | 0 |
Luminance Adjustment Orange | 0 |
Luminance Adjustment Purple | 0 |
Luminance Adjustment Red | 0 |
Luminance Adjustment Yellow | 0 |
Luminance Noise Reduction Contrast | 0 |
Luminance Noise Reduction Detail | 50 |
Luminance Smoothing | 20 |
Metering Mode | Multi-segment |
Owner Name | Andrew Luyten |
Parametric Darks | 0 |
Parametric Highlight Split | 75 |
Parametric Highlights | 0 |
Parametric Lights | 0 |
Parametric Midtone Split | 50 |
Parametric Shadow Split | 25 |
Parametric Shadows | 0 |
Perspective Aspect | 0 |
Perspective Horizontal | 0 |
Perspective Rotate | 0.0 |
Perspective Scale | 100 |
Perspective Upright | 0 |
Perspective Vertical | 0 |
Perspective X | 0.00 |
Perspective Y | 0.00 |
Post Crop Vignette Amount | 0 |
Process Version | 6.7 |
Rating | 1 |
Recommended Exposure Index | 200 |
Red Hue | 0 |
Red Saturation | 0 |
Rights | Andrew Luyten |
Saturation | +2 |
Saturation Adjustment Aqua | 0 |
Saturation Adjustment Blue | 0 |
Saturation Adjustment Green | 0 |
Saturation Adjustment Magenta | 0 |
Saturation Adjustment Orange | 0 |
Saturation Adjustment Purple | 0 |
Saturation Adjustment Red | 0 |
Saturation Adjustment Yellow | 0 |
Scale Factor To 35 mm Equivalent | 4.6 |
Scene Capture Type | Standard |
Sensitivity Type | Recommended Exposure Index |
Shadow Tint | 0 |
Shadows 2012 | +98 |
Sharpen Detail | 35 |
Sharpen Edge Masking | 0 |
Sharpen Radius | +0.8 |
Sharpness | 54 |
Split Toning Balance | 0 |
Split Toning Highlight Hue | 0 |
Split Toning Highlight Saturation | 0 |
Split Toning Shadow Hue | 0 |
Split Toning Shadow Saturation | 0 |
State | Veneto |
Subject | Antiche Figure, hotel |
Tint | +7 |
Title | Where's Jenny? |
Tone Curve | 0, 0, 255, 255 |
Tone Curve Blue | 0, 0, 255, 255 |
Tone Curve Green | 0, 0, 255, 255 |
Tone Curve Name | Linear |
Tone Curve Name 2012 | Linear |
Tone Curve PV2012 | 0, 0, 255, 255 |
Tone Curve PV2012 Blue | 0, 0, 255, 255 |
Tone Curve PV2012 Green | 0, 0, 255, 255 |
Tone Curve PV2012 Red | 0, 0, 255, 255 |
Tone Curve Red | 0, 0, 255, 255 |
Tone Map Strength | 0 |
Version | 10.1 |
Vibrance | +10 |
Vignette Amount | 0 |
White Balance | Manual |
Whites 2012 | 0 |
GPS Information |
GPS Altitude | 0.719 m |
GPS Latitude | 45 deg 26' 26.48" N |
GPS Latitude Ref | North |
GPS Longitude | 12 deg 19' 17.62" E |
GPS Longitude Ref | East |
GPS Position | 45 deg 26' 26.48" N, 12 deg 19' 17.62" E |
GPS Version ID | 2.2.0.0 |