Shooting information for this photo
Camera: | Panasonic DMC-LX5 |
Exposure: | 0.008 sec. (1/125) |
Aperture: | f/4.5 |
Focal Length: | 19.2 mm (35 mm equivalent: 90.0 mm) |
Flash: | Off, Did not fire |
Exposure mode: | Aperture-priority AE |
Max Aperture: | 2.0 |
Resolution: | 240 x 240 dpi |
Original Date: | 2017:09:24 09:16:35 |
Created on: | 2017:09:24 09:16:35 |
Modified on: | 2018:04:18 18:14:33 |
Software: | Adobe Photoshop Lightroom 6.14 (Windows) |
Already Applied | True |
Auto Lateral CA | 0 |
Auto White Version | 134348800 |
Blacks 2012 | 0 |
Blue Hue | 0 |
Blue Saturation | 0 |
Camera Profile | Adobe Standard |
Circle Of Confusion | 0.006 mm |
City | Venezia |
Clarity 2012 | +21 |
Color Noise Reduction | 25 |
Color Noise Reduction Detail | 50 |
Color Noise Reduction Smoothness | 50 |
Color Space | sRGB |
Color Temperature | 5750 |
Contrast | Normal |
Contrast 2012 | +12 |
Convert To Grayscale | False |
Country | Italy |
Country Code | IT |
Crop Angle | -0.317692 |
Crop Bottom | 0.951466 |
Crop Constrain To Warp | 0 |
Crop Left | 0.11301 |
Crop Right | 0.895463 |
Crop Top | 0.179135 |
Custom Rendered | Normal |
Date Created | 2017:09:24 09:16:35 |
Defringe Green Amount | 0 |
Defringe Green Hue Hi | 60 |
Defringe Green Hue Lo | 40 |
Defringe Purple Amount | 0 |
Defringe Purple Hue Hi | 70 |
Defringe Purple Hue Lo | 30 |
Dehaze | 0 |
Description | For any Latin scholars:..Crimina qui purgo triduo de morte resurgo, .Et mecum multi dudum rediere sepulti..En verus fortis qui fregit vincula mortis |
Digital Zoom Ratio | 0 |
Distortion Correction Already Applied | True |
Exposure 2012 | +0.24 |
Exposure Compensation | 0 |
Exposure Mode | Auto |
Field Of View | 22.6 deg |
Focal Length In 35mm Format | 90 mm |
Format | image/jpeg |
Gain Control | Low gain up |
Grain Amount | 0 |
Green Hue | 0 |
Green Saturation | 0 |
Has Crop | True |
Has Settings | True |
Highlights 2012 | -33 |
Hue Adjustment Aqua | 0 |
Hue Adjustment Blue | 0 |
Hue Adjustment Green | 0 |
Hue Adjustment Magenta | 0 |
Hue Adjustment Orange | 0 |
Hue Adjustment Purple | 0 |
Hue Adjustment Red | 0 |
Hue Adjustment Yellow | 0 |
Hyperfocal Distance | 12.78 m |
ISO | 160 |
Image Description | For any Latin scholars:..Crimina qui purgo triduo de morte resurgo, .Et mecum multi dudum rediere sepulti..En verus fortis qui fregit vincula mortis |
Image Size | 1920x1080 |
Lateral Chromatic Aberration Correction Already Applied | True |
Lens Manual Distortion Amount | 0 |
Lens Profile Enable | 0 |
Lens Profile Setup | LensDefaults |
Light Source | Unknown |
Light Value | 10.6 |
Luminance Adjustment Aqua | 0 |
Luminance Adjustment Blue | 0 |
Luminance Adjustment Green | 0 |
Luminance Adjustment Magenta | 0 |
Luminance Adjustment Orange | 0 |
Luminance Adjustment Purple | 0 |
Luminance Adjustment Red | 0 |
Luminance Adjustment Yellow | 0 |
Luminance Noise Reduction Contrast | 0 |
Luminance Noise Reduction Detail | 50 |
Luminance Smoothing | 17 |
Metering Mode | Multi-segment |
Parametric Darks | 0 |
Parametric Highlight Split | 75 |
Parametric Highlights | 0 |
Parametric Lights | 0 |
Parametric Midtone Split | 50 |
Parametric Shadow Split | 25 |
Parametric Shadows | 0 |
Perspective Aspect | 0 |
Perspective Horizontal | 0 |
Perspective Rotate | 0.0 |
Perspective Scale | 100 |
Perspective Upright | 0 |
Perspective Vertical | 0 |
Perspective X | 0.00 |
Perspective Y | 0.00 |
Post Crop Vignette Amount | 0 |
Process Version | 6.7 |
Rating | 1 |
Red Hue | 0 |
Red Saturation | 0 |
Saturation | Normal |
Saturation Adjustment Aqua | 0 |
Saturation Adjustment Blue | 0 |
Saturation Adjustment Green | 0 |
Saturation Adjustment Magenta | 0 |
Saturation Adjustment Orange | 0 |
Saturation Adjustment Purple | 0 |
Saturation Adjustment Red | 0 |
Saturation Adjustment Yellow | 0 |
Scale Factor To 35 mm Equivalent | 4.7 |
Scene Capture Type | Standard |
Scene Type | Directly photographed |
Sensing Method | One-chip color area |
Shadow Tint | 0 |
Shadows 2012 | +14 |
Sharpen Detail | 35 |
Sharpen Edge Masking | 0 |
Sharpen Radius | +0.8 |
Sharpness | Normal |
Split Toning Balance | 0 |
Split Toning Highlight Hue | 0 |
Split Toning Highlight Saturation | 0 |
Split Toning Shadow Hue | 0 |
Split Toning Shadow Saturation | 0 |
State | Veneto |
Subject | Basilica San Marco, cathedral |
Tint | +4 |
Title | Resurrection Mosaic |
Tone Curve | 0, 0, 255, 255 |
Tone Curve Blue | 0, 0, 255, 255 |
Tone Curve Green | 0, 0, 255, 255 |
Tone Curve Name | Linear |
Tone Curve Name 2012 | Linear |
Tone Curve PV2012 | 0, 0, 255, 255 |
Tone Curve PV2012 Blue | 0, 0, 255, 255 |
Tone Curve PV2012 Green | 0, 0, 255, 255 |
Tone Curve PV2012 Red | 0, 0, 255, 255 |
Tone Curve Red | 0, 0, 255, 255 |
Tone Map Strength | 0 |
Version | 10.1 |
Vibrance | +19 |
Vignette Amount | 0 |
White Balance | Auto |
Whites 2012 | 0 |
GPS Information |
GPS Altitude | 1.6127 m |
GPS Latitude | 45 deg 26' 4.35" N |
GPS Latitude Ref | North |
GPS Longitude | 12 deg 20' 21.72" E |
GPS Longitude Ref | East |
GPS Position | 45 deg 26' 4.35" N, 12 deg 20' 21.72" E |
GPS Version ID | 2.2.0.0 |