Shooting information for this photo
Camera: | Canon EOS 70D |
Exposure: | 0.00133 sec. (1/750) |
Aperture: | f/3.5 |
Focal Length: | 28.0 mm (35 mm equivalent: 128.7 mm) |
Flash: | Off, Did not fire |
Exposure mode: | Aperture-priority AE |
Max Aperture: | 2.8 |
Resolution: | 240 x 240 dpi |
Original Date: | 2017:09:17 14:56:54.00 |
Created on: | 2017:09:17 14:56:54.00 |
Modified on: | 2018:03:16 17:59:32 |
Software: | Adobe Photoshop Lightroom 6.14 (Windows) |
Copyright: | © Andrew Luyten 2017 |
Already Applied | True |
Approximate Focus Distance | 9.22 |
Artist | Andrew Luyten |
Auto Lateral CA | 0 |
Auto White Version | 134348800 |
Blacks 2012 | 0 |
Blue Hue | 0 |
Blue Saturation | 0 |
Camera Profile | Adobe Standard |
Circle Of Confusion | 0.007 mm |
City | Prags |
Clarity 2012 | +17 |
Color Noise Reduction | 25 |
Color Noise Reduction Detail | 50 |
Color Noise Reduction Smoothness | 50 |
Color Space | sRGB |
Color Temperature | 6524 |
Contrast 2012 | +26 |
Convert To Grayscale | False |
Country | Italy |
Country Code | IT |
Creator | Andrew Luyten |
Crop Angle | 1.88508 |
Crop Bottom | 1 |
Crop Constrain To Warp | 0 |
Crop Left | 0.029683 |
Crop Right | 0.961728 |
Crop Top | 0 |
Custom Rendered | Normal |
Date Created | 2017:09:17 14:56:54.00 |
Defringe Green Amount | 0 |
Defringe Green Hue Hi | 60 |
Defringe Green Hue Lo | 40 |
Defringe Purple Amount | 0 |
Defringe Purple Hue Hi | 70 |
Defringe Purple Hue Lo | 30 |
Dehaze | 0 |
Description | With Seekofel providing a backdrop. |
Distortion Correction Already Applied | True |
Exposure 2012 | 0.00 |
Exposure Compensation | 0 |
Exposure Mode | Auto |
Field Of View | 15.9 deg |
Firmware | 1.1.1 |
Flash Compensation | 0 |
Format | image/jpeg |
Grain Amount | 0 |
Green Hue | 0 |
Green Saturation | 0 |
Has Crop | True |
Has Settings | True |
Highlights 2012 | -74 |
Hue Adjustment Aqua | 0 |
Hue Adjustment Blue | 0 |
Hue Adjustment Green | 0 |
Hue Adjustment Magenta | 0 |
Hue Adjustment Orange | 0 |
Hue Adjustment Purple | 0 |
Hue Adjustment Red | 0 |
Hue Adjustment Yellow | 0 |
Hyperfocal Distance | 34.28 m |
ISO | 200 |
Image Description | With Seekofel providing a backdrop. |
Image Number | 0 |
Image Size | 1920x1280 |
Lens | EF-S17-55mm f/2.8 IS USM |
Lens ID | Canon EF-S 17-55mm f/2.8 IS USM |
Lens Info | 17-55mm f/? |
Lens Manual Distortion Amount | 0 |
Lens Model | EF-S17-55mm f/2.8 IS USM |
Lens Profile Chromatic Aberration Scale | 100 |
Lens Profile Distortion Scale | 100 |
Lens Profile Enable | 1 |
Lens Profile Filename | Canon EOS 50D (Canon EF-S 17-55mm f2.8 IS USM) - RAW.lcp |
Lens Profile Name | Adobe (Canon EF-S 17-55mm f/2.8 IS USM) |
Lens Profile Setup | LensDefaults |
Lens Profile Vignetting Scale | 100 |
Light Value | 12.2 |
Luminance Adjustment Aqua | 0 |
Luminance Adjustment Blue | 0 |
Luminance Adjustment Green | 0 |
Luminance Adjustment Magenta | 0 |
Luminance Adjustment Orange | 0 |
Luminance Adjustment Purple | 0 |
Luminance Adjustment Red | 0 |
Luminance Adjustment Yellow | 0 |
Luminance Smoothing | 0 |
Marked | True |
Metering Mode | Multi-segment |
Owner Name | Andrew Luyten |
Parametric Darks | -26 |
Parametric Highlight Split | 75 |
Parametric Highlights | -53 |
Parametric Lights | -26 |
Parametric Midtone Split | 50 |
Parametric Shadow Split | 25 |
Parametric Shadows | -7 |
Perspective Aspect | 0 |
Perspective Horizontal | 0 |
Perspective Rotate | 0.0 |
Perspective Scale | 100 |
Perspective Upright | 0 |
Perspective Vertical | 0 |
Perspective X | 0.00 |
Perspective Y | 0.00 |
Post Crop Vignette Amount | 0 |
Process Version | 6.7 |
Rating | 2 |
Recommended Exposure Index | 200 |
Red Hue | 0 |
Red Saturation | 0 |
Rights | © Andrew Luyten 2017 |
Saturation | +10 |
Saturation Adjustment Aqua | 0 |
Saturation Adjustment Blue | 0 |
Saturation Adjustment Green | 0 |
Saturation Adjustment Magenta | 0 |
Saturation Adjustment Orange | 0 |
Saturation Adjustment Purple | 0 |
Saturation Adjustment Red | 0 |
Saturation Adjustment Yellow | 0 |
Scale Factor To 35 mm Equivalent | 4.6 |
Scene Capture Type | Standard |
Sensitivity Type | Recommended Exposure Index |
Shadow Tint | 0 |
Shadows 2012 | +62 |
Sharpen Detail | 35 |
Sharpen Edge Masking | 0 |
Sharpen Radius | +0.8 |
Sharpness | 40 |
Split Toning Balance | 0 |
Split Toning Highlight Hue | 0 |
Split Toning Highlight Saturation | 0 |
Split Toning Shadow Hue | 0 |
Split Toning Shadow Saturation | 0 |
State | Trentino-Alto Adige |
Subject | Croda del Becco, Dolomites, Exodus, Lago di Braies, Seekofel, hotel |
Tint | +7 |
Title | Pragser Wildsee Hotel |
Tone Curve | 0, 0, 255, 255 |
Tone Curve Blue | 0, 0, 255, 255 |
Tone Curve Green | 0, 0, 255, 255 |
Tone Curve Name | Linear |
Tone Curve Name 2012 | Linear |
Tone Curve PV2012 | 0, 0, 255, 255 |
Tone Curve PV2012 Blue | 0, 0, 255, 255 |
Tone Curve PV2012 Green | 0, 0, 255, 255 |
Tone Curve PV2012 Red | 0, 0, 255, 255 |
Tone Curve Red | 0, 0, 255, 255 |
Tone Map Strength | 0 |
Usage Terms | All Rights Reserved. |
Version | 10.1 |
Vibrance | +14 |
Vignette Amount | 0 |
Vignette Correction Already Applied | True |
White Balance | Manual |
Whites 2012 | 0 |
GPS Information |
GPS Altitude | 1499.238 m |
GPS Latitude | 46 deg 41' 58.79" N |
GPS Latitude Ref | North |
GPS Longitude | 12 deg 5' 6.14" E |
GPS Longitude Ref | East |
GPS Position | 46 deg 41' 58.79" N, 12 deg 5' 6.14" E |
GPS Version ID | 2.2.0.0 |