Shooting information for this photo
Camera: | Canon EOS 350D DIGITAL |
Exposure: | 0.00625 sec. (1/160) |
Aperture: | f/9.0 |
Focal Length: | 28.0 mm (35 mm equivalent: 45.4 mm) |
Flash: | Off, Did not fire |
Exposure mode: | Aperture-priority AE |
Max Aperture: | 2.8 |
Resolution: | 240 x 240 dpi |
Original Date: | 2008:11:05 12:00:37 |
Created on: | 2008:11:05 12:00:37 |
Modified on: | 2012:12:22 18:01:08 |
Software: | Adobe Photoshop Lightroom 4.2 (Windows) |
Copyright: | Andrew Luyten 2008 |
Already Applied | True |
Artist | Andrew Luyten |
Auto Lateral CA | 0 |
Blue Hue | 0 |
Blue Saturation | 0 |
Brightness | +59 |
Camera Profile | ACR 3.1 |
Circle Of Confusion | 0.019 mm |
City | Ambleside |
Clarity | +81 |
Color Noise Reduction | 25 |
Color Temperature | 5571 |
Contrast | +41 |
Convert To Grayscale | False |
Country | United Kingdom |
Creator | Andrew Luyten |
Custom Rendered | Normal |
Date Created | 2008:11:05 12:00:37Z |
Defringe Green Amount | 0 |
Defringe Green Hue Hi | 60 |
Defringe Green Hue Lo | 40 |
Defringe Purple Amount | 0 |
Defringe Purple Hue Hi | 70 |
Defringe Purple Hue Lo | 30 |
Description | The mist returns as we decend to the Langdale Pikes plateau but with low sun behind us we are treated to our own personal rainbows! |
Exposure | -0.38 |
Exposure Compensation | +1/3 |
Exposure Mode | Auto |
Field Of View | 43.2 deg |
Fill Light | 0 |
Firmware | 1.0.1 |
Flash Compensation | 0 |
Format | image/jpeg |
Grain Amount | 0 |
Green Hue | 0 |
Green Saturation | 0 |
Has Crop | False |
Has Settings | True |
Highlight Recovery | 0 |
Hue Adjustment Aqua | 0 |
Hue Adjustment Blue | 0 |
Hue Adjustment Green | 0 |
Hue Adjustment Magenta | 0 |
Hue Adjustment Orange | 0 |
Hue Adjustment Purple | 0 |
Hue Adjustment Red | 0 |
Hue Adjustment Yellow | 0 |
Hyperfocal Distance | 4.70 m |
ISO | 200 |
Image Description | The mist returns as we decend to the Langdale Pikes plateau but with low sun behind us we are treated to our own personal rainbows! |
Image Number | 161 |
Image Size | 1280x1920 |
Lens | 17.0-55.0 mm |
Lens Info | 17-55mm f/? |
Lens Manual Distortion Amount | 0 |
Lens Model | 17.0-55.0 mm |
Lens Profile Enable | 0 |
Lens Profile Setup | LensDefaults |
Light Value | 12.7 |
Location | Borrowdale |
Luminance Adjustment Aqua | 0 |
Luminance Adjustment Blue | 0 |
Luminance Adjustment Green | 0 |
Luminance Adjustment Magenta | 0 |
Luminance Adjustment Orange | 0 |
Luminance Adjustment Purple | 0 |
Luminance Adjustment Red | 0 |
Luminance Adjustment Yellow | 0 |
Luminance Smoothing | 0 |
Marked | True |
Metering Mode | Multi-segment |
Owner Name | Andrew Luyten |
Parametric Darks | -10 |
Parametric Highlight Split | 75 |
Parametric Highlights | -47 |
Parametric Lights | -100 |
Parametric Midtone Split | 50 |
Parametric Shadow Split | 25 |
Parametric Shadows | 0 |
Perspective Horizontal | 0 |
Perspective Rotate | 0.0 |
Perspective Scale | 100 |
Perspective Vertical | 0 |
Post Crop Vignette Amount | 0 |
Process Version | 5.0 |
Red Hue | 0 |
Red Saturation | 0 |
Rights | Andrew Luyten 2008 |
Saturation | +7 |
Saturation Adjustment Aqua | 0 |
Saturation Adjustment Blue | 0 |
Saturation Adjustment Green | 0 |
Saturation Adjustment Magenta | 0 |
Saturation Adjustment Orange | 0 |
Saturation Adjustment Purple | 0 |
Saturation Adjustment Red | 0 |
Saturation Adjustment Yellow | 0 |
Scale Factor To 35 mm Equivalent | 1.6 |
Scene Capture Type | Standard |
Shadow Tint | 0 |
Shadows | 5 |
Sharpen Detail | 25 |
Sharpen Edge Masking | 0 |
Sharpen Radius | +1.0 |
Sharpness | 25 |
Split Toning Balance | 0 |
Split Toning Highlight Hue | 0 |
Split Toning Highlight Saturation | 0 |
Split Toning Shadow Hue | 0 |
Split Toning Shadow Saturation | 0 |
State | England |
Subject | California, Cumbria, England, LakeDistrict, Langdale, NationalPark, UK, brocken spectre, mist |
Tint | +4 |
Title | Brocken Spectre |
Tone Curve | 0, 0, 32, 22, 64, 56, 128, 128, 192, 196, 255, 255 |
Tone Curve Blue | 0, 0, 255, 255 |
Tone Curve Green | 0, 0, 255, 255 |
Tone Curve Name | Medium Contrast |
Tone Curve Red | 0, 0, 255, 255 |
Version | 7.2 |
Vibrance | +64 |
Vignette Amount | 0 |
White Balance | Auto |
GPS Information |
GPS Altitude | 705.3 m Above Sea Level |
GPS Altitude Ref | Above Sea Level |
GPS Date Stamp | 2008:11:05 |
GPS Date/Time | 2008:11:05 12:00:37Z |
GPS Latitude | 54 deg 27' 23.45" N |
GPS Latitude Ref | North |
GPS Longitude | 3 deg 7' 16.19" W |
GPS Longitude Ref | West |
GPS Map Datum | WGS 84 |
GPS Position | 54 deg 27' 23.45" N, 3 deg 7' 16.19" W |
GPS Time Stamp | 12:00:37 |
GPS Version ID | 2.2.0.0 |