Shooting information for this photo
Camera: | Canon EOS 350D DIGITAL |
Exposure: | 0.001 sec. (1/1000) |
Aperture: | f/8.0 |
Focal Length: | 115.0 mm |
Flash: | Off, Did not fire |
Exposure mode: | Aperture-priority AE |
Max Aperture: | 4.0 |
Resolution: | 240 x 240 dpi |
Original Date: | 2005:08:05 06:18:06 |
Modified on: | 2012:12:29 18:00:53 |
Software: | Adobe Photoshop Lightroom 4.3 (Windows) |
Copyright: | © Andrew Luyten 2005 |
Already Applied | True |
Artist | Andrew Luyten |
Auto Lateral CA | 0 |
Blacks 2012 | +5 |
Blue Hue | 0 |
Blue Saturation | 0 |
Camera Profile | Embedded |
Clarity 2012 | +10 |
Color Noise Reduction | 48 |
Color Noise Reduction Detail | 50 |
Color Temperature | 5550 |
Contrast 2012 | +14 |
Convert To Grayscale | False |
Creator | Andrew Luyten |
Date Created | 2005:08:05 06:18:06+01:00 |
Defringe Green Amount | 0 |
Defringe Green Hue Hi | 60 |
Defringe Green Hue Lo | 40 |
Defringe Purple Amount | 0 |
Defringe Purple Hue Hi | 70 |
Defringe Purple Hue Lo | 30 |
Exposure 2012 | +1.76 |
Exposure Compensation | -0.33 |
Firmware | 1.0.1 |
Flash Compensation | 0 |
Format | image/jpeg |
Grain Amount | 0 |
Green Hue | 0 |
Green Saturation | 0 |
Has Crop | False |
Has Settings | True |
Highlights 2012 | 0 |
Hue Adjustment Aqua | 0 |
Hue Adjustment Blue | 0 |
Hue Adjustment Green | 0 |
Hue Adjustment Magenta | 0 |
Hue Adjustment Orange | 0 |
Hue Adjustment Purple | 0 |
Hue Adjustment Red | 0 |
Hue Adjustment Yellow | 0 |
ISO | 200 |
Image Number | 69 |
Image Size | 1920x1280 |
Label | Picks |
Lens | 70.0-300.0 mm |
Lens Info | 70-300mm f/? |
Lens Manual Distortion Amount | 0 |
Lens Model | 70.0-300.0 mm |
Lens Profile Enable | 0 |
Lens Profile Setup | LensDefaults |
Light Value | 15.0 |
Luminance Adjustment Aqua | 0 |
Luminance Adjustment Blue | 0 |
Luminance Adjustment Green | 0 |
Luminance Adjustment Magenta | 0 |
Luminance Adjustment Orange | 0 |
Luminance Adjustment Purple | 0 |
Luminance Adjustment Red | 0 |
Luminance Adjustment Yellow | 0 |
Luminance Noise Reduction Contrast | 18 |
Luminance Noise Reduction Detail | 24 |
Luminance Smoothing | 43 |
Marked | True |
Metering Mode | Multi-segment |
Owner Name | Andrew Luyten |
Parametric Darks | 0 |
Parametric Highlight Split | 75 |
Parametric Highlights | 0 |
Parametric Lights | 0 |
Parametric Midtone Split | 50 |
Parametric Shadow Split | 25 |
Parametric Shadows | 0 |
Perspective Horizontal | 0 |
Perspective Rotate | 0.0 |
Perspective Scale | 100 |
Perspective Vertical | 0 |
Post Crop Vignette Amount | 0 |
Process Version | 6.7 |
Rating | 4 |
Red Hue | 0 |
Red Saturation | 0 |
Rights | © Andrew Luyten 2005 |
Saturation | 0 |
Saturation Adjustment Aqua | 0 |
Saturation Adjustment Blue | 0 |
Saturation Adjustment Green | 0 |
Saturation Adjustment Magenta | 0 |
Saturation Adjustment Orange | 0 |
Saturation Adjustment Purple | 0 |
Saturation Adjustment Red | 0 |
Saturation Adjustment Yellow | 0 |
Shadow Tint | 0 |
Shadows 2012 | 0 |
Sharpen Detail | 35 |
Sharpen Edge Masking | 56 |
Sharpen Radius | +0.8 |
Sharpness | 40 |
Split Toning Balance | 0 |
Split Toning Highlight Hue | 0 |
Split Toning Highlight Saturation | 0 |
Split Toning Shadow Hue | 0 |
Split Toning Shadow Saturation | 0 |
Subject | Aiguille du Midi, France, Getty, Landscape, Mont Blanc, Mont Maudit, Snow, alps, mist, mountain, summit |
Tint | +1 |
Tone Curve Name 2012 | Linear |
Tone Curve PV2012 | 0, 0, 255, 255 |
Tone Curve PV2012 Blue | 0, 0, 255, 255 |
Tone Curve PV2012 Green | 0, 0, 255, 255 |
Tone Curve PV2012 Red | 0, 0, 255, 255 |
Version | 7.3 |
Vibrance | +10 |
Vignette Amount | 0 |
White Balance | Custom |
Whites 2012 | 0 |