Shooting information for this photo
Camera: | Canon EOS 5D Mark II |
Exposure: | 1 sec. |
Aperture: | f/6.3 |
Focal Length: | 17.0 mm |
Resolution: | 300 x 300 dpi |
Original Date: | 2013:09:26 19:22:41 |
Modified on: | 2013:09:28 18:45:35 |
Software: | Adobe Photoshop Lightroom 4.4 (Windows) |
Already Applied | True |
Auto Lateral CA | 0 |
Black Clip | 0.092450 |
Blacks 2012 | 0 |
Blue Hue | 0 |
Blue Saturation | 0 |
Camera Profile | Embedded |
Clarity 2012 | +43 |
Color Noise Reduction | 0 |
Color Saturation | 59.0 |
Color Temperature | 3.0 |
Contrast 2012 | 0 |
Convert To Grayscale | False |
Date Created | 2013:09:26 19:22:41 |
Defringe Green Amount | 0 |
Defringe Green Hue Hi | 60 |
Defringe Green Hue Lo | 40 |
Defringe Purple Amount | 0 |
Defringe Purple Hue Hi | 70 |
Defringe Purple Hue Lo | 30 |
Exposure 2012 | 0.00 |
Format | image/jpeg |
Gamma | 1.09 |
Grain Amount | 0 |
Green Hue | 0 |
Green Saturation | 0 |
Has Crop | False |
Has Settings | True |
Highlights 2012 | 0 |
Highlights Smoothing | 4.0 |
Hue Adjustment Aqua | 0 |
Hue Adjustment Blue | 0 |
Hue Adjustment Green | -13 |
Hue Adjustment Magenta | 0 |
Hue Adjustment Orange | 0 |
Hue Adjustment Purple | +34 |
Hue Adjustment Red | 0 |
Hue Adjustment Yellow | 0 |
ISO | 160 |
Image Size | 1120x1680 |
Incremental Temperature | 0 |
Incremental Tint | 0 |
Is Pano 360 | No |
Lens Manual Distortion Amount | 0 |
Lens Profile Enable | 0 |
Lens Profile Setup | LensDefaults |
Light Value | 4.6 |
Luminance Adjustment Aqua | 0 |
Luminance Adjustment Blue | 0 |
Luminance Adjustment Green | +39 |
Luminance Adjustment Magenta | 0 |
Luminance Adjustment Orange | 0 |
Luminance Adjustment Purple | +12 |
Luminance Adjustment Red | 0 |
Luminance Adjustment Yellow | 0 |
Luminance Smoothing | 0 |
Luminosity | 0.7 |
Method | Details Enhancer |
Microcontrast | 8.5 |
Microsmoothing | 2.2 |
Parametric Darks | +12 |
Parametric Highlight Split | 75 |
Parametric Highlights | 0 |
Parametric Lights | 0 |
Parametric Midtone Split | 50 |
Parametric Shadow Split | 25 |
Parametric Shadows | 0 |
Perspective Horizontal | 0 |
Perspective Rotate | 0.0 |
Perspective Scale | 100 |
Perspective Vertical | 0 |
Post Crop Vignette Amount | 0 |
Process Version | 6.7 |
Red Hue | 0 |
Red Saturation | 0 |
Saturation | 0 |
Saturation Adjustment Aqua | +9 |
Saturation Adjustment Blue | +14 |
Saturation Adjustment Green | 0 |
Saturation Adjustment Magenta | +61 |
Saturation Adjustment Orange | 0 |
Saturation Adjustment Purple | +14 |
Saturation Adjustment Red | 0 |
Saturation Adjustment Yellow | 0 |
Saturation Highlights | 0.3 |
Saturation Shadows | 0.0 |
Shadow Tint | 0 |
Shadows 2012 | +51 |
Shadows Clipping | 0.0 |
Shadows Smoothing | 0.0 |
Sharpen Detail | 25 |
Sharpen Edge Masking | 0 |
Sharpen Radius | +1.0 |
Sharpness | 30 |
Smoothing | 4.1 |
Smoothing Mode | Slider |
Split Toning Balance | 0 |
Split Toning Highlight Hue | 0 |
Split Toning Highlight Saturation | 0 |
Split Toning Shadow Hue | 0 |
Split Toning Shadow Saturation | 0 |
Strength | 86.0 |
Tone Curve Name 2012 | Linear |
Tone Curve PV2012 | 0, 0, 255, 255 |
Tone Curve PV2012 Blue | 0, 0, 255, 255 |
Tone Curve PV2012 Green | 0, 0, 255, 255 |
Tone Curve PV2012 Red | 0, 0, 255, 255 |
Version | 7.4 |
Vibrance | +30 |
Vignette Amount | 0 |
White Balance | As Shot |
White Clip | 0.175400 |
Whites 2012 | 0 |