Shooting information for this photo
Camera: | OLYMPUS IMAGING CORP. E-M1 |
Exposure: | 0.00125 sec. (1/800) |
Aperture: | f/2.8 |
Focal Length: | 60.0 mm (35 mm equivalent: 120.0 mm) |
Flash: | Auto, Did not fire |
Exposure mode: | Manual |
Max Aperture: | 2.8 |
Resolution: | 240 x 240 dpi |
Original Date: | 2018:05:13 03:38:30 |
Created on: | 2018:05:13 03:38:30 |
Modified on: | 2018:05:12 23:45:48 |
Software: | Adobe Photoshop Lightroom 5.7 (Windows) |
Copyright: | L. Bruce Dean |
Already Applied | True |
Approximate Focus Distance | 0.32 |
Artist | L. Bruce Dean |
Auto Lateral CA | 0 |
Auto White Version | 134348800 |
Blacks 2012 | -45 |
Blue Hue | 0 |
Blue Saturation | 0 |
CFA Pattern | [Blue,Green][Green,Red] |
Camera Profile | Adobe Standard |
Circle Of Confusion | 0.015 mm |
Clarity 2012 | 0 |
Color Noise Reduction | 25 |
Color Noise Reduction Detail | 50 |
Color Noise Reduction Smoothness | 50 |
Color Temperature | 5800 |
Contrast | Normal |
Contrast 2012 | 0 |
Convert To Grayscale | True |
Creator | L. Bruce Dean |
Custom Rendered | Normal |
Date Created | 2018:05:13 03:38:30 |
Description | OLYMPUS DIGITAL CAMERA |
Digital Zoom Ratio | 1 |
Exposure 2012 | 0.00 |
Exposure Compensation | 0 |
Exposure Mode | Manual |
Field Of View | 17.1 deg |
Flash Compensation | 0 |
Focal Length In 35mm Format | 120 mm |
Format | image/jpeg |
Gain Control | Low gain up |
Grain Amount | 0 |
Gray Mixer Aqua | -15 |
Gray Mixer Blue | -44 |
Gray Mixer Green | -28 |
Gray Mixer Magenta | -44 |
Gray Mixer Orange | -21 |
Gray Mixer Purple | +56 |
Gray Mixer Red | -12 |
Gray Mixer Yellow | -24 |
Green Hue | 0 |
Green Saturation | 0 |
Has Crop | False |
Has Settings | True |
Highlights 2012 | -100 |
Hyperfocal Distance | 85.58 m |
ISO | 200 |
Image Description | OLYMPUS DIGITAL CAMERA |
Image Size | 4608x3456 |
Lens | OLYMPUS M.60mm F2.8 Macro |
Lens Info | 60mm f/2.8 |
Lens Manual Distortion Amount | 0 |
Lens Model | OLYMPUS M.60mm F2.8 Macro |
Lens Profile Enable | 0 |
Lens Profile Setup | LensDefaults |
Light Source | Unknown |
Light Value | 11.6 |
Luminance Smoothing | 0 |
Metering Mode | Spot |
Parametric Darks | 0 |
Parametric Highlight Split | 75 |
Parametric Highlights | 0 |
Parametric Lights | 0 |
Parametric Midtone Split | 50 |
Parametric Shadow Split | 25 |
Parametric Shadows | 0 |
Perspective Aspect | 0 |
Perspective Horizontal | 0 |
Perspective Rotate | 0.0 |
Perspective Scale | 100 |
Perspective Upright | 0 |
Perspective Vertical | 0 |
Post Crop Vignette Amount | 0 |
Process Version | 6.7 |
Red Hue | 0 |
Red Saturation | 0 |
Rights | L. Bruce Dean |
Saturation | Normal |
Scale Factor To 35 mm Equivalent | 2.0 |
Scene Capture Type | Standard |
Sensitivity Type | Standard Output Sensitivity |
Shadow Tint | 0 |
Shadows 2012 | +10 |
Sharpen Detail | 25 |
Sharpen Edge Masking | 0 |
Sharpen Radius | +1.0 |
Sharpness | Normal |
Split Toning Balance | 0 |
Split Toning Highlight Hue | 0 |
Split Toning Highlight Saturation | 0 |
Split Toning Shadow Hue | 0 |
Split Toning Shadow Saturation | 0 |
Subject | flowers |
Tint | +8 |
Tone Curve | 0, 0, 255, 255 |
Tone Curve Blue | 0, 0, 255, 255 |
Tone Curve Green | 0, 0, 255, 255 |
Tone Curve Name | Linear |
Tone Curve Name 2012 | Linear |
Tone Curve PV2012 | 0, 0, 255, 255 |
Tone Curve PV2012 Blue | 0, 0, 255, 255 |
Tone Curve PV2012 Green | 0, 0, 255, 255 |
Tone Curve PV2012 Red | 0, 0, 255, 255 |
Tone Curve Red | 0, 0, 255, 255 |
Version | 8.7 |
Vignette Amount | 0 |
White Balance | Auto |
Whites 2012 | +19 |