Shooting information for this photo
Camera: | Canon EOS 1000D |
Exposure: | 0.00313 sec. (1/320) |
Aperture: | f/5.6 |
Focal Length: | 55.0 mm (35 mm equivalent: 89.0 mm) |
Flash: | No Flash |
Exposure mode: | Not Defined |
Resolution: | 240 x 240 dpi |
Dimension: | 2592 x 3888 pixels |
Original Date: | 2010:04:03 10:30:09.16 |
Digitized Date: | 2010:04:03 10:30:09.16+02:00 |
Created on: | 2010:04:03 10:30:09.16 |
Modified on: | 2010:04:03 18:04:13 |
Already Applied | True |
Blue Hue | 0 |
Blue Saturation | 0 |
Brightness | +45 |
Camera Profile | Embedded |
Chromatic Aberration B | 0 |
Chromatic Aberration R | 0 |
Circle Of Confusion | 0.019 mm |
Clarity | 0 |
Color Noise Reduction | 0 |
Contrast | +1 |
Convert To Grayscale | False |
Creator | “ |
Custom Rendered | Normal |
Defringe | 0 |
Exposure | +0.17 |
Exposure Compensation | 0 |
Exposure Mode | Auto |
Field Of View | 22.9 deg |
Fill Light | 18 |
Flash Compensation | 891.5 |
Flash Fired | False |
Flash Function | False |
Flash Mode | Unknown |
Flash Red Eye Mode | False |
Flash Return | No return detection |
Green Hue | 0 |
Green Saturation | 0 |
Has Crop | False |
Has Settings | True |
Highlight Recovery | 52 |
Hue Adjustment Aqua | 0 |
Hue Adjustment Blue | 0 |
Hue Adjustment Green | 0 |
Hue Adjustment Magenta | 0 |
Hue Adjustment Orange | 0 |
Hue Adjustment Purple | 0 |
Hue Adjustment Red | -10 |
Hue Adjustment Yellow | 0 |
Hyperfocal Distance | 29.10 m |
ISO | 200 |
Image Number | 0 |
Image Size | 2592x3888 |
Incremental Temperature | 0 |
Incremental Tint | -16 |
Light Value | 12.3 |
Luminance Adjustment Aqua | 0 |
Luminance Adjustment Blue | -53 |
Luminance Adjustment Green | 0 |
Luminance Adjustment Magenta | 0 |
Luminance Adjustment Orange | 0 |
Luminance Adjustment Purple | 0 |
Luminance Adjustment Red | -40 |
Luminance Adjustment Yellow | 0 |
Luminance Smoothing | 0 |
Metering Mode | Multi-segment |
Owner Name | “ |
Parametric Darks | -17 |
Parametric Highlight Split | 75 |
Parametric Highlights | -31 |
Parametric Lights | +3 |
Parametric Midtone Split | 50 |
Parametric Shadow Split | 25 |
Parametric Shadows | -12 |
Post Crop Vignette Amount | 0 |
Red Hue | 0 |
Red Saturation | 0 |
Saturation | -8 |
Saturation Adjustment Aqua | 0 |
Saturation Adjustment Blue | +15 |
Saturation Adjustment Green | 0 |
Saturation Adjustment Magenta | 0 |
Saturation Adjustment Orange | 0 |
Saturation Adjustment Purple | 0 |
Saturation Adjustment Red | -39 |
Saturation Adjustment Yellow | 0 |
Scale Factor To 35 mm Equivalent | 1.6 |
Scene Capture Type | Standard |
Shadow Tint | 0 |
Shadows | 14 |
Sharpen Detail | 25 |
Sharpen Edge Masking | 0 |
Sharpen Radius | +1.0 |
Sharpness | 87 |
Split Toning Balance | 0 |
Split Toning Highlight Hue | 0 |
Split Toning Highlight Saturation | 0 |
Split Toning Shadow Hue | 0 |
Split Toning Shadow Saturation | 0 |
Tone Curve | 0, 0, 255, 255 |
Tone Curve Name | Linear |
Version | 5.2 |
Vibrance | +9 |
Vignette Amount | -100 |
Vignette Midpoint | 100 |
White Balance | Auto |