Shooting information for this photo
Camera: | Canon EOS-1Ds Mark III |
Exposure: | 0.00625 sec. (1/160) |
Aperture: | f/5.0 |
Focal Length: | 85.0 mm (35 mm equivalent: 84.9 mm) |
Flash: | No Flash |
Exposure mode: | Manual |
Max Aperture: | 4.0 |
Resolution: | 300 x 300 dpi |
Original Date: | 2011:03:13 11:36:06.79 |
Created on: | 2011:03:13 11:36:06.79 |
Modified on: | 2022:02:28 12:21:59 |
Software: | Adobe Photoshop Lightroom Classic 11.2 (Macintosh) |
Already Applied | True |
Approximate Focus Distance | 1.93 |
Auto Lateral CA | 0 |
Blue Hue | 0 |
Blue Saturation | 0 |
Brightness | +27 |
Camera Profile | Adobe Standard |
Circle Of Confusion | 0.030 mm |
Clarity | 0 |
Color Noise Reduction | 25 |
Color Noise Reduction Detail | 50 |
Color Noise Reduction Smoothness | 50 |
Color Space | sRGB |
Color Temperature | 4300 |
Contrast | +34 |
Convert To Grayscale | True |
Crop Angle | 0 |
Crop Bottom | 0.938824 |
Crop Constrain To Warp | 0 |
Crop Left | 0.003921 |
Crop Right | 0.629803 |
Crop Top | 0 |
Custom Rendered | Normal |
Date Created | 2011:03:13 11:36:06.79Z |
Depth Of Field | 0.15 m (1.86 - 2.01) |
Description | Fashion in Water |
Exposure | +1.00 |
Exposure Compensation | 0 |
Exposure Mode | Manual |
Field Of View | 23.9 deg |
Fill Light | 0 |
Firmware | 1.1.4 |
Flash Compensation | 0 |
Format | image/jpeg |
Grain Amount | 0 |
Gray Mixer Aqua | -27 |
Gray Mixer Blue | +17 |
Gray Mixer Green | -15 |
Gray Mixer Magenta | +9 |
Gray Mixer Orange | +23 |
Gray Mixer Purple | +11 |
Gray Mixer Red | +9 |
Gray Mixer Yellow | -29 |
Green Hue | 0 |
Green Saturation | 0 |
Has Crop | True |
Has Settings | True |
Highlight Recovery | 0 |
Hyperfocal Distance | 48.05 m |
ISO | 200 |
Image Description | Fashion in Water |
Image Number | 0 |
Image Size | 1600x1600 |
Lens | EF24-105mm f/4L IS USM |
Lens ID | Canon EF 24-105mm f/4L IS |
Lens Info | 24-105mm f/? |
Lens Manual Distortion Amount | 0 |
Lens Model | EF24-105mm f/4L IS USM |
Lens Profile Enable | 0 |
Light Value | 11.0 |
Luminance Smoothing | 0 |
Metering Mode | Multi-segment |
Override Look Vignette | False |
Parametric Darks | +12 |
Parametric Highlight Split | 75 |
Parametric Highlights | -13 |
Parametric Lights | -21 |
Parametric Midtone Split | 50 |
Parametric Shadow Split | 25 |
Parametric Shadows | -4 |
Perspective Aspect | 0 |
Perspective Horizontal | 0 |
Perspective Rotate | 0.0 |
Perspective Scale | 100 |
Perspective Upright | 0 |
Perspective Vertical | 0 |
Perspective X | 0.00 |
Perspective Y | 0.00 |
Post Crop Vignette Amount | 0 |
Process Version | 5.7 |
Rating | 3 |
Raw File Name | 4I1F3776.CR2 |
Red Hue | 0 |
Red Saturation | 0 |
Scale Factor To 35 mm Equivalent | 1.0 |
Scene Capture Type | Standard |
Shadow Tint | 0 |
Shadows | 0 |
Sharpen Detail | 25 |
Sharpen Edge Masking | 0 |
Sharpen Radius | +1.0 |
Sharpness | 25 |
Split Toning Balance | 0 |
Split Toning Highlight Hue | 0 |
Split Toning Highlight Saturation | 0 |
Split Toning Shadow Hue | 0 |
Split Toning Shadow Saturation | 0 |
Subject | Canon EOS-1Ds Mark III, Caroline, EF24-105mm f/4L IS USM, Fashion in Water, Meetup, Simulcra, Studio, continuous lighting |
Subject Distance | 1.93 m |
Tint | +12 |
Title | Studio Shoot |
Tone Curve | 0, 0, 32, 22, 64, 56, 128, 128, 192, 196, 255, 255 |
Tone Curve Blue | 0, 0, 255, 255 |
Tone Curve Green | 0, 0, 255, 255 |
Tone Curve Name | Medium Contrast |
Tone Curve Red | 0, 0, 255, 255 |
Version | 14.2 |
Vignette Amount | 0 |
Weighted Flat Subject | Studio, Simulcra, Fashion in Water, Meetup, Canon EOS-1Ds Mark III, EF24-105mm f/4L IS USM, Caroline, continuous lighting |
White Balance | Auto |