Shooting information for this photo
Camera: | Canon EOS-1D Mark III |
Exposure: | 0.0025 sec. (1/400) |
Aperture: | f/8.0 |
Focal Length: | 350.0 mm (35 mm equivalent: 448.5 mm) |
Flash: | No Flash |
Exposure mode: | Aperture-priority AE |
Max Aperture: | 5.7 |
Resolution: | 300 x 300 dpi |
Original Date: | 2012:01:11 08:11:46.51 |
Created on: | 2012:01:11 08:11:46.51 |
Modified on: | 2022:02:27 23:58:31 |
Software: | Adobe Photoshop Lightroom Classic 11.2 (Macintosh) |
Already Applied | True |
Approximate Focus Distance | 82 |
Auto Lateral CA | 0 |
Blue Hue | 0 |
Blue Saturation | 0 |
Brightness | +31 |
Camera Profile | Adobe Standard |
Circle Of Confusion | 0.023 mm |
Clarity | 0 |
Color Noise Reduction | 25 |
Color Noise Reduction Detail | 50 |
Color Noise Reduction Smoothness | 50 |
Color Space | sRGB |
Color Temperature | 6124 |
Contrast | +50 |
Convert To Grayscale | False |
Crop Angle | 0 |
Crop Bottom | 1 |
Crop Constrain To Warp | 0 |
Crop Left | 0.134663 |
Crop Right | 0.997862 |
Crop Top | 0.136801 |
Custom Rendered | Normal |
Date Created | 2012:01:11 08:11:46.51 |
Defringe Green Amount | 0 |
Defringe Green Hue Hi | 60 |
Defringe Green Hue Lo | 40 |
Defringe Purple Amount | 0 |
Defringe Purple Hue Hi | 70 |
Defringe Purple Hue Lo | 30 |
Depth Of Field | 20.83 m (72.89 - 93.72) |
Exposure | +0.80 |
Exposure Compensation | 0 |
Exposure Mode | Auto |
Field Of View | 4.6 deg |
Fill Light | 24 |
Firmware | 1.2.5 |
Flash Compensation | 0 |
Format | image/jpeg |
Grain Amount | 0 |
Gray Mixer Aqua | -18 |
Gray Mixer Blue | +11 |
Gray Mixer Green | -29 |
Gray Mixer Magenta | +4 |
Gray Mixer Orange | -22 |
Gray Mixer Purple | +17 |
Gray Mixer Red | -12 |
Gray Mixer Yellow | -26 |
Green Hue | 0 |
Green Saturation | 0 |
Has Crop | True |
Has Settings | True |
Highlight Recovery | 0 |
Hue Adjustment Aqua | 0 |
Hue Adjustment Blue | 0 |
Hue Adjustment Green | 0 |
Hue Adjustment Magenta | 0 |
Hue Adjustment Orange | 0 |
Hue Adjustment Purple | 0 |
Hue Adjustment Red | 0 |
Hue Adjustment Yellow | 0 |
Hyperfocal Distance | 653.04 m |
ISO | 200 |
Image Number | 0 |
Image Size | 1600x1067 |
Lens | EF100-400mm f/4.5-5.6L IS USM |
Lens ID | Canon EF 100-400mm f/4.5-5.6L IS |
Lens Info | 100-400mm f/? |
Lens Manual Distortion Amount | 0 |
Lens Model | EF100-400mm f/4.5-5.6L IS USM |
Lens Profile Enable | 0 |
Light Value | 13.6 |
Luminance Adjustment Aqua | 0 |
Luminance Adjustment Blue | 0 |
Luminance Adjustment Green | 0 |
Luminance Adjustment Magenta | 0 |
Luminance Adjustment Orange | 0 |
Luminance Adjustment Purple | 0 |
Luminance Adjustment Red | 0 |
Luminance Adjustment Yellow | 0 |
Luminance Smoothing | 0 |
Metering Mode | Multi-segment |
Override Look Vignette | False |
Parametric Darks | 0 |
Parametric Highlight Split | 75 |
Parametric Highlights | 0 |
Parametric Lights | 0 |
Parametric Midtone Split | 50 |
Parametric Shadow Split | 25 |
Parametric Shadows | 0 |
Perspective Aspect | 0 |
Perspective Horizontal | 0 |
Perspective Rotate | 0.0 |
Perspective Scale | 100 |
Perspective Upright | 0 |
Perspective Vertical | 0 |
Perspective X | 0.00 |
Perspective Y | 0.00 |
Post Crop Vignette Amount | 0 |
Process Version | 5.7 |
Rating | 4 |
Raw File Name | 219B1392.CR2 |
Red Hue | 0 |
Red Saturation | 0 |
Saturation | 0 |
Saturation Adjustment Aqua | 0 |
Saturation Adjustment Blue | 0 |
Saturation Adjustment Green | 0 |
Saturation Adjustment Magenta | 0 |
Saturation Adjustment Orange | 0 |
Saturation Adjustment Purple | 0 |
Saturation Adjustment Red | 0 |
Saturation Adjustment Yellow | 0 |
Scale Factor To 35 mm Equivalent | 1.3 |
Scene Capture Type | Standard |
Shadow Tint | 0 |
Shadows | 9 |
Sharpen Detail | 25 |
Sharpen Edge Masking | 0 |
Sharpen Radius | +1.0 |
Sharpness | 25 |
Split Toning Balance | 0 |
Split Toning Highlight Hue | 0 |
Split Toning Highlight Saturation | 0 |
Split Toning Shadow Hue | 0 |
Split Toning Shadow Saturation | 0 |
Subject | Africa, Animal, Canon EOS-1D Mark III, Day 8, EF100-400mm f/4.5-5.6L IS USM, East Africa, Kenya, Mammal, Mara North Conservancy, Masai Mara, Topi, Wild Arena Tour |
Subject Distance | 82 m |
Tint | +13 |
Title | Topi |
Tone Curve | 0, 0, 32, 22, 64, 56, 128, 128, 192, 196, 255, 255 |
Tone Curve Blue | 0, 0, 255, 255 |
Tone Curve Green | 0, 0, 255, 255 |
Tone Curve Name | Medium Contrast |
Tone Curve Red | 0, 0, 255, 255 |
Version | 14.2 |
Vibrance | 0 |
Vignette Amount | 0 |
Weighted Flat Subject | Kenya, Africa, East Africa, Masai Mara, Wild Arena Tour, Mara North Conservancy, Day 8, Canon EOS-1D Mark III, EF100-400mm f/4.5-5.6L IS USM, Topi |
White Balance | Auto |