Shooting information for this photo
Camera: | Apple iPhone 5s |
Exposure: | 0.03333 sec. (1/30) |
Aperture: | f/2.2 |
Focal Length: | 4.1 mm (35 mm equivalent: 30.0 mm) |
Flash: | On, Fired |
Exposure mode: | Program AE |
Resolution: | 240 x 240 dpi |
Dimension: | 3264 x 2448 pixels |
Original Date: | 2015:03:21 20:48:59.216 |
Created on: | 2015:03:21 20:48:59.216 |
Modified on: | 2015:03:30 15:29:29 |
Software: | Adobe Photoshop CS6 (Macintosh) |
Already Applied | True |
Auto Lateral CA | 0 |
Blacks 2012 | 0 |
Blue Hue | 0 |
Blue Saturation | 0 |
Brightness | 0 |
Brightness Value | 2.074555075 |
Camera Profile | Embedded |
Circle Of Confusion | 0.004 mm |
Clarity | 0 |
Clarity 2012 | +23 |
Color Mode | RGB |
Color Noise Reduction | 0 |
Color Space | Uncalibrated |
Contrast | 0 |
Contrast 2012 | 0 |
Convert To Grayscale | False |
Curve 0x | 0.046453 |
Curve 0y | 0 |
Curve 1x | 0.204967 |
Curve 1y | 0.177638 |
Curve 2x | 0.437428 |
Curve 2y | 0.438142 |
Curve 3x | 0.679958 |
Curve 3y | 0.719071 |
Curve 4x | 0.9388 |
Curve 4y | 1 |
Date Created | 2015:03:21 20:48:59.216 |
Defringe | 0 |
Exposure | 0.00 |
Exposure 2012 | -0.10 |
Exposure Mode | Auto |
Field Of View | 61.9 deg |
Fill Light | 0 |
Filters | CIPhotoEffectChrome |
Focal Length In 35mm Format | 30 mm |
Format | image/jpeg |
Grain Amount | 0 |
Green Hue | 0 |
Green Saturation | 0 |
Has Crop | False |
Has Settings | True |
Highlight Recovery | 0 |
Highlights 2012 | 0 |
Hue Adjustment Aqua | 0 |
Hue Adjustment Blue | 0 |
Hue Adjustment Green | 0 |
Hue Adjustment Magenta | 0 |
Hue Adjustment Orange | 0 |
Hue Adjustment Purple | 0 |
Hue Adjustment Red | 0 |
Hue Adjustment Yellow | 0 |
Hyperfocal Distance | 1.87 m |
ICC Profile Name | Adobe RGB (1998) |
ISO | 100 |
Image Size | 3264x2448 |
Incremental Temperature | 0 |
Incremental Tint | -2 |
Lens | iPhone 5s back camera 4.12mm f/2.2 |
Lens Info | 4.12mm f/2.2 |
Lens Make | Apple |
Lens Manual Distortion Amount | 0 |
Lens Model | iPhone 5s back camera 4.12mm f/2.2 |
Lens Profile Enable | 0 |
Lens Profile Setup | LensDefaults |
Light Value | 7.2 |
Luminance Adjustment Aqua | 0 |
Luminance Adjustment Blue | 0 |
Luminance Adjustment Green | 0 |
Luminance Adjustment Magenta | 0 |
Luminance Adjustment Orange | 0 |
Luminance Adjustment Purple | 0 |
Luminance Adjustment Red | 0 |
Luminance Adjustment Yellow | 0 |
Luminance Smoothing | 0 |
Metering Mode | Multi-segment |
Parametric Darks | 0 |
Parametric Highlight Split | 75 |
Parametric Highlights | 0 |
Parametric Lights | 0 |
Parametric Midtone Split | 50 |
Parametric Shadow Split | 25 |
Parametric Shadows | 0 |
Perspective Horizontal | 0 |
Perspective Rotate | 0.0 |
Perspective Scale | 100 |
Perspective Vertical | 0 |
Post Crop Vignette Amount | 0 |
Process Version | 6.7 |
Rating | 0 |
Raw File Name | IMG_3193.JPG |
Red Hue | 0 |
Red Saturation | 0 |
Saturation | +38 |
Saturation Adjustment Aqua | 0 |
Saturation Adjustment Blue | 0 |
Saturation Adjustment Green | 0 |
Saturation Adjustment Magenta | 0 |
Saturation Adjustment Orange | 0 |
Saturation Adjustment Purple | 0 |
Saturation Adjustment Red | 0 |
Saturation Adjustment Yellow | 0 |
Scale Factor To 35 mm Equivalent | 7.3 |
Scene Capture Type | Standard |
Scene Type | Directly photographed |
Sensing Method | One-chip color area |
Shadow Tint | 0 |
Shadows | 0 |
Shadows 2012 | 0 |
Sharpen Detail | 25 |
Sharpen Edge Masking | 0 |
Sharpen Radius | +1.0 |
Sharpness | 0 |
Split Toning Balance | 0 |
Split Toning Highlight Hue | 0 |
Split Toning Highlight Saturation | 0 |
Split Toning Shadow Hue | 0 |
Split Toning Shadow Saturation | 0 |
Subject Area | 1631 1223 1795 1077 |
Tone Curve | 12, 0, 52, 45, 112, 112, 173, 183, 239, 255 |
Tone Curve Blue | 0, 0, 255, 255 |
Tone Curve Green | 0, 0, 255, 255 |
Tone Curve Name | Custom |
Tone Curve Name 2012 | Linear |
Tone Curve PV2012 | 0, 0, 255, 255 |
Tone Curve PV2012 Blue | 0, 0, 255, 255 |
Tone Curve PV2012 Green | 0, 0, 255, 255 |
Tone Curve PV2012 Red | 0, 0, 255, 255 |
Tone Curve Red | 0, 0, 255, 255 |
Version | 7.0 |
Vibrance | +7 |
Vignette Amount | 0 |
White Balance | Auto |
Whites 2012 | +16 |
GPS Information |
GPS Altitude | 301.3 m Above Sea Level |
GPS Altitude Ref | Above Sea Level |
GPS Img Direction | 320.5467626 |
GPS Img Direction Ref | True North |
GPS Latitude | 51 deg 14' 44.22" N |
GPS Latitude Ref | North |
GPS Longitude | 7 deg 9' 4.01" E |
GPS Longitude Ref | East |
GPS Position | 51 deg 14' 44.22" N, 7 deg 9' 4.01" E |
GPS Time Stamp | 19:48:57.48 |