Shooting information for this photo
Camera: | NIKON CORPORATION NIKON Z50_2 |
Exposure: | 0.004 sec. (1/250) |
Aperture: | f/5.3 |
Focal Length: | 135.0 mm (35 mm equivalent: 202.0 mm) |
Flash: | Off, Did not fire |
Exposure mode: | Aperture-priority AE |
Resolution: | 240 x 240 dpi |
Original Date: | 2025:03:20 06:13:54.12 |
Created on: | 2025:03:20 06:13:54.12 |
Modified on: | 2025:03:20 13:56:12 |
Software: | Adobe Photoshop Lightroom Classic 14.2 (Macintosh) |
Already Applied | True |
Auto Lateral CA | 1 |
Blacks 2012 | -23 |
Blue Hue | 0 |
Blue Saturation | 0 |
CFA Pattern | [Red,Green][Green,Blue] |
Camera Profile | Adobe Standard |
Camera Profiles Aperture Value | 4.811985 |
Camera Profiles Author | Adobe |
Camera Profiles Auto Scale | False |
Camera Profiles Camera Pretty Name | Nikon Z 50 2 |
Camera Profiles Camera Raw Profile | True |
Camera Profiles Focal Length | 135 |
Camera Profiles Focus Distance | 10000 |
Camera Profiles Lens | NIKKOR Z DX 50-250mm f/4.5-6.3 VR |
Camera Profiles Lens Pretty Name | NIKKOR Z DX 50-250mm f/4.5-6.3 VR |
Camera Profiles Make | NIKON CORPORATION |
Camera Profiles Model | NIKON Z50_2 |
Camera Profiles Perspective Model Radial Distort Param 1 | 1.838234 |
Camera Profiles Perspective Model Radial Distort Param 2 | 12.482854 |
Camera Profiles Perspective Model Radial Distort Param 3 | 122.865086 |
Camera Profiles Perspective Model Scale Factor | 0.978642 |
Camera Profiles Perspective Model Version | 2 |
Camera Profiles Perspective Model Vignette Model Vignette Model Param 1 | 1 |
Camera Profiles Profile Name | Camera Settings |
Camera Profiles Sensor Format Factor | 1.530912 |
Camera Profiles Unique Camera Model | Nikon Z 50 2 |
Circle Of Confusion | 0.020 mm |
Clarity 2012 | 0 |
Color Grade Blending | 50 |
Color Grade Global Hue | 0 |
Color Grade Global Lum | 0 |
Color Grade Global Sat | 0 |
Color Grade Highlight Lum | 0 |
Color Grade Midtone Hue | 0 |
Color Grade Midtone Lum | 0 |
Color Grade Midtone Sat | 0 |
Color Grade Shadow Lum | 0 |
Color Noise Reduction | 0 |
Color Space | sRGB |
Color Temperature | 4940 |
Compatible Version | 268632064 |
Contrast | Normal |
Contrast 2012 | +7 |
Crop Angle | 0.51 |
Crop Bottom | 1 |
Crop Constrain To Warp | 0 |
Crop Left | 0.009516 |
Crop Right | 0.990484 |
Crop Top | 0 |
Custom Rendered | Custom |
Date Created | 2025:03:20 06:13:54.12+01:00 |
Defringe Green Amount | 0 |
Defringe Green Hue Hi | 60 |
Defringe Green Hue Lo | 40 |
Defringe Purple Amount | 0 |
Defringe Purple Hue Hi | 70 |
Defringe Purple Hue Lo | 30 |
Dehaze | 0 |
Distortion Correction Already Applied | True |
Enhance Denoise Already Applied | True |
Enhance Denoise Luma Amount | 50 |
Enhance Denoise Version | 251658240 |
Enhance Details Already Applied | True |
Enhance Details Version | 218300416 |
Exposure 2012 | +0.89 |
Exposure Compensation | -1/3 |
Exposure Mode | Auto |
Field Of View | 10.2 deg |
Focal Length In 35mm Format | 202 mm |
Format | image/jpeg |
Gain Control | None |
Grain Amount | 0 |
Green Hue | 0 |
Green Saturation | 0 |
HDR Edit Mode | 0 |
Has Crop | True |
Has Settings | True |
Highlights 2012 | -61 |
Hue Adjustment Aqua | 0 |
Hue Adjustment Blue | 0 |
Hue Adjustment Green | 0 |
Hue Adjustment Magenta | 0 |
Hue Adjustment Orange | 0 |
Hue Adjustment Purple | 0 |
Hue Adjustment Red | 0 |
Hue Adjustment Yellow | 0 |
Hyperfocal Distance | 171.25 m |
ISO | 360 |
Image Number | 428 |
Image Size | 5495x3663 |
Lateral Chromatic Aberration Correction Already Applied | True |
Lens | NIKKOR Z DX 50-250mm f/4.5-6.3 VR |
Lens Info | 50-250mm f/4.5-6.3 |
Lens Make | NIKON |
Lens Manual Distortion Amount | 0 |
Lens Model | NIKKOR Z DX 50-250mm f/4.5-6.3 VR |
Lens Profile Distortion Scale | 100 |
Lens Profile Enable | 1 |
Lens Profile Is Embedded | True |
Lens Profile Name | Camera Settings |
Lens Profile Setup | LensDefaults |
Lens Profile Vignetting Scale | 100 |
Light Source | Unknown |
Light Value | 10.9 |
Look Amount | 1 |
Look Copyright | © 2018 Adobe Systems, Inc. |
Look Group | Profiles |
Look Name | Adobe Color |
Look Parameters Camera Profile | Adobe Standard |
Look Parameters Convert To Grayscale | False |
Look Parameters Look Table | E1095149FDB39D7A057BAB208837E2 E1 |
Look Parameters Process Version | 15.4 |
Look Parameters Tone Curve PV2012 | 0, 0, 22, 16, 40, 35, 127, 127, 224, 230, 240, 246, 255, 255 |
Look Parameters Tone Curve PV2012 Blue | 0, 0, 255, 255 |
Look Parameters Tone Curve PV2012 Green | 0, 0, 255, 255 |
Look Parameters Tone Curve PV2012 Red | 0, 0, 255, 255 |
Look Parameters Version | 17.2 |
Look Supports Amount | false |
Look Supports Monochrome | false |
Look Supports Output Referred | false |
Luminance Adjustment Aqua | 0 |
Luminance Adjustment Blue | 0 |
Luminance Adjustment Green | 0 |
Luminance Adjustment Magenta | 0 |
Luminance Adjustment Orange | 0 |
Luminance Adjustment Purple | 0 |
Luminance Adjustment Red | 0 |
Luminance Adjustment Yellow | 0 |
Luminance Smoothing | 0 |
Metering Mode | Spot |
Override Look Vignette | False |
Parametric Darks | 0 |
Parametric Highlight Split | 75 |
Parametric Highlights | 0 |
Parametric Lights | 0 |
Parametric Midtone Split | 50 |
Parametric Shadow Split | 25 |
Parametric Shadows | 0 |
Perspective Aspect | 0 |
Perspective Horizontal | 0 |
Perspective Rotate | 0.0 |
Perspective Scale | 100 |
Perspective Upright | 0 |
Perspective Vertical | 0 |
Perspective X | 0.00 |
Perspective Y | 0.00 |
Pick | 0 |
Point Colors | -1.000000, -1.000000, -1.000000, -1.000000, -1.000000, -1.000000, -1.000000, -1.000000, -1.000000, -1.000000, -1.000000, -1.000000, -1.000000, -1.000000, -1.000000, -1.000000, -1.000000, -1.000000, -1.000000 |
Post Crop Vignette Amount | 0 |
Preserved File Name | DSC_0426.NEF |
Process Version | 15.4 |
Raw File Name | DSC_0426-Verbessert-RR.dng |
Recommended Exposure Index | 360 |
Red Hue | 0 |
Red Saturation | 0 |
Remove Areas Feather | 0 |
Remove Areas Fill method | firefly |
Remove Areas Heal Version | 2 |
Remove Areas Ingest Info | 19AF1505613D1BD1A98B9347824337 06 |
Remove Areas Masks Alpha | 0 |
Remove Areas Masks Center Value | 1 |
Remove Areas Masks Center Weight | 1 |
Remove Areas Masks Flow | 1 |
Remove Areas Masks Gesture Brush Gesture Interpretation | 0 |
Remove Areas Masks Gesture Center Weight | 0 |
Remove Areas Masks Gesture Flow | 1 |
Remove Areas Masks Gesture Mask Active | true |
Remove Areas Masks Gesture Mask Blend Mode | 0 |
Remove Areas Masks Gesture Mask Inverted | false |
Remove Areas Masks Gesture Mask Sync ID | 4C19FAF09F0B434499ACC6AF71BA51 22 |
Remove Areas Masks Gesture Mask Value | 1 |
Remove Areas Masks Gesture Radius | 0 |
Remove Areas Masks Gesture What | Mask/Paint |
Remove Areas Masks Mask Active | true |
Remove Areas Masks Mask Blend Mode | 0 |
Remove Areas Masks Mask Inverted | false |
Remove Areas Masks Mask Sub Type | 0 |
Remove Areas Masks Mask Sync ID | 4AF967E4194A4C97A2FB368D9C4E23 23 |
Remove Areas Masks Mask Value | 1 |
Remove Areas Masks Mask Version | 1 |
Remove Areas Masks Model Version | 234881976 |
Remove Areas Masks Origin | 2422,1882 |
Remove Areas Masks Perimeter Value | 0 |
Remove Areas Masks Radius | 0.006793 |
Remove Areas Masks Reference Point | 0.850621 0.987180 |
Remove Areas Masks Size X | 0.014739 |
Remove Areas Masks Size Y | 0.014739 |
Remove Areas Masks What | Mask/Paint |
Remove Areas Masks Whole Image Area | 0/1,0/1,1920/1,2880/1 |
Remove Areas Masks X | 0.625824 |
Remove Areas Masks Y | 0.978532 |
Remove Areas Method | gaussian |
Remove Areas Offset Y | 0.978768 |
Remove Areas Opacity | 1 |
Remove Areas Pm black level | 4157 |
Remove Areas Pm clio model version | 1.0.5-beta.1-1.2_1.2-8c2cea4-0 .1.27.1r16.2 |
Remove Areas Pm gamma type | 1 |
Remove Areas Pm mask remap info | 0.000000000,1.000000000,0.0000 00000,1.000000000 |
Remove Areas Pm patch | 4BC4C63606E88A3A41862903EB18A7 56 |
Remove Areas Pm patch mask | B6764C20DAF1EAE212411C72F59FE8 CE |
Remove Areas Pm patch variations Pm patch variation | E2742D32D9342B625698D78204FD78 EA |
Remove Areas Pm remap info 0 | 0.068665601,0.088944837,0.0000 00000,1.000000000 |
Remove Areas Pm remap info 1 | 0.074769206,0.106095977,0.0000 00000,1.000000000 |
Remove Areas Pm remap info 2 | 0.073441669,0.090959027,0.0000 00000,1.000000000 |
Remove Areas Pm remap info variation 0 0 | 0.067444876,0.087190054,0.0000 00000,1.000000000 |
Remove Areas Pm remap info variation 0 1 | 0.072602428,0.104768448,0.0000 00000,1.000000000 |
Remove Areas Pm remap info variation 0 2 | 0.071839474,0.090516515,0.0000 00000,1.000000000 |
Remove Areas Pm remap info variation 1 0 | 0.068604559,0.087190054,0.0000 00000,1.000000000 |
Remove Areas Pm remap info variation 1 1 | 0.075257495,0.104768448,0.0000 00000,1.000000000 |
Remove Areas Pm remap info variation 1 2 | 0.073258564,0.090089262,0.0000 00000,1.000000000 |
Remove Areas Pm search bottom | 3728 |
Remove Areas Pm search left | 4465 |
Remove Areas Pm search right | 4599 |
Remove Areas Pm search top | 3594 |
Remove Areas Pm source type | full |
Remove Areas Pm target bottom | 3728 |
Remove Areas Pm target left | 4493 |
Remove Areas Pm target right | 4571 |
Remove Areas Pm target top | 3653 |
Remove Areas Pm version | 327680 |
Remove Areas Pm whole image bottom | 3720 |
Remove Areas Pm whole image left | 16 |
Remove Areas Pm whole image right | 5584 |
Remove Areas Pm whole image top | 8 |
Remove Areas Seed | 1 |
Remove Areas Source State | sourceAutoComputed |
Remove Areas Source X | 0.589271 |
Remove Areas Spot Type | heal_patchmatch |
Saturation | Normal |
Saturation Adjustment Aqua | 0 |
Saturation Adjustment Blue | 0 |
Saturation Adjustment Green | 0 |
Saturation Adjustment Magenta | 0 |
Saturation Adjustment Orange | 0 |
Saturation Adjustment Purple | 0 |
Saturation Adjustment Red | 0 |
Saturation Adjustment Yellow | 0 |
Scale Factor To 35 mm Equivalent | 1.5 |
Scene Capture Type | Standard |
Scene Type | Directly photographed |
Sensing Method | One-chip color area |
Sensitivity Type | Recommended Exposure Index |
Shadow Tint | 0 |
Shadows 2012 | +69 |
Sharpen Detail | 25 |
Sharpen Edge Masking | 0 |
Sharpen Radius | +1.0 |
Sharpness | Normal |
Split Toning Balance | 0 |
Split Toning Highlight Hue | 0 |
Split Toning Highlight Saturation | 0 |
Split Toning Shadow Hue | 0 |
Split Toning Shadow Saturation | 0 |
Subject Distance Range | Unknown |
Texture | 0 |
Tint | +6 |
Tone Curve Name 2012 | Linear |
Tone Curve PV2012 | 0, 0, 255, 255 |
Tone Curve PV2012 Blue | 0, 0, 255, 255 |
Tone Curve PV2012 Green | 0, 0, 255, 255 |
Tone Curve PV2012 Red | 0, 0, 255, 255 |
Version | 17.2 |
Vibrance | +15 |
Vignette Amount | 0 |
Vignette Correction Already Applied | True |
White Balance | Auto |
Whites 2012 | +42 |