Shooting information for this photo
Camera: | Apple iPhone 14 Pro Max |
Exposure: | 6.0E-5 sec. (1/16000) |
Aperture: | f/1.8 |
Focal Length: | 6.9 mm (35 mm equivalent: 48.0 mm) |
Flash: | Off, Did not fire |
Exposure mode: | Program AE |
Resolution: | 240 x 240 dpi |
Original Date: | 2023:03:01 11:02:09.514 |
Created on: | 2023:03:01 11:02:09.514 |
Modified on: | 2023:03:05 12:44:52 |
Software: | Adobe Lightroom 6.2 (Macintosh) |
Copyright: | © Bernhard Sonderhuesken |
Already Applied | True |
Auto Lateral CA | 0 |
Blacks 2012 | -14 |
Blue Hue | 0 |
Blue Saturation | 0 |
Brightness Value | 11.81119147 |
Camera Profile | Apple Embedded Color Profile |
Circle Of Confusion | 0.004 mm |
Clarity 2012 | 0 |
Color Grade Blending | 50 |
Color Grade Global Hue | 0 |
Color Grade Global Lum | 0 |
Color Grade Global Sat | 0 |
Color Grade Highlight Lum | 0 |
Color Grade Midtone Hue | 0 |
Color Grade Midtone Lum | 0 |
Color Grade Midtone Sat | 0 |
Color Grade Shadow Lum | 0 |
Color Noise Reduction | 25 |
Color Noise Reduction Detail | 50 |
Color Noise Reduction Smoothness | 50 |
Color Space | sRGB |
Color Temperature | 5200 |
Compatible Version | 251658240 |
Contrast 2012 | +4 |
Crop Angle | 0 |
Crop Bottom | 0.890763 |
Crop Constrain To Warp | 0 |
Crop Left | 0 |
Crop Right | 0.992771 |
Crop Top | 0 |
Date Created | 2023:03:01 11:02:09.514+01:00 |
Defringe Green Amount | 0 |
Defringe Green Hue Hi | 60 |
Defringe Green Hue Lo | 40 |
Defringe Purple Amount | 0 |
Defringe Purple Hue Hi | 70 |
Defringe Purple Hue Lo | 30 |
Dehaze | 0 |
Exposure 2012 | +0.06 |
Exposure Compensation | 0 |
Exposure Mode | Auto |
Field Of View | 41.1 deg |
Focal Length In 35mm Format | 48 mm |
Format | image/jpeg |
Good | True |
Grain Amount | 0 |
Green Hue | 0 |
Green Saturation | 0 |
Has Crop | True |
Has Settings | True |
Highlights 2012 | -3 |
Hue Adjustment Aqua | 0 |
Hue Adjustment Blue | 0 |
Hue Adjustment Green | 0 |
Hue Adjustment Magenta | 0 |
Hue Adjustment Orange | 0 |
Hue Adjustment Purple | 0 |
Hue Adjustment Red | 0 |
Hue Adjustment Yellow | 0 |
Hyperfocal Distance | 6.09 m |
ISO | 64 |
Image Size | 4003x2694 |
Lens | iPhone 14 Pro Max back triple camera 6.86mm f/1.78 |
Lens Info | 2.22000002861193-9mm f/1.77999997138807-2.8 |
Lens Make | Apple |
Lens Manual Distortion Amount | 0 |
Lens Model | iPhone 14 Pro Max back triple camera 6.86mm f/1.78 |
Lens Profile Enable | 0 |
Light Value | 16.3 |
Look Amount | 1 |
Look Group | Profiles |
Look Name | Apple ProRaw |
Look Parameters Camera Profile | Apple Embedded Color Profile |
Look Parameters Convert To Grayscale | False |
Look Parameters Process Version | 11.0 |
Look Parameters Profile Gain Table Map | 100 |
Look Parameters Version | 15.2 |
Look Supports Monochrome | false |
Look Supports Output Referred | false |
Luminance Adjustment Aqua | 0 |
Luminance Adjustment Blue | 0 |
Luminance Adjustment Green | 0 |
Luminance Adjustment Magenta | 0 |
Luminance Adjustment Orange | 0 |
Luminance Adjustment Purple | 0 |
Luminance Adjustment Red | 0 |
Luminance Adjustment Yellow | 0 |
Luminance Smoothing | 0 |
Metering Mode | Multi-segment |
Override Look Vignette | False |
Parametric Darks | 0 |
Parametric Highlight Split | 75 |
Parametric Highlights | 0 |
Parametric Lights | 0 |
Parametric Midtone Split | 50 |
Parametric Shadow Split | 25 |
Parametric Shadows | 0 |
Perspective Aspect | 0 |
Perspective Horizontal | 0 |
Perspective Rotate | 0.0 |
Perspective Scale | 100 |
Perspective Upright | 0 |
Perspective Vertical | 0 |
Perspective X | 0.00 |
Perspective Y | 0.00 |
Post Crop Vignette Amount | 0 |
Process Version | 11.0 |
Raw File Name | IMG_3921.DNG |
Red Hue | 0 |
Red Saturation | 0 |
Rights | © Bernhard Sonderhuesken |
Saturation | +6 |
Saturation Adjustment Aqua | 0 |
Saturation Adjustment Blue | 0 |
Saturation Adjustment Green | 0 |
Saturation Adjustment Magenta | 0 |
Saturation Adjustment Orange | 0 |
Saturation Adjustment Purple | 0 |
Saturation Adjustment Red | 0 |
Saturation Adjustment Yellow | 0 |
Scale Factor To 35 mm Equivalent | 7.0 |
Scene Type | Directly photographed |
Sensing Method | One-chip color area |
Shadow Tint | 0 |
Shadows 2012 | +6 |
Sharpen Detail | 25 |
Sharpen Edge Masking | 0 |
Sharpen Radius | +1.4 |
Sharpness | 50 |
Split Toning Balance | 0 |
Split Toning Highlight Hue | 0 |
Split Toning Highlight Saturation | 0 |
Split Toning Shadow Hue | 0 |
Split Toning Shadow Saturation | 0 |
Subject Area | 2007 1505 1098 659 |
Texture | 0 |
Tint | +3 |
Tone Curve Name 2012 | Linear |
Tone Curve PV2012 | 0, 0, 255, 255 |
Tone Curve PV2012 Blue | 0, 0, 255, 255 |
Tone Curve PV2012 Green | 0, 0, 255, 255 |
Tone Curve PV2012 Red | 0, 0, 255, 255 |
Version | 15.2 |
Vibrance | +20 |
Vignette Amount | 0 |
White Balance | Auto |
Whites 2012 | +32 |
GPS Information |
GPS Altitude | 5.5 m |
GPS Dest Bearing | 152.0809441 |
GPS Dest Bearing Ref | Magnetic North |
GPS Horizontal Positioning Error | 11.60504988 m |
GPS Img Direction | 152.08 |
GPS Latitude | 49 deg 27' 15.93" N |
GPS Latitude Ref | North |
GPS Longitude | 0 deg 15' 30.84" E |
GPS Longitude Ref | East |
GPS Position | 49 deg 27' 15.93" N, 0 deg 15' 30.84" E |
GPS Speed | 0 |
GPS Speed Ref | km/h |
GPS Version ID | 2.2.0.0 |