Shooting information for this photo
Camera: | Apple iPhone 13 Pro Max |
Exposure: | 0.00036 sec. (1/2800) |
Aperture: | f/1.8 |
Focal Length: | 1.6 mm (35 mm equivalent: 13.0 mm) |
Flash: | Off, Did not fire |
Exposure mode: | Program AE |
Resolution: | 240 x 240 dpi |
Dimension: | 3914 x 2275 pixels |
Original Date: | 2022:05:07 10:35:36.950 |
Created on: | 2022:05:07 10:35:36.950 |
Modified on: | 2022:05:07 13:49:55 |
Software: | Topaz Labs |
Already Applied | True |
Auto Lateral CA | 0 |
Bits Per Sample | 8 8 8 |
Blacks 2012 | -19 |
Blue Hue | 0 |
Blue Saturation | 0 |
Brightness Value | 11.00061893 |
Camera Profile | Apple Embedded Color Profile |
Circle Of Confusion | 0.004 mm |
Clarity 2012 | 0 |
Color Grade Blending | 50 |
Color Grade Global Hue | 0 |
Color Grade Global Lum | 0 |
Color Grade Global Sat | 0 |
Color Grade Highlight Lum | 0 |
Color Grade Midtone Hue | 0 |
Color Grade Midtone Lum | 0 |
Color Grade Midtone Sat | 0 |
Color Grade Shadow Lum | 0 |
Color Noise Reduction | 25 |
Color Noise Reduction Detail | 50 |
Color Noise Reduction Smoothness | 50 |
Color Temperature | 5150 |
Compatible Version | 234881024 |
Contrast 2012 | +7 |
Crop Angle | 0 |
Crop Bottom | 0.752349 |
Crop Constrain To Warp | 0 |
Crop Left | 0.029315 |
Crop Right | 1 |
Crop Top | 0 |
Date Created | 2022:05:07 10:35:36.950+02:00 |
Defringe Green Amount | 0 |
Defringe Green Hue Hi | 60 |
Defringe Green Hue Lo | 40 |
Defringe Purple Amount | 0 |
Defringe Purple Hue Hi | 70 |
Defringe Purple Hue Lo | 30 |
Dehaze | 0 |
Exposure 2012 | +0.25 |
Exposure Compensation | 0 |
Exposure Mode | Auto |
Field Of View | 108.3 deg |
Focal Length In 35mm Format | 13 mm |
Format | image/tiff |
Grain Amount | 0 |
Green Hue | 0 |
Green Saturation | 0 |
Has Crop | True |
Has Settings | True |
Highlights 2012 | -8 |
Hue Adjustment Aqua | 0 |
Hue Adjustment Blue | 0 |
Hue Adjustment Green | 0 |
Hue Adjustment Magenta | 0 |
Hue Adjustment Orange | 0 |
Hue Adjustment Purple | 0 |
Hue Adjustment Red | 0 |
Hue Adjustment Yellow | 0 |
Hyperfocal Distance | 0.38 m |
ISO | 32 |
Image Height | 2275 |
Image Size | 3914x2275 |
Image Width | 3914 |
Lens | iPhone 13 Pro Max back triple camera 1.57mm f/1.8 |
Lens Info | 1.570000052-9mm f/1.5-2.799999952 |
Lens Make | Apple |
Lens Manual Distortion Amount | 0 |
Lens Model | iPhone 13 Pro Max back triple camera 1.57mm f/1.8 |
Lens Profile Enable | 0 |
Light Value | 14.8 |
Look Amount | 1 |
Look Group | Profiles |
Look Name | Apple ProRaw |
Look Parameters Camera Profile | Apple Embedded Color Profile |
Look Parameters Convert To Grayscale | False |
Look Parameters Process Version | 11.0 |
Look Parameters Profile Gain Table Map | 100 |
Look Parameters Version | 14.3 |
Look Supports Monochrome | false |
Look Supports Output Referred | false |
Luminance Adjustment Aqua | 0 |
Luminance Adjustment Blue | 0 |
Luminance Adjustment Green | 0 |
Luminance Adjustment Magenta | 0 |
Luminance Adjustment Orange | 0 |
Luminance Adjustment Purple | 0 |
Luminance Adjustment Red | 0 |
Luminance Adjustment Yellow | 0 |
Luminance Smoothing | 0 |
Metering Mode | Multi-segment |
Override Look Vignette | False |
Parametric Darks | 0 |
Parametric Highlight Split | 75 |
Parametric Highlights | 0 |
Parametric Lights | 0 |
Parametric Midtone Split | 50 |
Parametric Shadow Split | 25 |
Parametric Shadows | 0 |
Perspective Aspect | 0 |
Perspective Horizontal | 0 |
Perspective Rotate | 0.0 |
Perspective Scale | 100 |
Perspective Upright | 0 |
Perspective Vertical | 0 |
Perspective X | 0.00 |
Perspective Y | 0.00 |
Photometric Interpretation | RGB |
Planar Configuration | Chunky |
Post Crop Vignette Amount | 0 |
Process Version | 11.0 |
Red Hue | 0 |
Red Saturation | 0 |
Rows Per Strip | 2275 |
Samples Per Pixel | 3 |
Saturation | +8 |
Saturation Adjustment Aqua | 0 |
Saturation Adjustment Blue | 0 |
Saturation Adjustment Green | 0 |
Saturation Adjustment Magenta | 0 |
Saturation Adjustment Orange | 0 |
Saturation Adjustment Purple | 0 |
Saturation Adjustment Red | 0 |
Saturation Adjustment Yellow | 0 |
Scale Factor To 35 mm Equivalent | 8.3 |
Scene Type | Directly photographed |
Sensing Method | One-chip color area |
Shadow Tint | 0 |
Shadows 2012 | +26 |
Sharpen Detail | 25 |
Sharpen Edge Masking | 0 |
Sharpen Radius | +1.4 |
Sharpness | 50 |
Split Toning Balance | 0 |
Split Toning Highlight Hue | 0 |
Split Toning Highlight Saturation | 0 |
Split Toning Shadow Hue | 0 |
Split Toning Shadow Saturation | 0 |
Strip Byte Counts | 114432 |
Strip Offsets | 26735520 |
Subfile Type | Reduced-resolution image |
Subject Area | 2017 1512 2323 1330 |
Texture | 0 |
Tint | +9 |
Tone Curve Name 2012 | Linear |
Tone Curve PV2012 | 0, 0, 255, 255 |
Tone Curve PV2012 Blue | 0, 0, 255, 255 |
Tone Curve PV2012 Green | 0, 0, 255, 255 |
Tone Curve PV2012 Red | 0, 0, 255, 255 |
Version | 14.3 |
Vibrance | +20 |
Vignette Amount | 0 |
White Balance | As Shot |
Whites 2012 | +42 |
GPS Information |
GPS Altitude | 6.1 m |
GPS Dest Bearing | 79.1748352 |
GPS Dest Bearing Ref | Magnetic North |
GPS Img Direction | 79.17 |
GPS Latitude | 53 deg 37' 45.68" N |
GPS Latitude Ref | North |
GPS Longitude | 9 deg 31' 35.93" E |
GPS Longitude Ref | East |
GPS Position | 53 deg 37' 45.68" N, 9 deg 31' 35.93" E |
GPS Speed | 0.02731527747 |
GPS Speed Ref | km/h |
GPS Version ID | 2.2.0.0 |